Workbook

Sheet מבוא
B3: ה מ ו ס ד ל ב י ט ו ח ל א ו מ י
B5: קרנות הביטוח הלאומי
B6: קרן סיעוד
B8: תקן הצטיידות למרכזי יום - ספטמבר 2026
B10: הקדמה: תקן ההצטיידות הינו כלי עזר לצורך הגשת בקשה להצטיידות במסגרת קול קורא של קרנות הסיעוד. תקן ההצטיידות חושב על-פי הכמות המירבית המבוססת על פרוגרמה מעודכנת ואישור הפעלה של "משרד הרווחה והביטחון החברתי". כמות החורגת מהתקן יש לנמק בהערות. הציוד צריך להיות ממוגן ובטיחותי. התקן נכתב "בלשון זכר" ובכל מקום שנכתב בלשון זכר הכוונה היא גם ללשון נקבה. מחירי הפריטים השונים הינם בש"ח וכוללים מע"מ.
D18: הגדרת גודל מרכזי יום
C19: הגדרת גודל מרכז יום נועד רק לצורך בניית תקן ההצטיידות
D20: קטן | F20: בינוני | H20: גדול
D21: עד - 40 | F21: 41 - 80 | H21: 81 - 120
D22: מקבלי שירות
D24: הערה: כמות מקבלי השירות נגזרת מהשאלון
B26: דגשים:
B27: • יש לתת עדיפות לרכישת ציוד המיוצר בארץ לעומת ספקים המייבאים את הציוד שלהם מחו"ל.
B28: • הציוד יירכש מחברות שלהן תו תקן ישראלי. כאשר מדובר בפריט ציוד שמיובא מחו"ל יהיה בעל תקן מקביל לתקן הישראלי בהתאם להנחיות מכון התקנים.
B29: • יש לדרוש מהספקים תקופת אחריות מורחבת, ככל שניתן, ולוודא קיומם של שירותי אחזקה ותיקונים.
B30: • המטבח המופיע בתקן הינו מטבח מחמם.
B31: • הציוד אינו כולל חומרים מתכלים.
B32: • באחריות המרכז לבדוק באילו פריטים יש צורך בהדרכה ו/או אישור הפעלה ו/או איש מקצוע מהתחום (לדוגמא: ציוד פיזיותרפיה, דפיברילטור) ולדאוג לכך.
B33: • במידה ופריט או ציוד מסוים אינם מופיעים בתקן ניתן להוסיפם בגיליון ציוד ייעודי.
B34: ".הגשת בקשה להצטיידות לפי תקן והסיוע הכספי יינתן בהתאם למדיניות הקרן ולהנחיות הקול הקורא"

Sheet שאלון
B2: חובה למלא את כל השדות בשאלון! | C2: =IF(COUNTBLANK(C5:C24)>0,"חסרים שדות חובה בשאלון!","כל השדות מולאו") -> חסרים שדות חובה בשאלון!
B4: שאלון פרטים - חובה למלא!
B5: תאריך הגשת הבקשה: | D5: =IF(C5="","יש למלא","") -> יש למלא
B6: פרטי המבקש ומרכז היום: | C6: ק
B7: שם הארגון המבקש: | D7: =IF(C7="","יש למלא","") -> יש למלא
B8: ח"פ/ע"ר של הארגון המבקש: | D8: =IF(C8="","יש למלא","") -> יש למלא
B9: כתובת הארגון המבקש: | D9: =IF(C9="","יש למלא","") -> יש למלא
B10: שם מרכז היום: | D10: =IF(C10="","יש למלא","") -> יש למלא
B11: כתובת מרכז היום: | D11: =IF(C11="","יש למלא","") -> יש למלא
B12: סה"כ מקבלי שירות על פי אישור הפעלה. | C12: ק
B13: תשושים | D13: =IF(C13="","יש למלא","") -> יש למלא
B14: תשושי נפש | D14: =IF(C14="","יש למלא","") -> יש למלא
B15: סה"כ מקבלי שירות: | C15: =SUM(C13:C14) -> 0 | D15: אין למלא, נוסחא
B16: פרטי איש קשר | C16: ק
B17: שם איש קשר: | D17: =IF(C17="","יש למלא","") -> יש למלא
B18: תפקיד: | D18: =IF(C18="","יש למלא","") -> יש למלא
B19: אימייל איש קשר: | D19: =IF(C19="","יש למלא","") -> יש למלא
B20: טלפון איש קשר: | D20: =IF(C20="","יש למלא","") -> יש למלא
B21: פרטים נוספים | C21: ק
B22: דירוג כלכלי חברתי (סוציואקונומי): | D22: =IF(C22="","יש למלא","") -> יש למלא
B23: קו עימות: | D23: =IF(C23="","יש למלא","") -> יש למלא
B24: סכום מקסימלי בש"ח להשתתפות ביטוח לאומי על פי הקול קורא: | D24: =IF(C24="","יש למלא","") -> יש למלא

Sheet טבלת תקן
B5: טבלת תקן הצטיידות מרכז יום ( בש"ח כולל מע"מ) | H5: טבלה זו תהיה מוסתרת ולא לשימוש הארגון המבקש
B7: סה"כ מקבלי שירות עפ"י אישור הפעלה | E7: =שאלון!C15 -> 0
I9: מ 0 עד 40 | J9: מ 41 עד 80 | K9: מ 81 עד 120
B10: סוג פריט | C10: מיקום | D10: תיאור הפריט | E10: כמות | F10: עלות פריט | G10: סהכ עלות | H10: לפי מקבל שירות | I10: קטן | J10: בינוני | K10: גדול | L10: הערות | M10: הסבר לנוסחא
B11: אביזרים | C11: חדרי פעילות/תעסוקה | D11: ציוד אישי למשתתף ( סלסלות, כלים ועוד) סכום גלובלי | E11: =ROUNDUP(שאלון!$C$15,0) -> 0 | F11: 100 | G11: =תקן[[#This Row],[עלות פריט]]*תקן[[#This Row],[כמות]] -> 0 | H11: TRUE | M11: כמות מקבלי שירות
B12: אביזרים | C12: חדרי צוות/רב תחומי | D12: ציוד לחדר צוות רב תחומי - אחות ( מד חום, מד לחץ, דופק, סטורציה, ארון עזרה ראשונה, אפיפן ועוד) סכום גלובלי | E12: =IF(שאלון!$C$15>80,K12,IF(שאלון!$C$15>=41,J12,IF(שאלון!$C$15>=0,I12,""))) -> 1 | F12: 3000 | G12: =תקן[[#This Row],[עלות פריט]]*תקן[[#This Row],[כמות]] -> 3000 | H12: FALSE | I12: 1 | J12: 1 | K12: 1 | M12: אחיד לכל גודל
B13: אביזרים | C13: כללי | D13: ארגז כלים | E13: =IF(שאלון!$C$15>80,K13,IF(שאלון!$C$15>=41,J13,IF(שאלון!$C$15>=0,I13,""))) -> 1 | F13: 2500 | G13: =תקן[[#This Row],[עלות פריט]]*תקן[[#This Row],[כמות]] -> 2500 | H13: FALSE | I13: 1 | J13: 1 | K13: 1 | M13: אחיד לכל גודל
B14: אביזרים | C14: כללי | D14: מזוזות | E14: =IF(שאלון!$C$15>80,K14,IF(שאלון!$C$15>=41,J14,IF(שאלון!$C$15>=0,I14,""))) -> 6 | F14: 250 | G14: =תקן[[#This Row],[עלות פריט]]*תקן[[#This Row],[כמות]] -> 1500 | H14: FALSE | I14: 6 | J14: 10 | K14: 15 | M14: לפי גודל מרכז
B15: אביזרים | C15: כללי | D15: ערכה לשיפור בטיחות (מעקות, מאחזי בטיחות, לחצן מצוקה עם צופר, פסים למניעת החלקה ועוד). | E15: =IF(שאלון!$C$15>80,K15,IF(שאלון!$C$15>=41,J15,IF(שאלון!$C$15>=0,I15,""))) -> 1 | F15: 3000 | G15: =תקן[[#This Row],[עלות פריט]]*תקן[[#This Row],[כמות]] -> 3000 | H15: FALSE | I15: 1 | J15: 2 | K15: 3 | M15: לפי גודל מרכז
B16: אביזרים | C16: כללי | D16: פריטי עיצוב | E16: =IF(שאלון!$C$15>80,K16,IF(שאלון!$C$15>=41,J16,IF(שאלון!$C$15>=0,I16,""))) -> 1 | F16: 2000 | G16: =תקן[[#This Row],[עלות פריט]]*תקן[[#This Row],[כמות]] -> 2000 | H16: FALSE | I16: 1 | J16: 2 | K16: 3 | M16: לפי גודל מרכז
B17: אביזרים | C17: כללי | D17: שילוט חיצוני | E17: =IF(שאלון!$C$15>80,K17,IF(שאלון!$C$15>=41,J17,IF(שאלון!$C$15>=0,I17,""))) -> 1 | F17: 5000 | G17: =תקן[[#This Row],[עלות פריט]]*תקן[[#This Row],[כמות]] -> 5000 | H17: FALSE | I17: 1 | J17: 2 | K17: 3 | M17: לפי גודל מרכז
B18: אביזרים | C18: כללי | D18: שילוט לחדרים | E18: =IF(שאלון!$C$15>80,K18,IF(שאלון!$C$15>=41,J18,IF(שאלון!$C$15>=0,I18,""))) -> 6 | F18: 300 | G18: =תקן[[#This Row],[עלות פריט]]*תקן[[#This Row],[כמות]] -> 1800 | H18: FALSE | I18: 6 | J18: 10 | K18: 15 | M18: לפי גודל מרכז
B19: אביזרים | C19: כללי | D19: שעון נוכחות | E19: =IF(שאלון!$C$15>80,K19,IF(שאלון!$C$15>=41,J19,IF(שאלון!$C$15>=0,I19,""))) -> 1 | F19: 1500 | G19: =תקן[[#This Row],[עלות פריט]]*תקן[[#This Row],[כמות]] -> 1500 | H19: FALSE | I19: 1 | J19: 1 | K19: 1 | M19: אחיד לכל גודל
B20: אביזרים | C20: כללי | D20: אביזרים (פריטי עיצוב, תמונות, לוחות מודעות, פחים ועוד) תקציב גלובלי | E20: =IF(שאלון!$C$15>80,K20,IF(שאלון!$C$15>=41,J20,IF(שאלון!$C$15>=0,I20,""))) -> 3 | F20: 5000 | G20: =תקן[[#This Row],[עלות פריט]]*תקן[[#This Row],[כמות]] -> 15000 | H20: FALSE | I20: 3 | J20: 4 | K20: 5 | M20: לפי גודל מרכז
B21: אביזרים | C21: שירותים | D21: סכום גלובלי (ארון איחסון, מראת קיר, כיסא שירותים ורחיצה תקני, ספסל הלבשה, דיספנסרים, מתקני מגבות, ידיות אחיזה ועוד). | E21: =IF(שאלון!$C$15>80,K21,IF(שאלון!$C$15>=41,J21,IF(שאלון!$C$15>=0,I21,""))) -> 1 | F21: 3500 | G21: =תקן[[#This Row],[עלות פריט]]*תקן[[#This Row],[כמות]] -> 3500 | H21: FALSE | I21: 1 | J21: 2 | K21: 3 | M21: לפי גודל מרכז
B22: טיפוח חן | C22: חדר טיפוח חן/מספרה | D22: סכום גלובלי (ארון תחתון+כיור+ברז, דלפק עבודה, כיסא טיפולים, כיסא מספרה, כיסא פעילות/משרד, כיסא+כיור חפיפה, מייבש שיער מקצועי, מכונת ייבוש, מכונת תספורת, מנורה מתכווננת, מראה, מתלה נייד למגבות, סטרליזטור, עגלת טיפולים). | E22: =IF(שאלון!$C$15>80,K22,IF(שאלון!$C$15>=41,J22,IF(שאלון!$C$15>=0,I22,""))) -> 2 | F22: 4000 | G22: =תקן[[#This Row],[עלות פריט]]*תקן[[#This Row],[כמות]] -> 8000 | H22: FALSE | I22: 2 | J22: 3 | K22: 4 | M22: לפי גודל מרכז
B23: כלי חשמל | C23: חדר אוכל | D23: מתקן/ בר מים | E23: =IF(שאלון!$C$15>80,K23,IF(שאלון!$C$15>=41,J23,IF(שאלון!$C$15>=0,I23,""))) -> 1 | F23: 4000 | G23: =תקן[[#This Row],[עלות פריט]]*תקן[[#This Row],[כמות]] -> 4000 | H23: FALSE | I23: 1 | J23: 1 | K23: 1 | M23: אחיד לכל גודל
... B40: כללי | C40: מטבח | D40: מרכך מים מוסדי אוטומטי | E40: =IF(שאלון!$C$15>80,K40,IF(שאלון!$C$15>=41,J40,IF(שאלון!$C$15>=0,I40,""))) -> 1 | F40: 6000 | G40: =תקן[[#This Row],[עלות פריט]]*תקן[[#This Row],[כמות]] -> 6000 | H40: FALSE | I40: 1 | J40: 1 | K40: 2 | M40: לפי גודל מרכז
B41: חדר אוכל | C41: חדר אוכל | D41: סט כלי אוכל לסועד | E41: =ROUNDUP(שאלון!$C$15*1.15,0) -> 0 | F41: 300 | G41: =תקן[[#This Row],[עלות פריט]]*תקן[[#This Row],[כמות]] -> 0 | H41: TRUE | M41: כמות מקבלי שירות בתוספת 15% לצוות
B42: חדר אוכל | C42: חדר אוכל | D42: סט לשולחן אוכל (מפות,מרקיה, סלסלת לחם, סט מלח ועוד) תקציב גלובלי | E42: =ROUNDUP(שאלון!$C$15*1.15/4,0) -> 0 | F42: 400 | G42: =תקן[[#This Row],[עלות פריט]]*תקן[[#This Row],[כמות]] -> 0 | H42: TRUE | M42: כמות מקבלי שירות לחלק ל 4 בתוספת 15% לצוות
B43: מיחשוב | C43: חדר מזכירות וקבלה | D43: מגרסת נייר משרדית + מדפסת משולבת | E43: =IF(שאלון!$C$15>80,K43,IF(שאלון!$C$15>=41,J43,IF(שאלון!$C$15>=0,I43,""))) -> 1 | F43: 2000 | G43: =תקן[[#This Row],[עלות פריט]]*תקן[[#This Row],[כמות]] -> 2000 | H43: FALSE | I43: 1 | J43: 1 | K43: 1 | M43: אחיד לכל גודל
B44: מיחשוב | C44: חדר מזכירות וקבלה | D44: מחשב קומפלט | E44: =IF(שאלון!$C$15>80,K44,IF(שאלון!$C$15>=41,J44,IF(שאלון!$C$15>=0,I44,""))) -> 1 | F44: 5000 | G44: =תקן[[#This Row],[עלות פריט]]*תקן[[#This Row],[כמות]] -> 5000 | H44: FALSE | I44: 1 | J44: 1 | K44: 1 | M44: אחיד לכל גודל
B45: מיחשוב | C45: חדר מחשבים | D45: מדפסת משולבת | E45: =IF(שאלון!$C$15>80,K45,IF(שאלון!$C$15>=41,J45,IF(שאלון!$C$15>=0,I45,""))) -> 1 | F45: 1500 | G45: =תקן[[#This Row],[עלות פריט]]*תקן[[#This Row],[כמות]] -> 1500 | H45: FALSE | I45: 1 | J45: 1 | K45: 1 | M45: אחיד לכל גודל
B46: מיחשוב | C46: חדר מחשבים | D46: מחשב קומפלט | E46: =IF(שאלון!$C$15>80,K46,IF(שאלון!$C$15>=41,J46,IF(שאלון!$C$15>=0,I46,""))) -> 2 | F46: 5000 | G46: =תקן[[#This Row],[עלות פריט]]*תקן[[#This Row],[כמות]] -> 10000 | H46: FALSE | I46: 2 | J46: 3 | K46: 4 | M46: לפי גודל מרכז
B47: מיחשוב | C47: חדר מנהל | D47: מחשב קומפלט | E47: =IF(שאלון!$C$15>80,K47,IF(שאלון!$C$15>=41,J47,IF(שאלון!$C$15>=0,I47,""))) -> 1 | F47: 5000 | G47: =תקן[[#This Row],[עלות פריט]]*תקן[[#This Row],[כמות]] -> 5000 | H47: FALSE | I47: 1 | J47: 1 | K47: 1 | M47: אחיד לכל גודל
B48: מיחשוב | C48: חדרי צוות/רב תחומי | D48: מחשב קומפלט | E48: =IF(שאלון!$C$15>80,K48,IF(שאלון!$C$15>=41,J48,IF(שאלון!$C$15>=0,I48,""))) -> 1 | F48: 5000 | G48: =תקן[[#This Row],[עלות פריט]]*תקן[[#This Row],[כמות]] -> 5000 | H48: FALSE | I48: 1 | J48: 2 | K48: 3 | M48: לפי גודל מרכז
B49: ציוד אלקטרוני | C49: כללי | D49: טלוויזיות (כולל הובלה והתקנה) סכום גלובלי | E49: =IF(שאלון!$C$15>80,K49,IF(שאלון!$C$15>=41,J49,IF(שאלון!$C$15>=0,I49,""))) -> 2 | F49: 5000 | G49: =תקן[[#This Row],[עלות פריט]]*תקן[[#This Row],[כמות]] -> 10000 | H49: FALSE | I49: 2 | J49: 4 | K49: 6 | M49: לפי גודל מרכז
B50: ציוד אלקטרוני | C50: כללי | D50: דפיברלטור | E50: =IF(שאלון!$C$15>80,K50,IF(שאלון!$C$15>=41,J50,IF(שאלון!$C$15>=0,I50,""))) -> 1 | F50: 5000 | G50: =תקן[[#This Row],[עלות פריט]]*תקן[[#This Row],[כמות]] -> 5000 | H50: FALSE | I50: 1 | J50: 1 | K50: 1 | M50: אחיד לכל גודל
B51: ציוד אלקטרוני | C51: ציוד אלקטרוני | D51: מגדיל טווח WIFI | E51: =IF(שאלון!$C$15>80,K51,IF(שאלון!$C$15>=41,J51,IF(שאלון!$C$15>=0,I51,""))) -> 1 | F51: 1500 | G51: =תקן[[#This Row],[עלות פריט]]*תקן[[#This Row],[כמות]] -> 1500 | H51: FALSE | I51: 1 | J51: 2 | K51: 3 | M51: לפי גודל מרכז
B52: ציוד אלקטרוני | C52: ציוד אלקטרוני | D52: מערכת אזעקה ומצלמות | E52: =IF(שאלון!$C$15>80,K52,IF(שאלון!$C$15>=41,J52,IF(שאלון!$C$15>=0,I52,""))) -> 1 | F52: 20000 | G52: =תקן[[#This Row],[עלות פריט]]*תקן[[#This Row],[כמות]] -> 20000 | H52: FALSE | I52: 1 | J52: 2 | K52: 2 | M52: לפי גודל מרכז
B53: ציוד אלקטרוני | C53: ציוד אלקטרוני | D53: מערכת כריזת חירום | E53: =IF(שאלון!$C$15>80,K53,IF(שאלון!$C$15>=41,J53,IF(שאלון!$C$15>=0,I53,""))) -> 1 | F53: 15000 | G53: =תקן[[#This Row],[עלות פריט]]*תקן[[#This Row],[כמות]] -> 15000 | H53: FALSE | I53: 1 | J53: 2 | K53: 2 | M53: לפי גודל מרכז
B54: ריהוט | C54: חדר אוכל | D54: כיסא אוכל | E54: =ROUNDUP(שאלון!$C$15*1.15,0) -> 0 | F54: 800 | G54: =תקן[[#This Row],[עלות פריט]]*תקן[[#This Row],[כמות]] -> 0 | H54: TRUE | M54: כמות מקבלי שירות בתוספת 15% לצוות
B55: ריהוט | C55: חדר אוכל | D55: שולחן אוכל (4 מקומות) | E55: =ROUNDUP(שאלון!$C$15*1.15/4,0) -> 0 | F55: 3500 | G55: =תקן[[#This Row],[עלות פריט]]*תקן[[#This Row],[כמות]] -> 0 | H55: TRUE | M55: כמות מקבלי שירות לחלק ל 4 בתוספת 15% לצוות
B56: ריהוט | C56: חדר מזכירות וקבלה | D56: ארון איחסון | E56: =IF(שאלון!$C$15>80,K56,IF(שאלון!$C$15>=41,J56,IF(שאלון!$C$15>=0,I56,""))) -> 1 | F56: 4500 | G56: =תקן[[#This Row],[עלות פריט]]*תקן[[#This Row],[כמות]] -> 4500 | H56: FALSE | I56: 1 | J56: 1 | K56: 1 | M56: אחיד לכל גודל
B57: ריהוט | C57: חדר מזכירות וקבלה | D57: דלפק קבלה | E57: =IF(שאלון!$C$15>80,K57,IF(שאלון!$C$15>=41,J57,IF(שאלון!$C$15>=0,I57,""))) -> 1 | F57: 15000 | G57: =תקן[[#This Row],[עלות פריט]]*תקן[[#This Row],[כמות]] -> 15000 | H57: FALSE | I57: 1 | J57: 1 | K57: 1 | M57: אחיד לכל גודל
B58: ריהוט | C58: חדר מזכירות וקבלה | D58: כיסא פעילות/משרד | E58: =IF(שאלון!$C$15>80,K58,IF(שאלון!$C$15>=41,J58,IF(שאלון!$C$15>=0,I58,""))) -> 1 | F58: 600 | G58: =תקן[[#This Row],[עלות פריט]]*תקן[[#This Row],[כמות]] -> 600 | H58: FALSE | I58: 1 | J58: 2 | K58: 2 | M58: לפי גודל מרכז
B59: ריהוט | C59: חדר מחשבים | D59: ארון איחסון | E59: =IF(שאלון!$C$15>80,K59,IF(שאלון!$C$15>=41,J59,IF(שאלון!$C$15>=0,I59,""))) -> 1 | F59: 4500 | G59: =תקן[[#This Row],[עלות פריט]]*תקן[[#This Row],[כמות]] -> 4500 | H59: FALSE | I59: 1 | J59: 1 | K59: 1 | M59: אחיד לכל גודל
B60: ריהוט | C60: חדר מחשבים | D60: כיסא פעילות/משרד | E60: =IF(שאלון!$C$15>80,K60,IF(שאלון!$C$15>=41,J60,IF(שאלון!$C$15>=0,I60,""))) -> 3 | F60: 600 | G60: =תקן[[#This Row],[עלות פריט]]*תקן[[#This Row],[כמות]] -> 1800 | H60: FALSE | I60: 3 | J60: 4 | K60: 5 | M60: לפי גודל מרכז
B61: ריהוט | C61: חדר מחשבים | D61: שולחן מחשב | E61: =IF(שאלון!$C$15>80,K61,IF(שאלון!$C$15>=41,J61,IF(שאלון!$C$15>=0,I61,""))) -> 1 | F61: 1200 | G61: =תקן[[#This Row],[עלות פריט]]*תקן[[#This Row],[כמות]] -> 1200 | H61: FALSE | I61: 1 | J61: 2 | K61: 3 | M61: לפי גודל מרכז
B62: ריהוט | C62: חדר מנהל | D62: ארון איחסון | E62: =IF(שאלון!$C$15>80,K62,IF(שאלון!$C$15>=41,J62,IF(שאלון!$C$15>=0,I62,""))) -> 1 | F62: 4500 | G62: =תקן[[#This Row],[עלות פריט]]*תקן[[#This Row],[כמות]] -> 4500 | H62: FALSE | I62: 1 | J62: 1 | K62: 1 | M62: אחיד לכל גודל
B63: ריהוט | C63: חדר מנהל | D63: כיסא משרדי מתכוונן | E63: =IF(שאלון!$C$15>80,K63,IF(שאלון!$C$15>=41,J63,IF(שאלון!$C$15>=0,I63,""))) -> 1 | F63: 1000 | G63: =תקן[[#This Row],[עלות פריט]]*תקן[[#This Row],[כמות]] -> 1000 | H63: FALSE | I63: 1 | J63: 1 | K63: 1 | M63: אחיד לכל גודל
B64: ריהוט | C64: חדר מנהל | D64: כיסא פעילות/משרד | E64: =IF(שאלון!$C$15>80,K64,IF(שאלון!$C$15>=41,J64,IF(שאלון!$C$15>=0,I64,""))) -> 1 | F64: 600 | G64: =תקן[[#This Row],[עלות פריט]]*תקן[[#This Row],[כמות]] -> 600 | H64: FALSE | I64: 1 | J64: 2 | K64: 2 | M64: לפי גודל מרכז
B65: ריהוט | C65: חדר מנהל | D65: שולחן משרדי | E65: =IF(שאלון!$C$15>80,K65,IF(שאלון!$C$15>=41,J65,IF(שאלון!$C$15>=0,I65,""))) -> 1 | F65: 2500 | G65: =תקן[[#This Row],[עלות פריט]]*תקן[[#This Row],[כמות]] -> 2500 | H65: FALSE | I65: 1 | J65: 1 | K65: 1 | M65: אחיד לכל גודל
B66: ריהוט | C66: חדר מנוחה | D66: כורסת מנוחה | E66: =IF(שאלון!$C$15>80,K66,IF(שאלון!$C$15>=41,J66,IF(שאלון!$C$15>=0,I66,""))) -> 1 | F66: 3500 | G66: =תקן[[#This Row],[עלות פריט]]*תקן[[#This Row],[כמות]] -> 3500 | H66: FALSE | I66: 1 | J66: 2 | K66: 2 | M66: לפי גודל מרכז
B67: ריהוט | C67: חדר מנוחה | D67: כורסת מנוחה חשמלית | E67: =IF(שאלון!$C$15>80,K67,IF(שאלון!$C$15>=41,J67,IF(שאלון!$C$15>=0,I67,""))) -> 1 | F67: 5000 | G67: =תקן[[#This Row],[עלות פריט]]*תקן[[#This Row],[כמות]] -> 5000 | H67: FALSE | I67: 1 | J67: 2 | K67: 2 | M67: לפי גודל מרכז
... B72: ריהוט | C72: חדרי פעילות/תעסוקה | D72: ארון תצוגה | E72: =IF(שאלון!$C$15>80,K72,IF(שאלון!$C$15>=41,J72,IF(שאלון!$C$15>=0,I72,""))) -> 1 | F72: 6500 | G72: =תקן[[#This Row],[עלות פריט]]*תקן[[#This Row],[כמות]] -> 6500 | H72: FALSE | I72: 1 | J72: 1 | K72: 2 | M72: לפי גודל מרכז
B73: ריהוט | C73: חדרי פעילות/תעסוקה | D73: כיסא פעילות/משרד | E73: =ROUNDUP(שאלון!$C$15*1.15,0) -> 0 | F73: 600 | G73: =תקן[[#This Row],[עלות פריט]]*תקן[[#This Row],[כמות]] -> 0 | H73: TRUE | M73: כמות מקבלי שירות בתוספת 15% לצוות
B74: ריהוט | C74: חדרי פעילות/תעסוקה | D74: שולחן פעילות 6 מקומות | E74: =ROUNDUP(שאלון!$C$15*1.15/6,0) -> 0 | F74: 3500 | G74: =תקן[[#This Row],[עלות פריט]]*תקן[[#This Row],[כמות]] -> 0 | H74: TRUE | M74: כמות מקבלי שירות לחלק ל 6 בתוספת 15% לצוות
B75: ריהוט | C75: חדרי צוות/רב תחומי | D75: ארון איחסון | E75: =IF(שאלון!$C$15>80,K75,IF(שאלון!$C$15>=41,J75,IF(שאלון!$C$15>=0,I75,""))) -> 1 | F75: 4500 | G75: =תקן[[#This Row],[עלות פריט]]*תקן[[#This Row],[כמות]] -> 4500 | H75: FALSE | I75: 1 | J75: 2 | K75: 2 | M75: לפי גודל מרכז
B76: ריהוט | C76: חדרי צוות/רב תחומי | D76: ארון תחתון+כיור+ברז+משטח | E76: =IF(שאלון!$C$15>80,K76,IF(שאלון!$C$15>=41,J76,IF(שאלון!$C$15>=0,I76,""))) -> 1 | F76: 2500 | G76: =תקן[[#This Row],[עלות פריט]]*תקן[[#This Row],[כמות]] -> 2500 | H76: FALSE | I76: 1 | J76: 1 | K76: 1 | M76: אחיד לכל גודל
B77: ריהוט | C77: חדרי צוות/רב תחומי | D77: מיטה חשמלית | E77: =IF(שאלון!$C$15>80,K77,IF(שאלון!$C$15>=41,J77,IF(שאלון!$C$15>=0,I77,""))) -> 1 | F77: 6000 | G77: =תקן[[#This Row],[עלות פריט]]*תקן[[#This Row],[כמות]] -> 6000 | H77: FALSE | I77: 1 | J77: 1 | K77: 1 | M77: אחיד לכל גודל
B78: ריהוט | C78: חדרי צוות/רב תחומי | D78: פרגוד אחות 3 כנפיים | E78: =IF(שאלון!$C$15>80,K78,IF(שאלון!$C$15>=41,J78,IF(שאלון!$C$15>=0,I78,""))) -> 1 | F78: 1000 | G78: =תקן[[#This Row],[עלות פריט]]*תקן[[#This Row],[כמות]] -> 1000 | H78: FALSE | I78: 1 | J78: 1 | K78: 1 | M78: אחיד לכל גודל
B79: ריהוט | C79: חדרי צוות/רב תחומי | D79: שולחן משרדי | E79: =IF(שאלון!$C$15>80,K79,IF(שאלון!$C$15>=41,J79,IF(שאלון!$C$15>=0,I79,""))) -> 1 | F79: 2500 | G79: =תקן[[#This Row],[עלות פריט]]*תקן[[#This Row],[כמות]] -> 2500 | H79: FALSE | I79: 1 | J79: 2 | K79: 3 | M79: לפי גודל מרכז
B80: ריהוט | C80: חדרי צוות/רב תחומי | D80: כיסא משרדי מתכוונן | E80: =IF(שאלון!$C$15>80,K80,IF(שאלון!$C$15>=41,J80,IF(שאלון!$C$15>=0,I80,""))) -> 1 | F80: 1000 | G80: =תקן[[#This Row],[עלות פריט]]*תקן[[#This Row],[כמות]] -> 1000 | H80: FALSE | I80: 1 | J80: 2 | K80: 3 | M80: לפי גודל מרכז
B81: ריהוט | C81: חצר | D81: פינת ישיבה לחצר | E81: =IF(שאלון!$C$15>80,K81,IF(שאלון!$C$15>=41,J81,IF(שאלון!$C$15>=0,I81,""))) -> 1 | F81: 5000 | G81: =תקן[[#This Row],[עלות פריט]]*תקן[[#This Row],[כמות]] -> 5000 | H81: FALSE | I81: 1 | J81: 2 | K81: 2 | M81: לפי גודל מרכז
B82: ריהוט | C82: חצר | D82: שמשיית גן מסיבית כולל בסיס | E82: =IF(שאלון!$C$15>80,K82,IF(שאלון!$C$15>=41,J82,IF(שאלון!$C$15>=0,I82,""))) -> 1 | F82: 5000 | G82: =תקן[[#This Row],[עלות פריט]]*תקן[[#This Row],[כמות]] -> 5000 | H82: FALSE | I82: 1 | J82: 2 | K82: 2 | M82: לפי גודל מרכז
B83: ריהוט | C83: כללי | D83: ארון איחסון | E83: =IF(שאלון!$C$15>80,K83,IF(שאלון!$C$15>=41,J83,IF(שאלון!$C$15>=0,I83,""))) -> 1 | F83: 4500 | G83: =תקן[[#This Row],[עלות פריט]]*תקן[[#This Row],[כמות]] -> 4500 | H83: FALSE | I83: 1 | J83: 2 | K83: 3 | M83: לפי גודל מרכז
B84: ריהוט | C84: כללי | D84: וילונות הצללה כולל התקנה (עלות למ"ר) לא כולל וילונות לחדר האוכל | E84: =IF(שאלון!$C$15>80,K84,IF(שאלון!$C$15>=41,J84,IF(שאלון!$C$15>=0,I84,""))) -> 30 | F84: 500 | G84: =תקן[[#This Row],[עלות פריט]]*תקן[[#This Row],[כמות]] -> 15000 | H84: FALSE | I84: 30 | J84: 40 | K84: 50 | M84: לפי גודל מרכז
B85: ריהוט | C85: כללי | D85: יחידת מדפים | E85: =IF(שאלון!$C$15>80,K85,IF(שאלון!$C$15>=41,J85,IF(שאלון!$C$15>=0,I85,""))) -> 2 | F85: 1000 | G85: =תקן[[#This Row],[עלות פריט]]*תקן[[#This Row],[כמות]] -> 2000 | H85: FALSE | I85: 2 | J85: 4 | K85: 6 | M85: לפי גודל מרכז
B86: ריהוט | C86: כללי | D86: כיסא גלגלים | E86: =IF(שאלון!$C$15>80,K86,IF(שאלון!$C$15>=41,J86,IF(שאלון!$C$15>=0,I86,""))) -> 2 | F86: 1200 | G86: =תקן[[#This Row],[עלות פריט]]*תקן[[#This Row],[כמות]] -> 2400 | H86: FALSE | I86: 2 | J86: 2 | K86: 2 | M86: אחיד לכל גודל
... B97: ריהוט | C97: מכבסה | D97: ארון איחסון מפלסטיק | E97: =IF(שאלון!$C$15>80,K97,IF(שאלון!$C$15>=41,J97,IF(שאלון!$C$15>=0,I97,""))) -> 1 | F97: 1500 | G97: =תקן[[#This Row],[עלות פריט]]*תקן[[#This Row],[כמות]] -> 1500 | H97: FALSE | I97: 1 | J97: 1 | K97: 1 | M97: אחיד לכל גודל

Sheet ציוד כללי
B2: תקן ציוד כללי (המחירים בש"ח וכוללים מע"מ)
B3: הוכן בסיוע צבי רובינשטיין, יועץ לקרנות הביטוח הלאומי
B4: סה"כ מקבלי שירות עפ"י אישור הפעלה (מתוך השאלון) | G4: =שאלון!C15 -> 0
B5: המלצות הצטיידות ינתנו בשיתוף יועץ לקרנות הביטוח הלאומי.
B6: על המחירים לכלול מע"מ,הובלה והתקנה, במידת הצורך.
B7: יש לסמן את הבקשה בסעיף "בקשת הגוף" בעמודת "כמות מבוקשת". כאשר הכמות המבוקשת חורגת מהכמות שהוגדרה בתקן יש לפרט ב"הערות הגוף" את הנימוקים לחריגה.
B9: תקן ציוד כללי | I9: בקשת הגוף | N9: אישור הבקשה ע"י מנהלת תכניות/יועץ הקרן
B10: סוג פריט | C10: מיקום | D10: תיאור הפריט | E10: כמות | F10: עלות פריט | G10: סהכ עלות | I10: כמות מבוקשת | J10: תקציב מבוקש כולל מע"מ | K10: סטייה מהתקן | L10: הערות הגוף | N10: כמות מאושרת | O10: תקציב מאושר כולל מע"מ | P10: סטייה מהתקן | Q10: הערות
B11: =תקן[[#This Row],[סוג פריט]] -> אביזרים | C11: =תקן[[#This Row],[מיקום]] -> חדרי פעילות/תעסוקה | D11: =תקן[[#This Row],[תיאור הפריט]] -> ציוד אישי למשתתף ( סלסלות, כלים ועוד) סכום גלובלי | E11: =תקן[[#This Row],[כמות]] -> 0 | F11: =תקן[[#This Row],[עלות פריט]] -> 100 | G11: =תקן[[#This Row],[סהכ עלות]] -> 0 | J11: =I11*F11 -> 0 | K11: =IF(J11=0,"",IF(OR(J11-$G11>0,J11-$G11<0),(J11-$G11)/$G11,"")) | N11: =I11 -> 0 | O11: =N11*F11 -> 0 | P11: =IF(O11=0,"",IF(OR(O11-$G11>0,O11-$G11<0),(O11-$G11)/$G11,""))
B12: =תקן[[#This Row],[סוג פריט]] -> אביזרים | C12: =תקן[[#This Row],[מיקום]] -> חדרי צוות/רב תחומי | D12: =תקן[[#This Row],[תיאור הפריט]] -> ציוד לחדר צוות רב תחומי - אחות ( מד חום, מד לחץ, דופק, סטורציה, ארון עזרה ראשונה, אפיפן ועוד) סכום גלובלי | E12: =תקן[[#This Row],[כמות]] -> 1 | F12: =תקן[[#This Row],[עלות פריט]] -> 3000 | G12: =תקן[[#This Row],[סהכ עלות]] -> 3000 | J12: =I12*F12 -> 0 | K12: =IF(J12=0,"",IF(OR(J12-$G12>0,J12-$G12<0),(J12-$G12)/$G12,"")) | N12: =I12 -> 0 | O12: =N12*F12 -> 0 | P12: =IF(O12=0,"",IF(OR(O12-$G12>0,O12-$G12<0),(O12-$G12)/$G12,""))
B13: =תקן[[#This Row],[סוג פריט]] -> אביזרים | C13: =תקן[[#This Row],[מיקום]] -> כללי | D13: =תקן[[#This Row],[תיאור הפריט]] -> ארגז כלים | E13: =תקן[[#This Row],[כמות]] -> 1 | F13: =תקן[[#This Row],[עלות פריט]] -> 2500 | G13: =תקן[[#This Row],[סהכ עלות]] -> 2500 | J13: =I13*F13 -> 0 | K13: =IF(J13=0,"",IF(OR(J13-$G13>0,J13-$G13<0),(J13-$G13)/$G13,"")) | N13: =I13 -> 0 | O13: =N13*F13 -> 0 | P13: =IF(O13=0,"",IF(OR(O13-$G13>0,O13-$G13<0),(O13-$G13)/$G13,""))
B14: =תקן[[#This Row],[סוג פריט]] -> אביזרים | C14: =תקן[[#This Row],[מיקום]] -> כללי | D14: =תקן[[#This Row],[תיאור הפריט]] -> מזוזות | E14: =תקן[[#This Row],[כמות]] -> 6 | F14: =תקן[[#This Row],[עלות פריט]] -> 250 | G14: =תקן[[#This Row],[סהכ עלות]] -> 1500 | J14: =I14*F14 -> 0 | K14: =IF(J14=0,"",IF(OR(J14-$G14>0,J14-$G14<0),(J14-$G14)/$G14,"")) | N14: =I14 -> 0 | O14: =N14*F14 -> 0 | P14: =IF(O14=0,"",IF(OR(O14-$G14>0,O14-$G14<0),(O14-$G14)/$G14,""))
B15: =תקן[[#This Row],[סוג פריט]] -> אביזרים | C15: =תקן[[#This Row],[מיקום]] -> כללי | D15: =תקן[[#This Row],[תיאור הפריט]] -> ערכה לשיפור בטיחות (מעקות, מאחזי בטיחות, לחצן מצוקה עם צופר, פסים למניעת החלקה ועוד). | E15: =תקן[[#This Row],[כמות]] -> 1 | F15: =תקן[[#This Row],[עלות פריט]] -> 3000 | G15: =תקן[[#This Row],[סהכ עלות]] -> 3000 | J15: =I15*F15 -> 0 | K15: =IF(J15=0,"",IF(OR(J15-$G15>0,J15-$G15<0),(J15-$G15)/$G15,"")) | N15: =I15 -> 0 | O15: =N15*F15 -> 0 | P15: =IF(O15=0,"",IF(OR(O15-$G15>0,O15-$G15<0),(O15-$G15)/$G15,""))
B16: =תקן[[#This Row],[סוג פריט]] -> אביזרים | C16: =תקן[[#This Row],[מיקום]] -> כללי | D16: =תקן[[#This Row],[תיאור הפריט]] -> פריטי עיצוב | E16: =תקן[[#This Row],[כמות]] -> 1 | F16: =תקן[[#This Row],[עלות פריט]] -> 2000 | G16: =תקן[[#This Row],[סהכ עלות]] -> 2000 | J16: =I16*F16 -> 0 | K16: =IF(J16=0,"",IF(OR(J16-$G16>0,J16-$G16<0),(J16-$G16)/$G16,"")) | N16: =I16 -> 0 | O16: =N16*F16 -> 0 | P16: =IF(O16=0,"",IF(OR(O16-$G16>0,O16-$G16<0),(O16-$G16)/$G16,""))
B17: =תקן[[#This Row],[סוג פריט]] -> אביזרים | C17: =תקן[[#This Row],[מיקום]] -> כללי | D17: =תקן[[#This Row],[תיאור הפריט]] -> שילוט חיצוני | E17: =תקן[[#This Row],[כמות]] -> 1 | F17: =תקן[[#This Row],[עלות פריט]] -> 5000 | G17: =תקן[[#This Row],[סהכ עלות]] -> 5000 | J17: =I17*F17 -> 0 | K17: =IF(J17=0,"",IF(OR(J17-$G17>0,J17-$G17<0),(J17-$G17)/$G17,"")) | N17: =I17 -> 0 | O17: =N17*F17 -> 0 | P17: =IF(O17=0,"",IF(OR(O17-$G17>0,O17-$G17<0),(O17-$G17)/$G17,""))
B18: =תקן[[#This Row],[סוג פריט]] -> אביזרים | C18: =תקן[[#This Row],[מיקום]] -> כללי | D18: =תקן[[#This Row],[תיאור הפריט]] -> שילוט לחדרים | E18: =תקן[[#This Row],[כמות]] -> 6 | F18: =תקן[[#This Row],[עלות פריט]] -> 300 | G18: =תקן[[#This Row],[סהכ עלות]] -> 1800 | J18: =I18*F18 -> 0 | K18: =IF(J18=0,"",IF(OR(J18-$G18>0,J18-$G18<0),(J18-$G18)/$G18,"")) | N18: =I18 -> 0 | O18: =N18*F18 -> 0 | P18: =IF(O18=0,"",IF(OR(O18-$G18>0,O18-$G18<0),(O18-$G18)/$G18,""))
B19: =תקן[[#This Row],[סוג פריט]] -> אביזרים | C19: =תקן[[#This Row],[מיקום]] -> כללי | D19: =תקן[[#This Row],[תיאור הפריט]] -> שעון נוכחות | E19: =תקן[[#This Row],[כמות]] -> 1 | F19: =תקן[[#This Row],[עלות פריט]] -> 1500 | G19: =תקן[[#This Row],[סהכ עלות]] -> 1500 | J19: =I19*F19 -> 0 | K19: =IF(J19=0,"",IF(OR(J19-$G19>0,J19-$G19<0),(J19-$G19)/$G19,"")) | N19: =I19 -> 0 | O19: =N19*F19 -> 0 | P19: =IF(O19=0,"",IF(OR(O19-$G19>0,O19-$G19<0),(O19-$G19)/$G19,""))
B20: =תקן[[#This Row],[סוג פריט]] -> אביזרים | C20: =תקן[[#This Row],[מיקום]] -> כללי | D20: =תקן[[#This Row],[תיאור הפריט]] -> אביזרים (פריטי עיצוב, תמונות, לוחות מודעות, פחים ועוד) תקציב גלובלי | E20: =תקן[[#This Row],[כמות]] -> 3 | F20: =תקן[[#This Row],[עלות פריט]] -> 5000 | G20: =תקן[[#This Row],[סהכ עלות]] -> 15000 | J20: =I20*F20 -> 0 | K20: =IF(J20=0,"",IF(OR(J20-$G20>0,J20-$G20<0),(J20-$G20)/$G20,"")) | N20: =I20 -> 0 | O20: =N20*F20 -> 0 | P20: =IF(O20=0,"",IF(OR(O20-$G20>0,O20-$G20<0),(O20-$G20)/$G20,""))
B21: =תקן[[#This Row],[סוג פריט]] -> אביזרים | C21: =תקן[[#This Row],[מיקום]] -> שירותים | D21: =תקן[[#This Row],[תיאור הפריט]] -> סכום גלובלי (ארון איחסון, מראת קיר, כיסא שירותים ורחיצה תקני, ספסל הלבשה, דיספנסרים, מתקני מגבות, ידיות אחיזה ועוד). | E21: =תקן[[#This Row],[כמות]] -> 1 | F21: =תקן[[#This Row],[עלות פריט]] -> 3500 | G21: =תקן[[#This Row],[סהכ עלות]] -> 3500 | J21: =I21*F21 -> 0 | K21: =IF(J21=0,"",IF(OR(J21-$G21>0,J21-$G21<0),(J21-$G21)/$G21,"")) | N21: =I21 -> 0 | O21: =N21*F21 -> 0 | P21: =IF(O21=0,"",IF(OR(O21-$G21>0,O21-$G21<0),(O21-$G21)/$G21,""))
B22: =תקן[[#This Row],[סוג פריט]] -> טיפוח חן | C22: =תקן[[#This Row],[מיקום]] -> חדר טיפוח חן/מספרה | D22: =תקן[[#This Row],[תיאור הפריט]] -> סכום גלובלי (ארון תחתון+כיור+ברז, דלפק עבודה, כיסא טיפולים, כיסא מספרה, כיסא פעילות/משרד, כיסא+כיור חפיפה, מייבש שיער מקצועי, מכונת ייבוש, מכונת תספורת, מנורה מתכווננת, מראה, מתלה נייד למגבות, סטרליזטור, עגלת טיפולים). | E22: =תקן[[#This Row],[כמות]] -> 2 | F22: =תקן[[#This Row],[עלות פריט]] -> 4000 | G22: =תקן[[#This Row],[סהכ עלות]] -> 8000 | J22: =I22*F22 -> 0 | K22: =IF(J22=0,"",IF(OR(J22-$G22>0,J22-$G22<0),(J22-$G22)/$G22,"")) | N22: =I22 -> 0 | O22: =N22*F22 -> 0 | P22: =IF(O22=0,"",IF(OR(O22-$G22>0,O22-$G22<0),(O22-$G22)/$G22,""))
... B97: =תקן[[#This Row],[סוג פריט]] -> ריהוט | C97: =תקן[[#This Row],[מיקום]] -> מכבסה | D97: =תקן[[#This Row],[תיאור הפריט]] -> ארון איחסון מפלסטיק | E97: =תקן[[#This Row],[כמות]] -> 1 | F97: =תקן[[#This Row],[עלות פריט]] -> 1500 | G97: =תקן[[#This Row],[סהכ עלות]] -> 1500 | J97: =I97*F97 -> 0 | K97: =IF(J97=0,"",IF(OR(J97-$G97>0,J97-$G97<0),(J97-$G97)/$G97,"")) | N97: =I97 -> 0 | O97: =N97*F97 -> 0 | P97: =IF(O97=0,"",IF(OR(O97-$G97>0,O97-$G97<0),(O97-$G97)/$G97,""))
I98: סה"כ | J98: =SUM(J11:J97) -> 0 | N98: סה"כ | O98: =SUM(O11:O97) -> 0

Sheet הנגשת ראייה
B2: תקן הנגשת ראיה (המחירים בש"ח וכוללים מע"מ)
B3: הוכן בסיוע דר' נורית נוי והייתם דוויק, מורשי נגישות השירות
B4: המלצות הצטיידות ינתנו בשיתוף יועץ הביטוח הלאומי, מומחה לתחום הנגשת ראיה.
B5: על המחירים לכלול מע"מ,הובלה והתקנה, במידת הצורך. על הגוף המבקש להוכיח שקיימים לו משאבים וכ"א נדרש להפעלת הציוד והפעילות המבוקשת.
B6: מערכות טכנולוגיות ושיקומיות יש לרכוש עם תקופת אחריות מקסימלית הניתנת על ידי הספק.
B7: הספק יתחייב לבדיקה תקופתית לתקינות המערכות בכל משך האחריות (אחת לשנה מתום השנה הראשונה).
B8: יש לסמן את הבקשה בסעיף "בקשת הגוף" בעמודת "כמות מבוקשת". כאשר הכמות המבוקשת חורגת מהכמות שהוגדרה בתקן יש לפרט ב"הערות הגוף" את הנימוקים לחריגה.
B10: תקן הנגשת ראיה | H10: בקשת הגוף | M10: אישור הבקשה ע"י מנהלת תכניות/יועץ הקרן
B11: פריטים | C11: רכיבי המערכת | D11: כמות תקן למסגרת | E11: עלות ליחידה כולל מע"מ | F11: סך עלות כולל מע"מ | H11: כמות מבוקשת | I11: תקציב מבוקש כולל מע"מ | J11: סטייה מהתקן | K11: הערות הגוף | M11: כמות מאושרת | N11: תקציב מאושר כולל מע"מ | O11: סטייה מהתקן | P11: הערות
B12: אביזרים מסייעים לשימוש בפעילות יומיומית במרכז עבור אנשים עם מוגבלות בראיה (סכום גלובלי) | C12: לדוגמה: מגדלות בעוצמות שונות, תאורה ממוקדת ועוד | D12: 1 | E12: 2000 | F12: =D12*E12 -> 2000 | I12: =IFERROR(H12*E12,"") -> 0 | J12: =IF(I12=0,"",IF(OR(I12-$F12>0,I12-$F12<0),(I12-$F12)/$F12,"")) | M12: =H12 -> 0 | N12: =M12*E12 -> 0 | O12: =IFERROR(IF(N12=0,"",IF(OR(N12-$F12>0,N12-$F12<0),(N12-$F12)/$F12,"")),"")
B13: משחקי חברה נגישים (סכום גלובלי) | C13: לדוגמה: קלפים עם דפוס גדול ועם ברייל, דמקה, שח לעיוורים, דומינו לעיוורים, רמי בברייל | D13: 1 | E13: 2000 | F13: =D13*E13 -> 2000 | I13: =IFERROR(H13*E13,"") -> 0 | J13: =IF(I13=0,"",IF(OR(I13-$F13>0,I13-$F13<0),(I13-$F13)/$F13,"")) | M13: =H13 -> 0 | N13: =M13*E13 -> 0 | O13: =IFERROR(IF(N13=0,"",IF(OR(N13-$F13>0,N13-$F13<0),(N13-$F13)/$F13,"")),"")
H14: סה"כ | I14: =SUM(I12:I13) -> 0 | N14: =SUM(N12:N13) -> 0

Sheet הנגשת שמע
B2: תקן הנגשת שמע (המחירים בש"ח וכוללים מע"מ)
B3: הוכן בסיוע ד"ר אורנה ערן, אודיולוגית, מומחית לשיקום וטכנולוגיות עזר, מורשת נגישות השירות
B4: המלצות להצטיידות ינתנו בשיתוף יועץ הביטוח הלאומי, מומחה לתחום הנגשת שמע.
B5: לכל אחד מהפריטים יוגשו ליועץ לאישור לפחות שתי הצעות מחיר ומפרטי יצרן של הציוד והמערכות המוצעות.
B6: על הצעת המחיר לכלול משך תקופת אחריות, הובלה, התקנה והדרכת הצוות בתפעול הציוד ומערכות העזר לשמיעה כמפורט:
B7: א. משך תקופת האחריות הניתנת לכל הציוד ומערכות העזר לשמיעה לא תפחת מ- 5 שנים.
B8: ב.הספק יתחייב לבדיקה תקופתית לתקינות המערכות בכל משך האחריות (אחת לשנה מתום השנה הראשונה).
B9: ג.מועדים להדרכת הצוות : א) הדרכה לאחר התקנת הציוד/מערכות ב) הדרכה בסיום השנה השנייה/תחילת השנה השלישית. ג) הדרכה בסיום השנה הרביעית/תחילת שנה חמישית.
B10: יש לסמן את הבקשה בסעיף "בקשת הגוף" בעמודת "כמות מבוקשת". כאשר הכמות המבוקשת חורגת מהכמות שהוגדרה בתקן יש לפרט ב"הערות הגוף" את הנימוקים לחריגה.
B12: תקן הנגשת שמע | I12: בקשת הגוף | N12: אישור הבקשה ע"י מנהלת תכניות/יועץ הקרן
B13: פריטים | C13: מיקום | D13: רכיבי המערכת | E13: כמות תקן למסגרת | F13: עלות ליחידה כולל מע"מ | G13: סך עלות כולל מע"מ | I13: כמות מבוקשת | J13: תקציב מבוקש כולל מע"מ | K13: סטייה מהתקן | L13: הערות הגוף | N13: כמות מאושרת | O13: תקציב מאושר כולל מע"מ | P13: סטייה מהתקן | Q13: הערות
B14: א. מערכת הגברה סביבתית אלחוטית מסוג Sound Field FM System | C14: חדר אוכל רב תכליתי /אולם 50-100 מקומות ישיבה. לכיסוי מלא של כל שטח החלל | D14: מיקרופון/משדר אלחוטי נייד (ראש מדונה), מיקרופון ידני אלחוטי נוסף, מגבר, מודולטור, מיקסר 4 כניסות,4-6 רמקולים ( -קיר כולל מתקני תליה וכבלים), קופסת חיבורים קידמית switch box עם חיבור למחשב וטלוויזיה. ארון אחסון, חשמל וטעינה עם דלת זכוכית ומנעול. | E14: 1 | G14: =E14*F14 -> 0 | J14: =I14*F14 -> 0 | K14: =IF(J14=0,"",IF(OR(J14-$G14>0,J14-$G14<0),(J14-$G14)/$G14,"")) | N14: =I14 -> 0 | O14: =N14*F14 -> 0 | P14: =IFERROR(IF(O14=0,"",IF(OR(O14-$G14>0,O14-$G14<0),(O14-$G14)/$G14,"")),"")
B15: ב. מערכת עזר לשמיעה מסוג אור תת-אדום (Infra Red System) | C15: חדר אוכל רב תכליתי /אולם | D15: משדר-מודולטור, מקרני IR לכיסוי מלא של כל החלל, מקלטים אישיים, יחידות טעינה למקלטים. כולל מתקני תליה וכבלים. המערכת תכיל משדר-מודולטור, מקרני אינפרא אדום לכיסוי מלא של החלל, מקלטים אישיים, יחידת טעינה למקלטים (של אותה חברה). | E15: 1 | G15: =E15*F15 -> 0 | J15: =I15*F15 -> 0 | K15: =IF(J15=0,"",IF(OR(J15-$G15>0,J15-$G15<0),(J15-$G15)/$G15,"")) | N15: =I15 -> 0 | O15: =N15*F15 -> 0 | P15: =IFERROR(IF(O15=0,"",IF(OR(O15-$G15>0,O15-$G15<0),(O15-$G15)/$G15,"")),"")
B16: ג. מקלט IR דגם אוזניות סטטוסקופים | C16: חדר אוכל רב תכליתי /אולם | E16: 12 | G16: =E16*F16 -> 0 | J16: =I16*F16 -> 0 | K16: =IF(J16=0,"",IF(OR(J16-$G16>0,J16-$G16<0),(J16-$G16)/$G16,"")) | N16: =I16 -> 0 | O16: =N16*F16 -> 0 | P16: =IFERROR(IF(O16=0,"",IF(OR(O16-$G16>0,O16-$G16<0),(O16-$G16)/$G16,"")),"")
B17: ד. מקלט IR בלבד (ללא אוזניות) +לולאת השראה צווארית | C17: חדר אוכל רב תכליתי /אולם | E17: 2 | G17: =E17*F17 -> 0 | J17: =I17*F17 -> 0 | K17: =IF(J17=0,"",IF(OR(J17-$G17>0,J17-$G17<0),(J17-$G17)/$G17,"")) | N17: =I17 -> 0 | O17: =N17*F17 -> 0 | P17: =IFERROR(IF(O17=0,"",IF(OR(O17-$G17>0,O17-$G17<0),(O17-$G17)/$G17,"")),"")
B18: ה. יחידות טעינה למקלטים (ל-10-12 מקלטים) | C18: חדר אוכל רב תכליתי /אולם | E18: 2 | G18: =E18*F18 -> 0 | J18: =I18*F18 -> 0 | K18: =IF(J18=0,"",IF(OR(J18-$G18>0,J18-$G18<0),(J18-$G18)/$G18,"")) | N18: =I18 -> 0 | O18: =N18*F18 -> 0 | P18: =IFERROR(IF(O18=0,"",IF(OR(O18-$G18>0,O18-$G18<0),(O18-$G18)/$G18,"")),"")
B19: מערכת הגברה ניידת (FM) | C19: לשימוש ע"פ צרכי המרכז בתוך או מחוץ למבנה (טיולים) | D19: יחידה אחת קומפקטית וקלה לנשיאה במשקל מקסימאלי של עד 3.5 ק"ג, שני מיקרופונים אלחוטיים (מדונה+ידני), כניסה לאודיו, סוללה נטענת לעבודה רציפה של לפחות חמש שעות. | E19: 1 | G19: =E19*F19 -> 0 | J19: =I19*F19 -> 0 | K19: =IF(J19=0,"",IF(OR(J19-$G19>0,J19-$G19<0),(J19-$G19)/$G19,"")) | N19: =I19 -> 0 | O19: =N19*F19 -> 0 | P19: =IFERROR(IF(O19=0,"",IF(OR(O19-$G19>0,O19-$G19<0),(O19-$G19)/$G19,"")),"")
B20: מגבר אישי לשיחות אחד-על-אחד | C20: חדר מנהלת/עו"ס/אחות | D20: אוזניות (קיימת עדיפות לדגם סטטוסקופי), סוללות נטענות, מטען נייח לטעינה ללא הסרת סוללות. | E20: 3 | G20: =E20*F20 -> 0 | J20: =I20*F20 -> 0 | K20: =IF(J20=0,"",IF(OR(J20-$G20>0,J20-$G20<0),(J20-$G20)/$G20,"")) | N20: =I20 -> 0 | O20: =N20*F20 -> 0 | P20: =IFERROR(IF(O20=0,"",IF(OR(O20-$G20>0,O20-$G20<0),(O20-$G20)/$G20,"")),"")
B21: לחצן מצוקה אלחוטי עם חוט משיכה וללא תשתית תקשורת | C21: חדר שירותים | D21: לחצן מצוקה עם חוט משיכה, פעמון חשמלי או מופעל ע"י סוללות | E21: 1 | G21: =E21*F21 -> 0 | J21: =I21*F21 -> 0 | K21: =IF(J21=0,"",IF(OR(J21-$G21>0,J21-$G21<0),(J21-$G21)/$G21,"")) | N21: =I21 -> 0 | O21: =N21*F21 -> 0 | P21: =IFERROR(IF(O21=0,"",IF(OR(O21-$G21>0,O21-$G21<0),(O21-$G21)/$G21,"")),"")
B22: וילונות בד קפלים עבה (הסטה) או וילון דואט להצללה ושיפור האקלים האקוסטי | C22: חדר אוכל רב תכליתי /אולם | D22: יש למלא את הכמות המבוקשת כמספר החלונות | G22: =E22*F22 -> 0 | J22: =I22*F22 -> 0 | K22: =IF(J22=0,"",IF(OR(J22-$G22>0,J22-$G22<0),(J22-$G22)/$G22,"")) | N22: =I22 -> 0 | O22: =N22*F22 -> 0 | P22: =IFERROR(IF(O22=0,"",IF(OR(O22-$G22>0,O22-$G22<0),(O22-$G22)/$G22,"")),"")
B23: מסך 42" לניהול תוכן אינטראקטיבי | C23: להתקנה בנקודה מרכזית במרכז | D23: מסך אלקטרוני 42 (LCD) ללוח מודעות אינטרקטיבי כולל מתקן ושליטה מרחוק, מתקן צמוד קיר | E23: 1 | G23: =E23*F23 -> 0 | J23: =I23*F23 -> 0 | K23: =IF(J23=0,"",IF(OR(J23-$G23>0,J23-$G23<0),(J23-$G23)/$G23,"")) | N23: =I23 -> 0 | O23: =N23*F23 -> 0 | P23: =IFERROR(IF(O23=0,"",IF(OR(O23-$G23>0,O23-$G23<0),(O23-$G23)/$G23,"")),"")
B24: טלוויזיה חכמה 85" | C24: חדר אוכל רב תכליתי/אולם | D24: חיבור לכל מערכות ההגברה והעזר לשמיעה המותקנות בחלל | E24: 1 | G24: =E24*F24 -> 0 | J24: =I24*F24 -> 0 | K24: =IF(J24=0,"",IF(OR(J24-$G24>0,J24-$G24<0),(J24-$G24)/$G24,"")) | N24: =I24 -> 0 | O24: =N24*F24 -> 0 | P24: =IFERROR(IF(O24=0,"",IF(OR(O24-$G24>0,O24-$G24<0),(O24-$G24)/$G24,"")),"")
I25: סה"כ | J25: =SUM(J14:J24) -> 0 | O25: =SUM(O14:O24) -> 0

Sheet ריפוי בעיסוק ופיזיותרפיה
B2: תקן הצטיידות ריפוי בעיסוק ופיזיותרפיה (המחירים בש"ח וכוללים מע"מ)
B3: הוכן בסיוע חגית רובין, מרפאה בעיסוק, מורשית נגישות השירות
B4: המלצות הצטיידות ינתנו בשיתוף יועץ הביטוח הלאומי, מומחה לתחום הצטיידות מקצועות הבריאות.
B5: על המחירים לכלול מע"מ,הובלה והתקנה, במידת הצורך. על הגוף המבקש להוכיח שקיימים לו משאבים וכ"א נדרש להפעלת הציוד והפעילות המבוקשת.
B6: מערכות טכנולוגיות ושיקומיות יש לרכוש עם תקופת אחריות מקסימלית הניתנת על ידי הספק.
B7: הספק יתחייב לבדיקה תקופתית לתקינות המערכות בכל משך האחריות (אחת לשנה מתום השנה הראשונה).
B8: האישור לציוד ריפוי בעיסוק ופיזיותרפיה מותנה בהעסקת מרפא/ה בעיסוק ו/או פיזיותרפיסט/ית.
B9: יש לסמן את הבקשה בסעיף "בקשת הגוף" בעמודת "כמות מבוקשת". כאשר הכמות המבוקשת חורגת מהכמות שהוגדרה בתקן יש לפרט ב"הערות הגוף" את הנימוקים לחריגה.
B11: תקן ריפוי בעיסוק ופיזותרפיה | G11: בקשת הגוף | L11: אישור הבקשה ע"י מנהלת תכניות/יועץ הקרן
B12: פריטים | C12: כמות תקן למסגרת | D12: עלות ליחידה כולל מע"מ | E12: סך עלות כולל מע"מ | G12: כמות מבוקשת | H12: תקציב מבוקש כולל מע"מ | I12: סטייה מהתקן | J12: הערות הגוף | L12: כמות מאושרת | M12: תקציב מאושר כולל מע"מ | N12: סטייה מהתקן | O12: הערות
B13: ריהוט לחדר | G13: ריהוט לחדר | L13: ריהוט לחדר
B14: מיטת טיפול | C14: 1 | D14: 6000 | E14: =D14*C14 -> 6000 | H14: =IFERROR(G14*D14,"") -> 0 | I14: =IF(H14=0,"",IF(OR(H14-$E14>0,H14-$E14<0),(H14-$E14)/$E14,"")) | L14: =G14 -> 0 | M14: =IFERROR(L14*D14,"") -> 0 | N14: =IFERROR(IF(M14=0,"",IF(OR(M14-$E14>0,M14-$E14<0),(M14-$E14)/$E14,"")),"")
B15: ריהוט אחסון (ארון, מדף אחסון לציוד גדול תלוי, ארון מגירות ועוד) | C15: 1 | D15: 6000 | E15: =D15*C15 -> 6000 | H15: =IFERROR(G15*D15,"") -> 0 | I15: =IF(H15=0,"",IF(OR(H15-$E15>0,H15-$E15<0),(H15-$E15)/$E15,"")) | L15: =G15 -> 0 | M15: =IFERROR(L15*D15,"") -> 0 | N15: =IFERROR(IF(M15=0,"",IF(OR(M15-$E15>0,M15-$E15<0),(M15-$E15)/$E15,"")),"")
B16: כסא מתכוונן | C16: 1 | D16: 1500 | E16: =D16*C16 -> 1500 | H16: =IFERROR(G16*D16,"") -> 0 | I16: =IF(H16=0,"",IF(OR(H16-$E16>0,H16-$E16<0),(H16-$E16)/$E16,"")) | L16: =G16 -> 0 | M16: =IFERROR(L16*D16,"") -> 0 | N16: =IFERROR(IF(M16=0,"",IF(OR(M16-$E16>0,M16-$E16<0),(M16-$E16)/$E16,"")),"")
B17: כסא לקוח עם ידיות עבור פעילות קבוצתית בחדר | C17: 5 | D17: 300 | E17: =D17*C17 -> 1500 | H17: =IFERROR(G17*D17,"") -> 0 | I17: =IF(H17=0,"",IF(OR(H17-$E17>0,H17-$E17<0),(H17-$E17)/$E17,"")) | L17: =G17 -> 0 | M17: =IFERROR(L17*D17,"") -> 0 | N17: =IFERROR(IF(M17=0,"",IF(OR(M17-$E17>0,M17-$E17<0),(M17-$E17)/$E17,"")),"")
B18: כסא מטפל | C18: 1 | D18: 400 | E18: =D18*C18 -> 400 | H18: =IFERROR(G18*D18,"") -> 0 | I18: =IF(H18=0,"",IF(OR(H18-$E18>0,H18-$E18<0),(H18-$E18)/$E18,"")) | L18: =G18 -> 0 | M18: =IFERROR(L18*D18,"") -> 0 | N18: =IFERROR(IF(M18=0,"",IF(OR(M18-$E18>0,M18-$E18<0),(M18-$E18)/$E18,"")),"")
B19: שולחן מחשב | C19: 1 | D19: 700 | E19: =D19*C19 -> 700 | H19: =IFERROR(G19*D19,"") -> 0 | I19: =IF(H19=0,"",IF(OR(H19-$E19>0,H19-$E19<0),(H19-$E19)/$E19,"")) | L19: =G19 -> 0 | M19: =IFERROR(L19*D19,"") -> 0
B20: שולחן מתכוונן חשמלי | C20: 1 | D20: 3500 | E20: =D20*C20 -> 3500 | H20: =IFERROR(G20*D20,"") -> 0 | I20: =IF(H20=0,"",IF(OR(H20-$E20>0,H20-$E20<0),(H20-$E20)/$E20,"")) | L20: =G20 -> 0 | M20: =IFERROR(L20*D20,"") -> 0 | N20: =IFERROR(IF(M20=0,"",IF(OR(M20-$E20>0,M20-$E20<0),(M20-$E20)/$E20,"")),"")
B21: שולחן מתכוונן טלסקופי | C21: 1 | D21: 2100 | E21: =D21*C21 -> 2100 | H21: =IFERROR(G21*D21,"") -> 0 | I21: =IF(H21=0,"",IF(OR(H21-$E21>0,H21-$E21<0),(H21-$E21)/$E21,"")) | L21: =G21 -> 0 | M21: =IFERROR(L21*D21,"") -> 0 | N21: =IFERROR(IF(M21=0,"",IF(OR(M21-$E21>0,M21-$E21<0),(M21-$E21)/$E21,"")),"")
B22: ציוד תרגול מוטוריקה | G22: ציוד תרגול מוטוריקה | L22: ציוד תרגול מוטוריקה
B23: מקבילים | C23: 1 | D23: 2100 | E23: =D23*C23 -> 2100 | H23: =IFERROR(G23*D23,"") -> 0 | I23: =IF(H23=0,"",IF(OR(H23-$E23>0,H23-$E23<0),(H23-$E23)/$E23,"")) | L23: =G23 -> 0 | M23: =IFERROR(L23*D23,"") -> 0 | N23: =IFERROR(IF(M23=0,"",IF(OR(M23-$E23>0,M23-$E23<0),(M23-$E23)/$E23,"")),"")
B24: מדרגות שיקומיות מעץ | C24: 1 | D24: 7000 | E24: =D24*C24 -> 7000 | H24: =IFERROR(G24*D24,"") -> 0 | I24: =IF(H24=0,"",IF(OR(H24-$E24>0,H24-$E24<0),(H24-$E24)/$E24,"")) | L24: =G24 -> 0 | M24: =IFERROR(L24*D24,"") -> 0 | N24: =IFERROR(IF(M24=0,"",IF(OR(M24-$E24>0,M24-$E24<0),(M24-$E24)/$E24,"")),"")
B25: מזרונים טיפוליים | C25: 1 | D25: 500 | E25: =D25*C25 -> 500 | H25: =IFERROR(G25*D25,"") -> 0 | I25: =IF(H25=0,"",IF(OR(H25-$E25>0,H25-$E25<0),(H25-$E25)/$E25,"")) | L25: =G25 -> 0 | M25: =IFERROR(L25*D25,"") -> 0 | N25: =IFERROR(IF(M25=0,"",IF(OR(M25-$E25>0,M25-$E25<0),(M25-$E25)/$E25,"")),"")
B26: מראות (ניידת וקבועה) | C26: 1 | D26: 1600 | E26: =D26*C26 -> 1600 | H26: =IFERROR(G26*D26,"") -> 0 | I26: =IF(H26=0,"",IF(OR(H26-$E26>0,H26-$E26<0),(H26-$E26)/$E26,"")) | L26: =G26 -> 0 | M26: =IFERROR(L26*D26,"") -> 0 | N26: =IFERROR(IF(M26=0,"",IF(OR(M26-$E26>0,M26-$E26<0),(M26-$E26)/$E26,"")),"")
B27: סולם שוודי עם תוספות והתקנה (סכום גלובלי) | C27: 1 | D27: 2500 | E27: =D27*C27 -> 2500 | H27: =IFERROR(G27*D27,"") -> 0 | I27: =IF(H27=0,"",IF(OR(H27-$E27>0,H27-$E27<0),(H27-$E27)/$E27,"")) | L27: =G27 -> 0 | M27: =IFERROR(L27*D27,"") -> 0 | N27: =IFERROR(IF(M27=0,"",IF(OR(M27-$E27>0,M27-$E27<0),(M27-$E27)/$E27,"")),"")
B28: סט חמישה ספסלים | C28: 1 | D28: 1000 | E28: =D28*C28 -> 1000 | H28: =IFERROR(G28*D28,"") -> 0 | I28: =IF(H28=0,"",IF(OR(H28-$E28>0,H28-$E28<0),(H28-$E28)/$E28,"")) | L28: =G28 -> 0 | M28: =IFERROR(L28*D28,"") -> 0 | N28: =IFERROR(IF(M28=0,"",IF(OR(M28-$E28>0,M28-$E28<0),(M28-$E28)/$E28,"")),"")
B29: מגוון סוגי כדורים ומשאבה חשמלית לכדורים (סכום גלובלי) | C29: 1 | D29: 1600 | E29: =D29*C29 -> 1600 | H29: =IFERROR(G29*D29,"") -> 0 | I29: =IF(H29=0,"",IF(OR(H29-$E29>0,H29-$E29<0),(H29-$E29)/$E29,"")) | L29: =G29 -> 0 | M29: =IFERROR(L29*D29,"") -> 0 | N29: =IFERROR(IF(M29=0,"",IF(OR(M29-$E29>0,M29-$E29<0),(M29-$E29)/$E29,"")),"")
B30: כריות שונות: פיתה, פילאטיס, תמיכה ועוד (סכום גלובלי) | C30: 1 | D30: 1000 | E30: =D30*C30 -> 1000 | H30: =IFERROR(G30*D30,"") -> 0 | I30: =IF(H30=0,"",IF(OR(H30-$E30>0,H30-$E30<0),(H30-$E30)/$E30,"")) | L30: =G30 -> 0 | M30: =IFERROR(L30*D30,"") -> 0 | N30: =IFERROR(IF(M30=0,"",IF(OR(M30-$E30>0,M30-$E30<0),(M30-$E30)/$E30,"")),"")
B31: גלילים בגדלים שונים (סכום גלובלי) | C31: 1 | D31: 1500 | E31: =D31*C31 -> 1500 | H31: =IFERROR(G31*D31,"") -> 0 | I31: =IF(H31=0,"",IF(OR(H31-$E31>0,H31-$E31<0),(H31-$E31)/$E31,"")) | L31: =G31 -> 0 | M31: =IFERROR(L31*D31,"") -> 0 | N31: =IFERROR(IF(M31=0,"",IF(OR(M31-$E31>0,M31-$E31<0),(M31-$E31)/$E31,"")),"")
B32: אביזירים לתרגול שיווי משקל: כריות, לוח שיווי משקל, מסלול, כריות, קורות ועוד (סכום גלובלי) | C32: 1 | D32: 3000 | E32: =D32*C32 -> 3000 | H32: =IFERROR(G32*D32,"") -> 0 | I32: =IF(H32=0,"",IF(OR(H32-$E32>0,H32-$E32<0),(H32-$E32)/$E32,"")) | L32: =G32 -> 0 | M32: =IFERROR(L32*D32,"") -> 0 | N32: =IFERROR(IF(M32=0,"",IF(OR(M32-$E32>0,M32-$E32<0),(M32-$E32)/$E32,"")),"")
B33: אביזרים לתרגול והפעלת כף היד (סכום גלובלי) | C33: 1 | D33: 2000 | E33: =D33*C33 -> 2000 | H33: =IFERROR(G33*D33,"") -> 0 | I33: =IF(H33=0,"",IF(OR(H33-$E33>0,H33-$E33<0),(H33-$E33)/$E33,"")) | L33: =G33 -> 0 | M33: =IFERROR(L33*D33,"") -> 0 | N33: =IFERROR(IF(M33=0,"",IF(OR(M33-$E33>0,M33-$E33<0),(M33-$E33)/$E33,"")),"")
B34: עזרים לטיפול מוטורי אישי וקבוצתי כמו: גומיות, טבעות, מצנח, מקלות, שקיות שעועית, קונוסים, כדורים, טרבנד, טרפלסט וכד' (סכום גלובלי) | C34: 1 | D34: 3000 | E34: =D34*C34 -> 3000 | H34: =IFERROR(G34*D34,"") -> 0 | I34: =IF(H34=0,"",IF(OR(H34-$E34>0,H34-$E34<0),(H34-$E34)/$E34,"")) | L34: =G34 -> 0 | M34: =IFERROR(L34*D34,"") -> 0 | N34: =IFERROR(IF(M34=0,"",IF(OR(M34-$E34>0,M34-$E34<0),(M34-$E34)/$E34,"")),"")
... B46: תלת אופן מותאם | C46: 1 | D46: 2500 | E46: =D46*C46 -> 2500 | H46: =IFERROR(G46*D46,"") -> 0 | I46: =IF(H46=0,"",IF(OR(H46-$E46>0,H46-$E46<0),(H46-$E46)/$E46,"")) | L46: =G46 -> 0 | M46: =IFERROR(L46*D46,"") -> 0 | N46: =IFERROR(IF(M46=0,"",IF(OR(M46-$E46>0,M46-$E46<0),(M46-$E46)/$E46,"")),"")
B47: ציוד טכנולוגי | G47: ציוד טכנולוגי | L47: ציוד טכנולוגי
B48: מחשב נייד לחדר טיפולים | C48: 1 | D48: 3500 | E48: =D48*C48 -> 3500 | H48: =IFERROR(G48*D48,"") -> 0 | I48: =IF(H48=0,"",IF(OR(H48-$E48>0,H48-$E48<0),(H48-$E48)/$E48,"")) | L48: =G48 -> 0 | M48: =IFERROR(L48*D48,"") -> 0 | N48: =IFERROR(IF(M48=0,"",IF(OR(M48-$E48>0,M48-$E48<0),(M48-$E48)/$E48,"")),"")
B49: מחשב נייח לחדר טיפולים | C49: 1 | D49: 5000 | E49: =D49*C49 -> 5000 | H49: =IFERROR(G49*D49,"") -> 0 | I49: =IF(H49=0,"",IF(OR(H49-$E49>0,H49-$E49<0),(H49-$E49)/$E49,"")) | L49: =G49 -> 0 | M49: =IFERROR(L49*D49,"") -> 0 | N49: =IFERROR(IF(M49=0,"",IF(OR(M49-$E49>0,M49-$E49<0),(M49-$E49)/$E49,"")),"")
B50: מחשב נייח All in one עם מסך מגע לחדר טיפולים | C50: 1 | D50: 5200 | E50: =D50*C50 -> 5200 | H50: =IFERROR(G50*D50,"") -> 0 | I50: =IF(H50=0,"",IF(OR(H50-$E50>0,H50-$E50<0),(H50-$E50)/$E50,"")) | L50: =G50 -> 0 | M50: =IFERROR(L50*D50,"") -> 0 | N50: =IFERROR(IF(M50=0,"",IF(OR(M50-$E50>0,M50-$E50<0),(M50-$E50)/$E50,"")),"")
B51: מדפסת צבעונית לחדר טיפולים | C51: 1 | D51: 1700 | E51: =D51*C51 -> 1700 | H51: =IFERROR(G51*D51,"") -> 0 | I51: =IF(H51=0,"",IF(OR(H51-$E51>0,H51-$E51<0),(H51-$E51)/$E51,"")) | L51: =G51 -> 0 | M51: =IFERROR(L51*D51,"") -> 0 | N51: =IFERROR(IF(M51=0,"",IF(OR(M51-$E51>0,M51-$E51<0),(M51-$E51)/$E51,"")),"")
B52: טאבלט מסוג אנדרואיד כולל מגן מסך וכבל הטענה | C52: 1 | D52: 1500 | E52: =D52*C52 -> 1500 | H52: =IFERROR(G52*D52,"") -> 0 | I52: =IF(H52=0,"",IF(OR(H52-$E52>0,H52-$E52<0),(H52-$E52)/$E52,"")) | L52: =G52 -> 0 | M52: =IFERROR(L52*D52,"") -> 0 | N52: =IFERROR(IF(M52=0,"",IF(OR(M52-$E52>0,M52-$E52<0),(M52-$E52)/$E52,"")),"")
B53: טאבלט מסוג IOS כולל מגן מסך וכבל הטענה | C53: 1 | D53: 2500 | E53: =D53*C53 -> 2500 | H53: =IFERROR(G53*D53,"") -> 0 | I53: =IF(H53=0,"",IF(OR(H53-$E53>0,H53-$E53<0),(H53-$E53)/$E53,"")) | L53: =G53 -> 0 | M53: =IFERROR(L53*D53,"") -> 0 | N53: =IFERROR(IF(M53=0,"",IF(OR(M53-$E53>0,M53-$E53<0),(M53-$E53)/$E53,"")),"")
B54: סטיילוס | C54: 1 | D54: 120 | E54: =D54*C54 -> 120 | H54: =IFERROR(G54*D54,"") -> 0 | I54: =IF(H54=0,"",IF(OR(H54-$E54>0,H54-$E54<0),(H54-$E54)/$E54,"")) | L54: =G54 -> 0 | M54: =IFERROR(L54*D54,"") -> 0 | N54: =IFERROR(IF(M54=0,"",IF(OR(M54-$E54>0,M54-$E54<0),(M54-$E54)/$E54,"")),"")
B55: ממיר לשידור מהטאבלט למסך | C55: 1 | D55: 1000 | E55: =D55*C55 -> 1000 | H55: =IFERROR(G55*D55,"") -> 0 | I55: =IF(H55=0,"",IF(OR(H55-$E55>0,H55-$E55<0),(H55-$E55)/$E55,"")) | L55: =G55 -> 0 | M55: =IFERROR(L55*D55,"") -> 0 | N55: =IFERROR(IF(M55=0,"",IF(OR(M55-$E55>0,M55-$E55<0),(M55-$E55)/$E55,"")),"")
B56: מקרן | C56: 1 | D56: 2000 | E56: =D56*C56 -> 2000 | H56: =IFERROR(G56*D56,"") -> 0 | I56: =IF(H56=0,"",IF(OR(H56-$E56>0,H56-$E56<0),(H56-$E56)/$E56,"")) | L56: =G56 -> 0 | M56: =IFERROR(L56*D56,"") -> 0 | N56: =IFERROR(IF(M56=0,"",IF(OR(M56-$E56>0,M56-$E56<0),(M56-$E56)/$E56,"")),"")
B57: מסך הקרנה נגלל | C57: 1 | D57: 3800 | E57: =D57*C57 -> 3800 | H57: =IFERROR(G57*D57,"") -> 0 | I57: =IF(H57=0,"",IF(OR(H57-$E57>0,H57-$E57<0),(H57-$E57)/$E57,"")) | L57: =G57 -> 0 | M57: =IFERROR(L57*D57,"") -> 0 | N57: =IFERROR(IF(M57=0,"",IF(OR(M57-$E57>0,M57-$E57<0),(M57-$E57)/$E57,"")),"")
B58: עכברים ומקלדות ייחודיים (סכום גלובלי) | C58: 1 | D58: 6000 | E58: =D58*C58 -> 6000 | H58: =IFERROR(G58*D58,"") -> 0 | I58: =IF(H58=0,"",IF(OR(H58-$E58>0,H58-$E58<0),(H58-$E58)/$E58,"")) | L58: =G58 -> 0 | M58: =IFERROR(L58*D58,"") -> 0 | N58: =IFERROR(IF(M58=0,"",IF(OR(M58-$E58>0,M58-$E58<0),(M58-$E58)/$E58,"")),"")
B59: מתגים ומתאמי מתגים (סכום גלובלי) | C59: 1 | D59: 4500 | E59: =D59*C59 -> 4500 | H59: =IFERROR(G59*D59,"") -> 0 | I59: =IF(H59=0,"",IF(OR(H59-$E59>0,H59-$E59<0),(H59-$E59)/$E59,"")) | L59: =G59 -> 0 | M59: =IFERROR(L59*D59,"") -> 0 | N59: =IFERROR(IF(M59=0,"",IF(OR(M59-$E59>0,M59-$E59<0),(M59-$E59)/$E59,"")),"")
... B65: טכנולוגיות שיקומיות ניידות ונייחות, לדוגמה קרוס טריינר, מערכות מציאות מדומה, תוכנות תרגול מיומנויות קוגנטיביות, מדפסת תלת מימד, מרחבי למידה אינטראקטיבים, מערכות שיקום הליכה ומניעת נפילות ועוד | C65: 1 | D65: 45000 | E65: =D65*C65 -> 45000 | H65: =IFERROR(G65*D65,"") -> 0 | I65: =IF(H65=0,"",IF(OR(H65-$E65>0,H65-$E65<0),(H65-$E65)/$E65,"")) | L65: =G65 -> 0 | M65: =IFERROR(L65*D65,"") -> 0 | N65: =IFERROR(IF(M65=0,"",IF(OR(M65-$E65>0,M65-$E65<0),(M65-$E65)/$E65,"")),"")
B66: ציוד אביזרי עזר, הושבה וניידות | G66: ציוד אביזרי עזר, הושבה וניידות | L66: ציוד אביזרי עזר, הושבה וניידות
B67: שולחן אחות אילמת | C67: 1 | D67: 450 | E67: =D67*C67 -> 450 | H67: =IFERROR(G67*D67,"") -> 0 | I67: =IF(H67=0,"",IF(OR(H67-$E67>0,H67-$E67<0),(H67-$E67)/$E67,"")) | L67: =G67 -> 0 | M67: =IFERROR(L67*D67,"") -> 0 | N67: =IFERROR(IF(M67=0,"",IF(OR(M67-$E67>0,M67-$E67<0),(M67-$E67)/$E67,"")),"")
B68: עזרים לתרגול הליכה: טריפודים, מקל, הליכון רולטור, הליכון אמות הידראולי (סכום גלובלי) | C68: 1 | D68: 5000 | E68: =D68*C68 -> 5000 | H68: =IFERROR(G68*D68,"") -> 0 | I68: =IF(H68=0,"",IF(OR(H68-$E68>0,H68-$E68<0),(H68-$E68)/$E68,"")) | L68: =G68 -> 0 | M68: =IFERROR(L68*D68,"") -> 0 | N68: =IFERROR(IF(M68=0,"",IF(OR(M68-$E68>0,M68-$E68<0),(M68-$E68)/$E68,"")),"")
B69: מתקני החתלה, רחצה ושירותים עם מנגונים ותמיכות | C69: 1 | D69: 8000 | E69: =D69*C69 -> 8000 | H69: =IFERROR(G69*D69,"") -> 0 | I69: =IF(H69=0,"",IF(OR(H69-$E69>0,H69-$E69<0),(H69-$E69)/$E69,"")) | L69: =G69 -> 0 | M69: =IFERROR(L69*D69,"") -> 0 | N69: =IFERROR(IF(M69=0,"",IF(OR(M69-$E69>0,M69-$E69<0),(M69-$E69)/$E69,"")),"")
B70: ציוד לקידום מיומנויות קוגניטיביות | G70: ציוד לקידום מיומנויות קוגניטיביות | L70: ציוד לקידום מיומנויות קוגניטיביות
B71: לוח מחיק יד | C71: 1 | D71: 450 | E71: =D71*C71 -> 450 | H71: =IFERROR(G71*D71,"") -> 0 | I71: =IF(H71=0,"",IF(OR(H71-$E71>0,H71-$E71<0),(H71-$E71)/$E71,"")) | L71: =G71 -> 0 | M71: =IFERROR(L71*D71,"") -> 0 | N71: =IFERROR(IF(M71=0,"",IF(OR(M71-$E71>0,M71-$E71<0),(M71-$E71)/$E71,"")),"")
B72: משחקי גירוי תגובה (סכום גלובלי) | C72: 1 | D72: 3000 | E72: =D72*C72 -> 3000 | H72: =IFERROR(G72*D72,"") -> 0 | I72: =IF(H72=0,"",IF(OR(H72-$E72>0,H72-$E72<0),(H72-$E72)/$E72,"")) | L72: =G72 -> 0 | M72: =IFERROR(L72*D72,"") -> 0 | N72: =IFERROR(IF(M72=0,"",IF(OR(M72-$E72>0,M72-$E72<0),(M72-$E72)/$E72,"")),"")
B73: משחקי מרחב, בנייה והרכבה (סכום גלובלי) | C73: 1 | D73: 3500 | E73: =D73*C73 -> 3500 | H73: =IFERROR(G73*D73,"") -> 0 | I73: =IF(H73=0,"",IF(OR(H73-$E73>0,H73-$E73<0),(H73-$E73)/$E73,"")) | L73: =G73 -> 0 | M73: =IFERROR(L73*D73,"") -> 0 | N73: =IFERROR(IF(M73=0,"",IF(OR(M73-$E73>0,M73-$E73<0),(M73-$E73)/$E73,"")),"")
B74: משחקי חשיבה ואסטרטגיה (סכום גלובלי) | C74: 1 | D74: 3500 | E74: =D74*C74 -> 3500 | H74: =IFERROR(G74*D74,"") -> 0 | I74: =IF(H74=0,"",IF(OR(H74-$E74>0,H74-$E74<0),(H74-$E74)/$E74,"")) | L74: =G74 -> 0 | M74: =IFERROR(L74*D74,"") -> 0 | N74: =IFERROR(IF(M74=0,"",IF(OR(M74-$E74>0,M74-$E74<0),(M74-$E74)/$E74,"")),"")
B75: משחקי פנאי (סכום גלובלי) | C75: 1 | D75: 3500 | E75: =D75*C75 -> 3500 | H75: =IFERROR(G75*D75,"") -> 0 | I75: =IF(H75=0,"",IF(OR(H75-$E75>0,H75-$E75<0),(H75-$E75)/$E75,"")) | L75: =G75 -> 0 | M75: =IFERROR(L75*D75,"") -> 0 | N75: =IFERROR(IF(M75=0,"",IF(OR(M75-$E75>0,M75-$E75<0),(M75-$E75)/$E75,"")),"")
B76: משחקי מוטוריקה עדינה (סכום גלובלי) | C76: 1 | D76: 2000 | E76: =D76*C76 -> 2000 | H76: =IFERROR(G76*D76,"") -> 0 | I76: =IF(H76=0,"",IF(OR(H76-$E76>0,H76-$E76<0),(H76-$E76)/$E76,"")) | L76: =G76 -> 0 | M76: =IFERROR(L76*D76,"") -> 0 | N76: =IFERROR(IF(M76=0,"",IF(OR(M76-$E76>0,M76-$E76<0),(M76-$E76)/$E76,"")),"")
B77: משחקי ריצפה קבוצתיים ענקיים כמו: שחמט, דמקה, סולמות וחבלים וכו' (סכום גלובלי) | C77: 1 | D77: 1200 | E77: =D77*C77 -> 1200 | H77: =IFERROR(G77*D77,"") -> 0 | I77: =IF(H77=0,"",IF(OR(H77-$E77>0,H77-$E77<0),(H77-$E77)/$E77,"")) | L77: =G77 -> 0 | M77: =IFERROR(L77*D77,"") -> 0 | N77: =IFERROR(IF(M77=0,"",IF(OR(M77-$E77>0,M77-$E77<0),(M77-$E77)/$E77,"")),"")
B78: משחקי חשיבה לתלייה על קיר ומשחק בעמידה (סכום גלובלי) | C78: 3 | D78: 3000 | E78: =D78*C78 -> 9000 | H78: =IFERROR(G78*D78,"") -> 0 | I78: =IF(H78=0,"",IF(OR(H78-$E78>0,H78-$E78<0),(H78-$E78)/$E78,"")) | L78: =G78 -> 0 | M78: =IFERROR(L78*D78,"") -> 0 | N78: =IFERROR(IF(M78=0,"",IF(OR(M78-$E78>0,M78-$E78<0),(M78-$E78)/$E78,"")),"")
B79: ציוד מכשור טיפולי ושיקומי | G79: ציוד מכשור טיפולי ושיקומי | L79: ציוד מכשור טיפולי ושיקומי
B80: מכשיר גלים קצרים | C80: 1 | D80: 2000 | E80: =D80*C80 -> 2000 | H80: =IFERROR(G80*D80,"") -> 0 | I80: =IF(H80=0,"",IF(OR(H80-$E80>0,H80-$E80<0),(H80-$E80)/$E80,"")) | L80: =G80 -> 0 | M80: =IFERROR(L80*D80,"") -> 0 | N80: =IFERROR(IF(M80=0,"",IF(OR(M80-$E80>0,M80-$E80<0),(M80-$E80)/$E80,"")),"")
B81: מכשיר הידרוקולטור Hydrocollator + כריות חימום ייעודיות | C81: 1 | D81: 2500 | E81: =D81*C81 -> 2500 | H81: =IFERROR(G81*D81,"") -> 0 | I81: =IF(H81=0,"",IF(OR(H81-$E81>0,H81-$E81<0),(H81-$E81)/$E81,"")) | L81: =G81 -> 0 | M81: =IFERROR(L81*D81,"") -> 0 | N81: =IFERROR(IF(M81=0,"",IF(OR(M81-$E81>0,M81-$E81<0),(M81-$E81)/$E81,"")),"")
B82: מכשיר US אולטרסאונד טיפולי | C82: 1 | D82: 6500 | E82: =D82*C82 -> 6500 | H82: =IFERROR(G82*D82,"") -> 0 | I82: =IF(H82=0,"",IF(OR(H82-$E82>0,H82-$E82<0),(H82-$E82)/$E82,"")) | L82: =G82 -> 0 | M82: =IFERROR(L82*D82,"") -> 0 | N82: =IFERROR(IF(M82=0,"",IF(OR(M82-$E82>0,M82-$E82<0),(M82-$E82)/$E82,"")),"")
B83: ציוד הערכה בסיסי כמו: מד דופק, גוניומטר, סרט מדידה מקצועי (סכום גלובלי) | C83: 1 | D83: 500 | E83: =D83*C83 -> 500 | H83: =IFERROR(G83*D83,"") -> 0 | I83: =IF(H83=0,"",IF(OR(H83-$E83>0,H83-$E83<0),(H83-$E83)/$E83,"")) | L83: =G83 -> 0 | M83: =IFERROR(L83*D83,"") -> 0 | N83: =IFERROR(IF(M83=0,"",IF(OR(M83-$E83>0,M83-$E83<0),(M83-$E83)/$E83,"")),"")
B84: ציוד ADL ותחושה | G84: ציוד ADL ותחושה | L84: ציוד ADL ותחושה
B85: אביזרי ADL מותאמים כולל עזרי אכילה (סכום גלובלי) | C85: 1 | D85: 3000 | E85: =D85*C85 -> 3000 | H85: =IFERROR(G85*D85,"") -> 0 | I85: =IF(H85=0,"",IF(OR(H85-$E85>0,H85-$E85<0),(H85-$E85)/$E85,"")) | L85: =G85 -> 0 | M85: =IFERROR(L85*D85,"") -> 0 | N85: =IFERROR(IF(M85=0,"",IF(OR(M85-$E85>0,M85-$E85<0),(M85-$E85)/$E85,"")),"")
B86: אביזרי תחושה וגריה (סכום גלובלי) | C86: 1 | D86: 1500 | E86: =D86*C86 -> 1500 | H86: =IFERROR(G86*D86,"") -> 0 | I86: =IF(H86=0,"",IF(OR(H86-$E86>0,H86-$E86<0),(H86-$E86)/$E86,"")) | L86: =G86 -> 0 | M86: =IFERROR(L86*D86,"") -> 0 | N86: =IFERROR(IF(M86=0,"",IF(OR(M86-$E86>0,M86-$E86<0),(M86-$E86)/$E86,"")),"")
G87: סה"כ | H87: =SUM(H14:H86) -> 0 | L87: סה"כ | M87: =SUM(M14:M86) -> 0

Sheet מרחב חושי
B2: מרחב חושי (המחירים בש"ח וכוללים מע"מ)
B3: הוכן בסיוע חגית רובין, מרפאה בעיסוק, מורשית נגישות השירות
B4: המלצות הצטיידות ינתנו בשיתוף יועץ הביטוח הלאומי, מומחה לתחום הצטיידות מקצועות הבריאות.
B5: על המחירים לכלול מע"מ,הובלה והתקנה, במידת הצורך. על הגוף המבקש להוכיח שקיימים לו משאבים וכ"א נדרש להפעלת הציוד והפעילות המבוקשת.
B6: מערכות טכנולוגיות ושיקומיות יש לרכוש עם תקופת אחריות מקסימלית הניתנת על ידי הספק.
B7: הספק יתחייב לבדיקה תקופתית לתקינות המערכות בכל משך האחריות (אחת לשנה מתום השנה הראשונה).
B8: האישור לחדר זה מותנה בהעסקת עובד שקיבל הכשרה רשמית בתחום ובהכשרת חדר יעודי
B9: יש לסמן את הבקשה בסעיף "בקשת הגוף" בעמודת "כמות מבוקשת". כאשר הכמות המבוקשת חורגת מהכמות שהוגדרה בתקן יש לפרט ב"הערות הגוף" את הנימוקים לחריגה.
B11: תקן מרחב חושי | G11: בקשת הגוף | L11: אישור הבקשה ע"י מנהלת תכניות/יועץ הקרן
B12: פריטים | C12: כמות תקן למסגרת | D12: עלות ליחידה כולל מע"מ | E12: סך עלות כולל מע"מ | G12: כמות מבוקשת | H12: תקציב מבוקש כולל מע"מ | I12: סטייה מהתקן | J12: הערות הגוף | L12: כמות מאושרת | M12: תקציב מאושר כולל מע"מ | N12: סטייה מהתקן | O12: הערות יועץ
B13: אמצעים לגירוי וסטיבולרי ותנועתי: כדור פיזיו, גליל ספוג, כדורי תחושה ועיסוי | C13: 1 | D13: 1000 | E13: =C13*D13 -> 1000 | H13: =G13*D13 -> 0 | I13: =IF(H13=0,"",IF(OR(H13-$E13>0,H13-$E13<0),(H13-$E13)/$E13,"")) | L13: =G13 -> 0 | M13: =L13*D13 -> 0 | N13: =IFERROR(IF(M13=0,"",IF(OR(M13-$E13>0,M13-$E13<0),(M13-$E13)/$E13,"")),"")
B14: אמצעים לגירוי פרופריוספטיבי ותחושה עמוקה כגון: ווסט משקולות, שמיכת כובד, כדורי משקל | C14: 1 | D14: 1500 | E14: =C14*D14 -> 1500 | H14: =G14*D14 -> 0 | I14: =IF(H14=0,"",IF(OR(H14-$E14>0,H14-$E14<0),(H14-$E14)/$E14,"")) | L14: =G14 -> 0 | M14: =L14*D14 -> 0 | N14: =IFERROR(IF(M14=0,"",IF(OR(M14-$E14>0,M14-$E14<0),(M14-$E14)/$E14,"")),"")
B15: אמצעים לגירוי תחושת מגע כגון: משטחי תחושה, קיר טקסטורות, שטיח פעילות תחושתי עם אזורי מגע שונים, קופסאות תחושתיות | C15: 1 | D15: 3000 | E15: =C15*D15 -> 3000 | H15: =G15*D15 -> 0 | I15: =IF(H15=0,"",IF(OR(H15-$E15>0,H15-$E15<0),(H15-$E15)/$E15,"")) | L15: =G15 -> 0 | M15: =L15*D15 -> 0 | N15: =IFERROR(IF(M15=0,"",IF(OR(M15-$E15>0,M15-$E15<0),(M15-$E15)/$E15,"")),"")
B16: וילון להחשכת חדר מלאה | C16: 1 | D16: 1000 | E16: =C16*D16 -> 1000 | H16: =G16*D16 -> 0 | I16: =IF(H16=0,"",IF(OR(H16-$E16>0,H16-$E16<0),(H16-$E16)/$E16,"")) | L16: =G16 -> 0 | M16: =L16*D16 -> 0 | N16: =IFERROR(IF(M16=0,"",IF(OR(M16-$E16>0,M16-$E16<0),(M16-$E16)/$E16,"")),"")
B17: שטיח רצפה | C17: 1 | D17: 600 | E17: =C17*D17 -> 600 | H17: =G17*D17 -> 0 | I17: =IF(H17=0,"",IF(OR(H17-$E17>0,H17-$E17<0),(H17-$E17)/$E17,"")) | L17: =G17 -> 0 | M17: =L17*D17 -> 0 | N17: =IFERROR(IF(M17=0,"",IF(OR(M17-$E17>0,M17-$E17<0),(M17-$E17)/$E17,"")),"")
B18: פופים מסוגים שונים (סכום גלובלי) | C18: 3 | D18: 700 | E18: =C18*D18 -> 2100 | H18: =G18*D18 -> 0 | I18: =IF(H18=0,"",IF(OR(H18-$E18>0,H18-$E18<0),(H18-$E18)/$E18,"")) | L18: =G18 -> 0 | M18: =L18*D18 -> 0 | N18: =IFERROR(IF(M18=0,"",IF(OR(M18-$E18>0,M18-$E18<0),(M18-$E18)/$E18,"")),"")
B19: חדר סנוזלן | G19: חדר סנוזלן | L19: חדר סנוזלן
B20: ריפוד קירות ורצפה במזרונים (מחיר למ"ר) | C20: 50 | D20: 350 | E20: =C20*D20 -> 17500 | H20: =G20*D20 -> 0 | I20: =IF(H20=0,"",IF(OR(H20-$E20>0,H20-$E20<0),(H20-$E20)/$E20,"")) | L20: =G20 -> 0 | M20: =L20*D20 -> 0 | N20: =IFERROR(IF(M20=0,"",IF(OR(M20-$E20>0,M20-$E20<0),(M20-$E20)/$E20,"")),"")
B21: ארון איחסון לעזרים | C21: 1 | D21: 3000 | E21: =C21*D21 -> 3000 | H21: =G21*D21 -> 0 | I21: =IF(H21=0,"",IF(OR(H21-$E21>0,H21-$E21<0),(H21-$E21)/$E21,"")) | L21: =G21 -> 0 | M21: =L21*D21 -> 0 | N21: =IFERROR(IF(M21=0,"",IF(OR(M21-$E21>0,M21-$E21<0),(M21-$E21)/$E21,"")),"")
B22: מתקן פעילות ייעודי לסנוזלן | C22: 3 | D22: 2000 | E22: =C22*D22 -> 6000 | H22: =G22*D22 -> 0 | I22: =IF(H22=0,"",IF(OR(H22-$E22>0,H22-$E22<0),(H22-$E22)/$E22,"")) | L22: =G22 -> 0 | M22: =L22*D22 -> 0 | N22: =IFERROR(IF(M22=0,"",IF(OR(M22-$E22>0,M22-$E22<0),(M22-$E22)/$E22,"")),"")
B23: עמוד בועות + מראות + בסיס + מתגים | C23: 1 | D23: 13500 | E23: =C23*D23 -> 13500 | H23: =G23*D23 -> 0 | I23: =IF(H23=0,"",IF(OR(H23-$E23>0,H23-$E23<0),(H23-$E23)/$E23,"")) | L23: =G23 -> 0 | M23: =L23*D23 -> 0 | N23: =IFERROR(IF(M23=0,"",IF(OR(M23-$E23>0,M23-$E23<0),(M23-$E23)/$E23,"")),"")
B24: סיבים אופטיים + מקרן + מסרק לסיבים | C24: 1 | D24: 7000 | E24: =C24*D24 -> 7000 | H24: =G24*D24 -> 0 | I24: =IF(H24=0,"",IF(OR(H24-$E24>0,H24-$E24<0),(H24-$E24)/$E24,"")) | L24: =G24 -> 0 | M24: =L24*D24 -> 0 | N24: =IFERROR(IF(M24=0,"",IF(OR(M24-$E24>0,M24-$E24<0),(M24-$E24)/$E24,"")),"")
B25: פאנל קיר אינטראקטיבי | C25: 1 | D25: 9000 | E25: =C25*D25 -> 9000 | H25: =G25*D25 -> 0 | I25: =IF(H25=0,"",IF(OR(H25-$E25>0,H25-$E25<0),(H25-$E25)/$E25,"")) | L25: =G25 -> 0 | M25: =L25*D25 -> 0 | N25: =IFERROR(IF(M25=0,"",IF(OR(M25-$E25>0,M25-$E25<0),(M25-$E25)/$E25,"")),"")
B26: מנהרת אורות לד | C26: 1 | D26: 5500 | E26: =C26*D26 -> 5500 | H26: =G26*D26 -> 0 | I26: =IF(H26=0,"",IF(OR(H26-$E26>0,H26-$E26<0),(H26-$E26)/$E26,"")) | L26: =G26 -> 0 | M26: =L26*D26 -> 0 | N26: =IFERROR(IF(M26=0,"",IF(OR(M26-$E26>0,M26-$E26<0),(M26-$E26)/$E26,"")),"")
B27: בריכת כדורים אינטראקטיבית | C27: 1 | D27: 6500 | E27: =C27*D27 -> 6500 | H27: =G27*D27 -> 0 | I27: =IF(H27=0,"",IF(OR(H27-$E27>0,H27-$E27<0),(H27-$E27)/$E27,"")) | L27: =G27 -> 0 | M27: =L27*D27 -> 0 | N27: =IFERROR(IF(M27=0,"",IF(OR(M27-$E27>0,M27-$E27<0),(M27-$E27)/$E27,"")),"")
B28: התקנת ציוד ומערכת חשמל מותאמת | C28: 1 | D28: 7500 | E28: =C28*D28 -> 7500 | H28: =G28*D28 -> 0 | I28: =IF(H28=0,"",IF(OR(H28-$E28>0,H28-$E28<0),(H28-$E28)/$E28,"")) | L28: =G28 -> 0 | M28: =L28*D28 -> 0 | N28: =IFERROR(IF(M28=0,"",IF(OR(M28-$E28>0,M28-$E28<0),(M28-$E28)/$E28,"")),"")
B29: ערכת סנוזלן ניידת | C29: 1 | D29: 25000 | E29: =C29*D29 -> 25000 | H29: =G29*D29 -> 0 | I29: =IF(H29=0,"",IF(OR(H29-$E29>0,H29-$E29<0),(H29-$E29)/$E29,"")) | L29: =G29 -> 0 | M29: =L29*D29 -> 0 | N29: =IFERROR(IF(M29=0,"",IF(OR(M29-$E29>0,M29-$E29<0),(M29-$E29)/$E29,"")),"")
G30: סה"כ | H30: =SUM(H13:H29) -> 0 | L30: סה"כ | M30: =SUM(M13:M29) -> 0

Sheet גינון טיפולי וחממה
B2: גינון טיפולי וחממה
B3: הוכן בסיוע חגית רובין, מרפאה בעיסוק, מורשית נגישות השירות
B4: המלצות הצטיידות ינתנו בשיתוף יועץ הביטוח הלאומי, מומחה לתחום הצטיידות מקצועות הבריאות.
B5: חממה/גינה טיפולית תאושר כאשר יש שטח ייעודי. עלות והרכב החממה או הגינה הטיפולית בהתאם לגודל השטח הייעודי ומסגרת התקציב.
B6: באחריות המרכז לבדוק האם יש צורך באישור מיוחד ו/או היתר בנייה ולפעול בהתאם.
B7: על המחירים לכלול מע"מ, הובלה והתקנה, במידת הצורך. על הגוף המבקש להוכיח שקיימים לו משאבים וכ"א נדרש להפעלת הפעילות המבוקשת.
B8: יש לרשום בטבלה את הצעות המחיר ובנוסף, להגיש ליועץ שתי הצעות מחיר עבור ציוד שעלותו עד 20,000 ₪, ושלוש הצעות מחיר עבור ציוד שעלותו גבוהה מ-20,000 ₪.
B9: המערכת מחשבת באופן אוטומטי את עלות הציוד בהתאם להצעת המחיר הזולה ביותר.
B10: אם קיים צורך לבחור בהצעת מחיר שאינה הזולה ביותר, יש לסמן את ההצעה המבוקשת בעמודה "בקשת מחיר חריג" ובמקרה זה, עלות הציוד תחושב בהתאם להצעת המחיר שנבחרה.
B12: תקן ציוד לגינון טיפולי וחממה (המחירים בש"ח וכוללים מע"מ) | K12: אישור הבקשה ע"י מנהלת תכניות/יועץ הקרן
B13: תיאור הפריט | C13: כמות מבוקשת | D13: הצעת מחיר א' | E13: הצעת מחיר ב' | F13: הצעת מחיר ג' | G13: בקשת מחיר חריג (כשהצעת מחיר המבוקשת אינה הזולה ביותר) | H13: סך עלות הבקשה | I13: הסבר הגוף לבקשה | K13: כמות מאושרת | L13: אישור מחיר חריג | M13: תקציב מאושר | N13: הערות
B14: ציוד כללי לגינון טיפולי | K14: ציוד כללי לגינון טיפולי
B15: אדניות ניידות עם גלגלים ונעילה | H15: =IF(G15="",(MIN($D15:$F15))*C15,IF(G15="הצעה א",D15*C15,IF(G15="הצעה ב",E15*C15,F15*C15))) -> 0 | K15: =C15 -> 0 | M15: =IFERROR(IF(L15="מאושר",K15*H15/C15,K15*MIN(D15:G15)),0) -> 0
B16: אדניות מוגבהות כשגובה עבודה מותאם ישיבה/עמידה | H16: =IF(G16="",(MIN($D16:$F16))*C16,IF(G16="הצעה א",D16*C16,IF(G16="הצעה ב",E16*C16,F16*C16))) -> 0 | K16: =C16 -> 0 | M16: =IFERROR(IF(L16="מאושר",K16*H16/C16,K16*MIN(D16:G16)),0) -> 0
B17: שולחנות גינון טיפוליים נגישים לכיסאות גלגלים | H17: =IF(G17="",(MIN($D17:$F17))*C17,IF(G17="הצעה א",D17*C17,IF(G17="הצעה ב",E17*C17,F17*C17))) -> 0 | K17: =C17 -> 0 | M17: =IFERROR(IF(L17="מאושר",K17*H17/C17,K17*MIN(D17:G17)),0) -> 0
B18: כיסאות עבודה: כסאות יציבים עם משענת, כיסאות נמוכים מותאמים לעבודה ליד אדניות | H18: =IF(G18="",(MIN($D18:$F18))*C18,IF(G18="הצעה א",D18*C18,IF(G18="הצעה ב",E18*C18,F18*C18))) -> 0 | K18: =C18 -> 0 | M18: =IFERROR(IF(L18="מאושר",K18*H18/C18,K18*MIN(D18:G18)),0) -> 0
B19: כלי גינון מותאמים כמו: ידיות עבות/מרופדות, מנגנון קפיץ קל, כפפות עבודה במידות שונות, משפכים קלי משקל עם ידית רחבה, מרססי מים ידניים ועוד | H19: =IF(G19="",(MIN($D19:$F19))*C19,IF(G19="הצעה א",D19*C19,IF(G19="הצעה ב",E19*C19,F19*C19))) -> 0 | K19: =C19 -> 0 | M19: =IFERROR(IF(L19="מאושר",K19*H19/C19,K19*MIN(D19:G19)),0) -> 0
B20: מערכת השקיה לערוגות/אדניות | H20: =IF(G20="",(MIN($D20:$F20))*C20,IF(G20="הצעה א",D20*C20,IF(G20="הצעה ב",E20*C20,F20*C20))) -> 0 | K20: =C20 -> 0 | M20: =IFERROR(IF(L20="מאושר",K20*H20/C20,K20*MIN(D20:G20)),0) -> 0
B21: משטחי עבודה מונעי החלקה | H21: =IF(G21="",(MIN($D21:$F21))*C21,IF(G21="הצעה א",D21*C21,IF(G21="הצעה ב",E21*C21,F21*C21))) -> 0 | K21: =C21 -> 0 | M21: =IFERROR(IF(L21="מאושר",K21*H21/C21,K21*MIN(D21:G21)),0) -> 0
B22: עגלת ציוד ניידת מרכזית | H22: =IF(G22="",(MIN($D22:$F22))*C22,IF(G22="הצעה א",D22*C22,IF(G22="הצעה ב",E22*C22,F22*C22))) -> 0 | K22: =C22 -> 0 | M22: =IFERROR(IF(L22="מאושר",K22*H22/C22,K22*MIN(D22:G22)),0) -> 0
B23: קיר ירוק | H23: =IF(G23="",(MIN($D23:$F23))*C23,IF(G23="הצעה א",D23*C23,IF(G23="הצעה ב",E23*C23,F23*C23))) -> 0 | K23: =C23 -> 0 | M23: =IFERROR(IF(L23="מאושר",K23*H23/C23,K23*MIN(D23:G23)),0) -> 0
H24: =IF(G24="",(MIN($D24:$F24))*C24,IF(G24="הצעה א",D24*C24,IF(G24="הצעה ב",E24*C24,F24*C24))) -> 0 | K24: =C24 -> 0 | M24: =IFERROR(IF(L24="מאושר",K24*H24/C24,K24*MIN(D24:G24)),0) -> 0
H25: =IF(G25="",(MIN($D25:$F25))*C25,IF(G25="הצעה א",D25*C25,IF(G25="הצעה ב",E25*C25,F25*C25))) -> 0 | K25: =C25 -> 0 | M25: =IFERROR(IF(L25="מאושר",K25*H25/C25,K25*MIN(D25:G25)),0) -> 0
H26: =IF(G26="",(MIN($D26:$F26))*C26,IF(G26="הצעה א",D26*C26,IF(G26="הצעה ב",E26*C26,F26*C26))) -> 0 | K26: =C26 -> 0 | M26: =IFERROR(IF(L26="מאושר",K26*H26/C26,K26*MIN(D26:G26)),0) -> 0
H27: =IF(G27="",(MIN($D27:$F27))*C27,IF(G27="הצעה א",D27*C27,IF(G27="הצעה ב",E27*C27,F27*C27))) -> 0 | K27: =C27 -> 0 | M27: =IFERROR(IF(L27="מאושר",K27*H27/C27,K27*MIN(D27:G27)),0) -> 0
H28: =IF(G28="",(MIN($D28:$F28))*C28,IF(G28="הצעה א",D28*C28,IF(G28="הצעה ב",E28*C28,F28*C28))) -> 0 | K28: =C28 -> 0 | M28: =IFERROR(IF(L28="מאושר",K28*H28/C28,K28*MIN(D28:G28)),0) -> 0
B29: ציוד כללי לחממה | K29: ציוד כללי לחממה
B30: שלד חממה מפרופיל ברזל מגולוון, מידות 8×5 מ’ | H30: =IF(G30="",(MIN($D30:$F30))*C30,IF(G30="הצעה א",D30*C30,IF(G30="הצעה ב",E30*C30,F30*C30))) -> 0 | K30: =C30 -> 0 | M30: =IFERROR(IF(L30="מאושר",K30*H30/C30,K30*MIN(D30:G30)),0) -> 0
B31: קירוי+ וילונות/תריסים - כיסוי מלא עם פתחי איוורור הסגורים בתריסים | H31: =IF(G31="",(MIN($D31:$F31))*C31,IF(G31="הצעה א",D31*C31,IF(G31="הצעה ב",E31*C31,F31*C31))) -> 0 | K31: =C31 -> 0 | M31: =IFERROR(IF(L31="מאושר",K31*H31/C31,K31*MIN(D31:G31)),0) -> 0
B32: שולחנות גידול מפרופיל ברזל מגולוון מכוסה בפנל פלסטיק | H32: =IF(G32="",(MIN($D32:$F32))*C32,IF(G32="הצעה א",D32*C32,IF(G32="הצעה ב",E32*C32,F32*C32))) -> 0 | K32: =C32 -> 0 | M32: =IFERROR(IF(L32="מאושר",K32*H32/C32,K32*MIN(D32:G32)),0) -> 0
B33: רשת תרמית | H33: =IF(G33="",(MIN($D33:$F33))*C33,IF(G33="הצעה א",D33*C33,IF(G33="הצעה ב",E33*C33,F33*C33))) -> 0 | K33: =C33 -> 0 | M33: =IFERROR(IF(L33="מאושר",K33*H33/C33,K33*MIN(D33:G33)),0) -> 0
B34: מערכת השקיה עם מחשב השקיה | H34: =IF(G34="",(MIN($D34:$F34))*C34,IF(G34="הצעה א",D34*C34,IF(G34="הצעה ב",E34*C34,F34*C34))) -> 0 | K34: =C34 -> 0 | M34: =IFERROR(IF(L34="מאושר",K34*H34/C34,K34*MIN(D34:G34)),0) -> 0
B35: שולחן השרשה | H35: =IF(G35="",(MIN($D35:$F35))*C35,IF(G35="הצעה א",D35*C35,IF(G35="הצעה ב",E35*C35,F35*C35))) -> 0 | K35: =C35 -> 0 | M35: =IFERROR(IF(L35="מאושר",K35*H35/C35,K35*MIN(D35:G35)),0) -> 0
B36: מערכת אוורור | H36: =IF(G36="",(MIN($D36:$F36))*C36,IF(G36="הצעה א",D36*C36,IF(G36="הצעה ב",E36*C36,F36*C36))) -> 0 | K36: =C36 -> 0 | M36: =IFERROR(IF(L36="מאושר",K36*H36/C36,K36*MIN(D36:G36)),0) -> 0
B37: ארון חשמל מוגן מים | H37: =IF(G37="",(MIN($D37:$F37))*C37,IF(G37="הצעה א",D37*C37,IF(G37="הצעה ב",E37*C37,F37*C37))) -> 0 | K37: =C37 -> 0 | M37: =IFERROR(IF(L37="מאושר",K37*H37/C37,K37*MIN(D37:G37)),0) -> 0
B38: אביזרי עזר לשימוש בחממה | H38: =IF(G38="",(MIN($D38:$F38))*C38,IF(G38="הצעה א",D38*C38,IF(G38="הצעה ב",E38*C38,F38*C38))) -> 0 | K38: =C38 -> 0 | M38: =IFERROR(IF(L38="מאושר",K38*H38/C38,K38*MIN(D38:G38)),0) -> 0
B39: ארון לאחסון ציוד | H39: =IF(G39="",(MIN($D39:$F39))*C39,IF(G39="הצעה א",D39*C39,IF(G39="הצעה ב",E39*C39,F39*C39))) -> 0 | K39: =C39 -> 0 | M39: =IFERROR(IF(L39="מאושר",K39*H39/C39,K39*MIN(D39:G39)),0) -> 0
B40: הובלה ובניית המבנה | H40: =IF(G40="",(MIN($D40:$F40))*C40,IF(G40="הצעה א",D40*C40,IF(G40="הצעה ב",E40*C40,F40*C40))) -> 0 | K40: =C40 -> 0 | M40: =IFERROR(IF(L40="מאושר",K40*H40/C40,K40*MIN(D40:G40)),0) -> 0
B41: ספסל | H41: =IF(G41="",(MIN($D41:$F41))*C41,IF(G41="הצעה א",D41*C41,IF(G41="הצעה ב",E41*C41,F41*C41))) -> 0 | K41: =C41 -> 0 | M41: =IFERROR(IF(L41="מאושר",K41*H41/C41,K41*MIN(D41:G41)),0) -> 0
... B47: כסאות מותאמים עם תמיכות | H47: =IF(G47="",(MIN($D47:$F47))*C47,IF(G47="הצעה א",D47*C47,IF(G47="הצעה ב",E47*C47,F47*C47))) -> 0 | K47: =C47 -> 0 | M47: =IFERROR(IF(L47="מאושר",K47*H47/C47,K47*MIN(D47:G47)),0) -> 0
H48: =IF(G48="",(MIN($D48:$F48))*C48,IF(G48="הצעה א",D48*C48,IF(G48="הצעה ב",E48*C48,F48*C48))) -> 0 | K48: =C48 -> 0 | M48: =IFERROR(IF(L48="מאושר",K48*H48/C48,K48*MIN(D48:G48)),0) -> 0
H49: =IF(G49="",(MIN($D49:$F49))*C49,IF(G49="הצעה א",D49*C49,IF(G49="הצעה ב",E49*C49,F49*C49))) -> 0 | K49: =C49 -> 0 | M49: =IFERROR(IF(L49="מאושר",K49*H49/C49,K49*MIN(D49:G49)),0) -> 0
H50: =IF(G50="",(MIN($D50:$F50))*C50,IF(G50="הצעה א",D50*C50,IF(G50="הצעה ב",E50*C50,F50*C50))) -> 0 | K50: =C50 -> 0 | M50: =IFERROR(IF(L50="מאושר",K50*H50/C50,K50*MIN(D50:G50)),0) -> 0
H51: =IF(G51="",(MIN($D51:$F51))*C51,IF(G51="הצעה א",D51*C51,IF(G51="הצעה ב",E51*C51,F51*C51))) -> 0 | K51: =C51 -> 0 | M51: =IFERROR(IF(L51="מאושר",K51*H51/C51,K51*MIN(D51:G51)),0) -> 0
H52: =IF(G52="",(MIN($D52:$F52))*C52,IF(G52="הצעה א",D52*C52,IF(G52="הצעה ב",E52*C52,F52*C52))) -> 0 | K52: =C52 -> 0 | M52: =IFERROR(IF(L52="מאושר",K52*H52/C52,K52*MIN(D52:G52)),0) -> 0
G53: סה"כ | H53: =SUM(H15:H52) -> 0 | L53: סה"כ | M53: =SUM(M15:M52) -> 0

Sheet חוגים
B2: תקן הצטיידות לחוגים (המחירים בש"ח וכוללים מע"מ)
B3: הוכן בסיוע צבי רובינשטיין, יועץ לקרנות הביטוח הלאומי
B4: לפניך טבלה המכילה דוגמאות לאפשרויות של חוגים, ניתן להוסיף חוגים אחרים ולפרט את שם החוג. תקציב התקן הינו סכום גלובלי.
B5: על המחירים לכלול מע"מ,הובלה והתקנה, במידת הצורך. על הגוף המבקש להוכיח שקיימים לו משאבים וכ"א נדרש להפעלת הציוד והפעילות המבוקשת.
B6: תקציב החוג הוא לציוד בלבד ואינו כולל כוח אדם, הפעלה וחומרים מתכלים.
B7: יש לסמן את הבקשה בסעיף "בקשת הגוף" בעמודת "כמות מבוקשת". כאשר הכמות המבוקשת חורגת מהכמות שהוגדרה בתקן יש לפרט ב"הערות הגוף" את הנימוקים לחריגה.
B9: תקן חוגים | G9: בקשת הגוף | L9: אישור הבקשה ע"י מנהלת תכניות/יועץ הקרן
B10: פריטים | C10: כמות תקן למסגרת | D10: עלות ליחידה כולל מע"מ | E10: סך עלות כולל מע"מ | G10: כמות מבוקשת | H10: תקציב מבוקש | I10: סטייה מהתקן | J10: הערות הגוף המבקש | L10: כמות מאושרת | M10: תקציב מאושר כולל מע"מ | N10: סטייה מהתקן | O10: הערות
B11: חוג אפייה/בישול | C11: 1 | D11: 5000 | E11: =C11*D11 -> 5000 | H11: =G11*D11 -> 0 | I11: =IF(H11=0,"",IF(OR(H11-$E11>0,H11-$E11<0),(H11-$E11)/$E11,"")) | L11: =G11 -> 0 | M11: =L11*D11 -> 0 | N11: =IFERROR(IF(M11=0,"",IF(OR(M11-$E11>0,M11-$E11<0),(M11-$E11)/$E11,"")),"")
B12: חוג ספורט | C12: 1 | D12: 5000 | E12: =C12*D12 -> 5000 | H12: =G12*D12 -> 0 | I12: =IF(H12=0,"",IF(OR(H12-$E12>0,H12-$E12<0),(H12-$E12)/$E12,"")) | L12: =G12 -> 0 | M12: =L12*D12 -> 0 | N12: =IFERROR(IF(M12=0,"",IF(OR(M12-$E12>0,M12-$E12<0),(M12-$E12)/$E12,"")),"")
B13: חוג אמנות/יצירה | C13: 1 | D13: 5000 | E13: =C13*D13 -> 5000 | H13: =G13*D13 -> 0 | I13: =IF(H13=0,"",IF(OR(H13-$E13>0,H13-$E13<0),(H13-$E13)/$E13,"")) | L13: =G13 -> 0 | M13: =L13*D13 -> 0 | N13: =IFERROR(IF(M13=0,"",IF(OR(M13-$E13>0,M13-$E13<0),(M13-$E13)/$E13,"")),"")
B14: חוג אוריינות דיגיטלית | C14: 1 | D14: 5000 | E14: =C14*D14 -> 5000 | H14: =G14*D14 -> 0 | I14: =IF(H14=0,"",IF(OR(H14-$E14>0,H14-$E14<0),(H14-$E14)/$E14,"")) | L14: =G14 -> 0 | M14: =L14*D14 -> 0 | N14: =IFERROR(IF(M14=0,"",IF(OR(M14-$E14>0,M14-$E14<0),(M14-$E14)/$E14,"")),"")
B15: מוזיקה | C15: 1 | D15: 5000 | E15: =C15*D15 -> 5000 | H15: =G15*D15 -> 0 | I15: =IF(H15=0,"",IF(OR(H15-$E15>0,H15-$E15<0),(H15-$E15)/$E15,"")) | L15: =G15 -> 0 | M15: =L15*D15 -> 0 | N15: =IFERROR(IF(M15=0,"",IF(OR(M15-$E15>0,M15-$E15<0),(M15-$E15)/$E15,"")),"")
B16: חוג קרמיקה | C16: 1 | D16: 20000 | E16: =C16*D16 -> 20000 | H16: =G16*D16 -> 0 | I16: =IF(H16=0,"",IF(OR(H16-$E16>0,H16-$E16<0),(H16-$E16)/$E16,"")) | L16: =G16 -> 0 | M16: =L16*D16 -> 0 | N16: =IFERROR(IF(M16=0,"",IF(OR(M16-$E16>0,M16-$E16<0),(M16-$E16)/$E16,"")),"")
B17: חוג עיצוב וייצור מוצרים במדפסת תלת מימד (נדרש מדריך בעל ידע מוכח בעיצוב גרפי ו/או בעיצוב המוצר ובהפעלת הציוד לא ימומנו סלילי הדפסה) | C17: 1 | D17: 5000 | E17: =C17*D17 -> 5000 | H17: =G17*D17 -> 0 | I17: =IF(H17=0,"",IF(OR(H17-$E17>0,H17-$E17<0),(H17-$E17)/$E17,"")) | L17: =G17 -> 0 | M17: =L17*D17 -> 0 | N17: =IFERROR(IF(M17=0,"",IF(OR(M17-$E17>0,M17-$E17<0),(M17-$E17)/$E17,"")),"")
B18: חוג אחר - יש למלא | C18: 1 | D18: 5000 | E18: =C18*D18 -> 5000 | H18: =G18*D18 -> 0 | I18: =IF(H18=0,"",IF(OR(H18-$E18>0,H18-$E18<0),(H18-$E18)/$E18,"")) | L18: =G18 -> 0 | M18: =L18*D18 -> 0 | N18: =IFERROR(IF(M18=0,"",IF(OR(M18-$E18>0,M18-$E18<0),(M18-$E18)/$E18,"")),"")
B19: חוג אחר - יש למלא | C19: 1 | D19: 5000 | E19: =C19*D19 -> 5000 | H19: =G19*D19 -> 0 | I19: =IF(H19=0,"",IF(OR(H19-$E19>0,H19-$E19<0),(H19-$E19)/$E19,"")) | L19: =G19 -> 0 | M19: =L19*D19 -> 0 | N19: =IFERROR(IF(M19=0,"",IF(OR(M19-$E19>0,M19-$E19<0),(M19-$E19)/$E19,"")),"")
B20: חוג אחר - יש למלא | C20: 1 | D20: 5000 | E20: =C20*D20 -> 5000 | H20: =G20*D20 -> 0 | I20: =IF(H20=0,"",IF(OR(H20-$E20>0,H20-$E20<0),(H20-$E20)/$E20,"")) | L20: =G20 -> 0 | M20: =L20*D20 -> 0 | N20: =IFERROR(IF(M20=0,"",IF(OR(M20-$E20>0,M20-$E20<0),(M20-$E20)/$E20,"")),"")
G21: סה"כ | H21: =SUM(H11:H18) -> 0 | L21: סה"כ | M21: =SUM(M11:M18) -> 0

Sheet עם הפנים לקהילה
B2: עם הפנים לקהילה (המחירים בש"ח וכוללים מע"מ)
B3: הוכן בסיוע צבי רובינשטיין, יועץ לקרנות הביטוח הלאומי
B4: גיליון זה נועד להציג רעיונות אפשריים ליצירת מוקד משיכה ושיתוף פעולה בין מרכז היום לקהילה ולסייע בחיבור בין-דורי ( לדוגמא - מתקני משחק לילדים).
B5: על המחירים לכלול מע"מ,הובלה והתקנה, במידת הצורך. על הגוף המבקש להוכיח שקיימים לו משאבים וכ"א נדרש להפעלת הציוד והפעילות המבוקשת.
B6: התקציב הוא להצטיידות בלבד ואינו כולל כוח אדם, הפעלה וחומרים מתכלים.
B7: יש לסמן את הבקשה בסעיף "בקשת הגוף" בעמודת "כמות מבוקשת". כאשר הכמות המבוקשת חורגת מהכמות שהוגדרה בתקן יש לפרט ב"הערות הגוף" את הנימוקים לחריגה
B8: ניתן להגיש ציוד נוסף ( לדוגמה: מסלול צעידה בחוץ, פארק פעילות חיצוני עם מתקנים לשיפור תפקודים פיזיים וקוגניטיביים) ולהוסיפו בגיליון ציוד ייעודי עפ"י ההנחיות.
B10: תקן עם הפנים לקהילה | G10: בקשת הגוף | L10: אישור הבקשה ע"י מנהלת תכניות/יועץ הקרן
B11: פריטים | C11: כמות תקן למסגרת | D11: עלות ליחידה כולל מע"מ | E11: סך עלות כולל מע"מ | G11: כמות מבוקשת | H11: תקציב מבוקש כולל מע"מ | I11: סטייה מהתקן | J11: הערות הגוף | L11: כמות מאושרת | M11: תקציב מאושר כולל מע"מ | N11: סטייה מהתקן | O11: הערות יועץ
B12: פינת קפה וציוד נילווה | C12: 1 | D12: 35000 | E12: =D12*C12 -> 35000 | H12: =G12*D12 -> 0 | I12: =IF(H12=0,"",IF(OR(H12-$E12>0,H12-$E12<0),(H12-$E12)/$E12,"")) | L12: =G12 -> 0 | M12: =L12*D12 -> 0 | N12: =IFERROR(IF(M12=0,"",IF(OR(M12-$E12>0,M12-$E12<0),(M12-$E12)/$E12,"")),"")
B13: מתקני משחקים לילדים בחצר | C13: 1 | D13: 15000 | E13: =D13*C13 -> 15000 | H13: =G13*D13 -> 0 | I13: =IF(H13=0,"",IF(OR(H13-$E13>0,H13-$E13<0),(H13-$E13)/$E13,"")) | L13: =G13 -> 0 | M13: =L13*D13 -> 0 | N13: =IFERROR(IF(M13=0,"",IF(OR(M13-$E13>0,M13-$E13<0),(M13-$E13)/$E13,"")),"")
G14: סה"כ | H14: =SUM(H2:H13) -> 0 | L14: סה"כ | M14: =SUM(M2:M13) -> 0

Sheet פנאי וטכנולוגיה מסייעת
B2: פנאי וטכנולוגיה מסייעת (המחירים בש"ח וכוללים מע"מ)
B3: הוכן בסיוע חגית רובין, מרפאה בעיסוק, מורשית נגישות השירות
B4: המלצות הצטיידות ינתנו בשיתוף יועץ הביטוח הלאומי, מומחה לתחום מקצועות הבריאות.
B5: על המחירים לכלול מע"מ,הובלה והתקנה, במידת הצורך. על הגוף המבקש להוכיח שקיימים לו משאבים וכ"א נדרש להפעלת הציוד והפעילות המבוקשת.
B6: יש לסמן את הבקשה בסעיף "בקשת הגוף" בעמודת "כמות מבוקשת". כאשר הכמות המבוקשת חורגת מהכמות שהוגדרה בתקן יש לפרט ב"הערות הגוף" את הנימוקים לחריגה
B8: תקן פנאי וטכנולוגיה מסייעת | G8: בקשת הגוף | L8: אישור הבקשה ע"י מנהלת תכניות/יועץ הקרן
B9: פריטים | C9: כמות תקן למסגרת | D9: עלות ליחידה כולל מע"מ | E9: סך עלות כולל מע"מ | G9: כמות מבוקשת | H9: תקציב מבוקש כולל מע"מ | I9: סטייה מהתקן | J9: הערות הגוף | L9: כמות מאושרת | M9: תקציב מאושר כולל מע"מ | N9: סטייה מהתקן | O9: הערות יועץ
B10: לוח מחיק נייד | C10: 1 | D10: 700 | E10: =C10*D10 -> 700 | H10: =G10*D10 -> 0 | I10: =IF(H10=0,"",IF(OR(H10-$E10>0,H10-$E10<0),(H10-$E10)/$E10,"")) | L10: =G10 -> 0 | M10: =IFERROR(L10*D10,"") -> 0 | N10: =IFERROR(IF(M10=0,"",IF(OR(M10-$E10>0,M10-$E10<0),(M10-$E10)/$E10,"")),"")
B11: משחקי גירוי תגובה (סכום גלובלי) | C11: 1 | D11: 3000 | E11: =C11*D11 -> 3000 | H11: =G11*D11 -> 0 | I11: =IF(H11=0,"",IF(OR(H11-$E11>0,H11-$E11<0),(H11-$E11)/$E11,"")) | L11: =G11 -> 0 | M11: =IFERROR(L11*D11,"") -> 0 | N11: =IFERROR(IF(M11=0,"",IF(OR(M11-$E11>0,M11-$E11<0),(M11-$E11)/$E11,"")),"")
B12: משחקי מרחב, בנייה והרכבה (סכום גלובלי) | C12: 1 | D12: 3500 | E12: =C12*D12 -> 3500 | H12: =G12*D12 -> 0 | I12: =IF(H12=0,"",IF(OR(H12-$E12>0,H12-$E12<0),(H12-$E12)/$E12,"")) | L12: =G12 -> 0 | M12: =IFERROR(L12*D12,"") -> 0 | N12: =IFERROR(IF(M12=0,"",IF(OR(M12-$E12>0,M12-$E12<0),(M12-$E12)/$E12,"")),"")
B13: משחקי חשיבה ואסטרטגיה (סכום גלובלי) | C13: 1 | D13: 3500 | E13: =C13*D13 -> 3500 | H13: =G13*D13 -> 0 | I13: =IF(H13=0,"",IF(OR(H13-$E13>0,H13-$E13<0),(H13-$E13)/$E13,"")) | L13: =G13 -> 0 | M13: =IFERROR(L13*D13,"") -> 0 | N13: =IFERROR(IF(M13=0,"",IF(OR(M13-$E13>0,M13-$E13<0),(M13-$E13)/$E13,"")),"")
B14: משחקי פנאי (סכום גלובלי) | C14: 1 | D14: 3500 | E14: =C14*D14 -> 3500 | H14: =G14*D14 -> 0 | I14: =IF(H14=0,"",IF(OR(H14-$E14>0,H14-$E14<0),(H14-$E14)/$E14,"")) | L14: =G14 -> 0 | M14: =IFERROR(L14*D14,"") -> 0 | N14: =IFERROR(IF(M14=0,"",IF(OR(M14-$E14>0,M14-$E14<0),(M14-$E14)/$E14,"")),"")
B15: משחקי מוטוריקה עדינה (סכום גלובלי) | C15: 1 | D15: 2000 | E15: =C15*D15 -> 2000 | H15: =G15*D15 -> 0 | I15: =IF(H15=0,"",IF(OR(H15-$E15>0,H15-$E15<0),(H15-$E15)/$E15,"")) | L15: =G15 -> 0 | M15: =IFERROR(L15*D15,"") -> 0 | N15: =IFERROR(IF(M15=0,"",IF(OR(M15-$E15>0,M15-$E15<0),(M15-$E15)/$E15,"")),"")
B16: משחקי ריצפה קבוצתיים ענקיים כמו: שחמט, דמקה, סולמות וחבלים וכו' (סכום גלובלי) | C16: 1 | D16: 1200 | E16: =C16*D16 -> 1200 | H16: =G16*D16 -> 0 | I16: =IF(H16=0,"",IF(OR(H16-$E16>0,H16-$E16<0),(H16-$E16)/$E16,"")) | L16: =G16 -> 0 | M16: =IFERROR(L16*D16,"") -> 0 | N16: =IFERROR(IF(M16=0,"",IF(OR(M16-$E16>0,M16-$E16<0),(M16-$E16)/$E16,"")),"")
B17: משחקי חשיבה מקובעים לקיר למשחק בעמידה (סכום גלובלי) | C17: 1 | D17: 4000 | E17: =C17*D17 -> 4000 | H17: =G17*D17 -> 0 | I17: =IF(H17=0,"",IF(OR(H17-$E17>0,H17-$E17<0),(H17-$E17)/$E17,"")) | L17: =G17 -> 0 | M17: =IFERROR(L17*D17,"") -> 0 | N17: =IFERROR(IF(M17=0,"",IF(OR(M17-$E17>0,M17-$E17<0),(M17-$E17)/$E17,"")),"")
B18: מקלדת עם אותיות גדולות וניגודיות גבוהה לסיוע עבור אנשים עם מוגבלות בראיה ומוגבלות קוגניטיבית | C18: 1 | D18: 600 | E18: =C18*D18 -> 600 | H18: =G18*D18 -> 0 | I18: =IF(H18=0,"",IF(OR(H18-$E18>0,H18-$E18<0),(H18-$E18)/$E18,"")) | L18: =G18 -> 0 | M18: =IFERROR(L18*D18,"") -> 0 | N18: =IFERROR(IF(M18=0,"",IF(OR(M18-$E18>0,M18-$E18<0),(M18-$E18)/$E18,"")),"")
B19: טאבלט מסוג אנדרואיד כולל מגן מסך וכבל הטענה | C19: 5 | D19: 1500 | E19: =C19*D19 -> 7500 | H19: =G19*D19 -> 0 | I19: =IF(H19=0,"",IF(OR(H19-$E19>0,H19-$E19<0),(H19-$E19)/$E19,"")) | L19: =G19 -> 0 | M19: =IFERROR(L19*D19,"") -> 0 | N19: =IFERROR(IF(M19=0,"",IF(OR(M19-$E19>0,M19-$E19<0),(M19-$E19)/$E19,"")),"")
B20: טאבלט מסוג IOS כולל מגן מסך וכבל הטענה | C20: 5 | D20: 2500 | E20: =C20*D20 -> 12500 | H20: =G20*D20 -> 0 | I20: =IF(H20=0,"",IF(OR(H20-$E20>0,H20-$E20<0),(H20-$E20)/$E20,"")) | L20: =G20 -> 0 | M20: =IFERROR(L20*D20,"") -> 0 | N20: =IFERROR(IF(M20=0,"",IF(OR(M20-$E20>0,M20-$E20<0),(M20-$E20)/$E20,"")),"")
B21: לוקר לשמירה והטענת טבלטים, טלפונים ומחשבים ניידים (עד 10 יחידות בו זמנית) | C21: 1 | D21: 4500 | E21: =C21*D21 -> 4500 | H21: =G21*D21 -> 0 | I21: =IF(H21=0,"",IF(OR(H21-$E21>0,H21-$E21<0),(H21-$E21)/$E21,"")) | L21: =G21 -> 0 | M21: =IFERROR(L21*D21,"") -> 0 | N21: =IFERROR(IF(M21=0,"",IF(OR(M21-$E21>0,M21-$E21<0),(M21-$E21)/$E21,"")),"")
G22: סה"כ | H22: =SUM(H10:H21) -> 0 | L22: סה"כ | M22: =SUM(M10:M21) -> 0

Sheet ציוד ייעודי
B2: תקן הצטיידות - ציוד ייעודי - תוספות מיוחדות
B3: הוכן בסיוע צבי רובינשטיין, יועץ לקרנות הביטוח הלאומי
B4: גיליון זה נועד לפריטים שאינם מופיעים בתקן.
B5: יש למלא את הטבלה ובנוסף להגיש ליועץ עותק של 2 הצעות מחיר עבור פריט שעלותו עד 20,000 ₪ ו- 3 הצעות מחיר עבור פריט שעלותו גבוהה מ-20,000 ₪.
B6: המערכת מחשבת באופן אוטומטי את עלות הציוד בהתאם להצעת המחיר הזולה ביותר.
B7: אם קיים צורך לבחור בהצעת מחיר שאינה הזולה ביותר, יש לסמן את ההצעה המבוקשת בעמודה "בקשת מחיר חריג" ובמקרה זה, עלות הציוד תחושב בהתאם להצעת המחיר שנבחרה.
B9: תקן תוספות מיוחדות | K9: אישור הבקשה ע"י מנהלת תכניות/יועץ הקרן
B10: תיאור הפריט | C10: כמות מבוקשת | D10: הצעת מחיר א' | E10: הצעת מחיר ב' | F10: הצעת מחיר ג' | G10: בקשת מחיר חריג | H10: סך עלות הבקשה | I10: הסבר לבקשה | K10: כמות מאושרת | L10: אישור מחיר חריג | M10: תקציב מאושר | N10: הערות מנהל/ת התוכנית
H11: =IF(G11="",(MIN($D11:$F11))*C11,IF(G11="הצעה א",D11*C11,IF(G11="הצעה ב",E11*C11,F11*C11))) -> 0 | J11: =IF(I11="","","יש להסביר חריגה") | K11: =C11 -> 0 | M11: =IFERROR(IF(L11="מאושר",K11*H11/C11,K11*MIN(D11:G11)),0) -> 0
H12: =IF(G12="",(MIN($D12:$F12))*C12,IF(G12="הצעה א",D12*C12,IF(G12="הצעה ב",E12*C12,F12*C12))) -> 0 | J12: =IF(I12="","","יש להסביר חריגה") | K12: =C12 -> 0 | M12: =IFERROR(IF(L12="מאושר",K12*H12/C12,K12*MIN(D12:G12)),0) -> 0
H13: =IF(G13="",(MIN($D13:$F13))*C13,IF(G13="הצעה א",D13*C13,IF(G13="הצעה ב",E13*C13,F13*C13))) -> 0 | J13: =IF(I13="","","יש להסביר חריגה") | K13: =C13 -> 0 | M13: =IFERROR(IF(L13="מאושר",K13*H13/C13,K13*MIN(D13:G13)),0) -> 0
H14: =IF(G14="",(MIN($D14:$F14))*C14,IF(G14="הצעה א",D14*C14,IF(G14="הצעה ב",E14*C14,F14*C14))) -> 0 | J14: =IF(I14="","","יש להסביר חריגה") | K14: =C14 -> 0 | M14: =IFERROR(IF(L14="מאושר",K14*H14/C14,K14*MIN(D14:G14)),0) -> 0
H15: =IF(G15="",(MIN($D15:$F15))*C15,IF(G15="הצעה א",D15*C15,IF(G15="הצעה ב",E15*C15,F15*C15))) -> 0 | J15: =IF(I15="","","יש להסביר חריגה") | K15: =C15 -> 0 | M15: =IFERROR(IF(L15="מאושר",K15*H15/C15,K15*MIN(D15:G15)),0) -> 0
H16: =IF(G16="",(MIN($D16:$F16))*C16,IF(G16="הצעה א",D16*C16,IF(G16="הצעה ב",E16*C16,F16*C16))) -> 0 | J16: =IF(I16="","","יש להסביר חריגה") | K16: =C16 -> 0 | M16: =IFERROR(IF(L16="מאושר",K16*H16/C16,K16*MIN(D16:G16)),0) -> 0
H17: =IF(G17="",(MIN($D17:$F17))*C17,IF(G17="הצעה א",D17*C17,IF(G17="הצעה ב",E17*C17,F17*C17))) -> 0 | J17: =IF(I17="","","יש להסביר חריגה") | K17: =C17 -> 0 | M17: =IFERROR(IF(L17="מאושר",K17*H17/C17,K17*MIN(D17:G17)),0) -> 0
H18: =IF(G18="",(MIN($D18:$F18))*C18,IF(G18="הצעה א",D18*C18,IF(G18="הצעה ב",E18*C18,F18*C18))) -> 0 | J18: =IF(I18="","","יש להסביר חריגה") | K18: =C18 -> 0 | M18: =IFERROR(IF(L18="מאושר",K18*H18/C18,K18*MIN(D18:G18)),0) -> 0
H19: =IF(G19="",(MIN($D19:$F19))*C19,IF(G19="הצעה א",D19*C19,IF(G19="הצעה ב",E19*C19,F19*C19))) -> 0 | J19: =IF(I19="","","יש להסביר חריגה") | K19: =C19 -> 0 | M19: =IFERROR(IF(L19="מאושר",K19*H19/C19,K19*MIN(D19:G19)),0) -> 0
H20: =IF(G20="",(MIN($D20:$F20))*C20,IF(G20="הצעה א",D20*C20,IF(G20="הצעה ב",E20*C20,F20*C20))) -> 0 | J20: =IF(I20="","","יש להסביר חריגה") | K20: =C20 -> 0 | M20: =IFERROR(IF(L20="מאושר",K20*H20/C20,K20*MIN(D20:G20)),0) -> 0
H21: =IF(G21="",(MIN($D21:$F21))*C21,IF(G21="הצעה א",D21*C21,IF(G21="הצעה ב",E21*C21,F21*C21))) -> 0 | J21: =IF(I21="","","יש להסביר חריגה") | K21: =C21 -> 0 | M21: =IFERROR(IF(L21="מאושר",K21*H21/C21,K21*MIN(D21:G21)),0) -> 0
H22: =IF(G22="",(MIN($D22:$F22))*C22,IF(G22="הצעה א",D22*C22,IF(G22="הצעה ב",E22*C22,F22*C22))) -> 0 | J22: =IF(I22="","","יש להסביר חריגה") | K22: =C22 -> 0 | M22: =IFERROR(IF(L22="מאושר",K22*H22/C22,K22*MIN(D22:G22)),0) -> 0
... H30: =IF(G30="",(MIN($D30:$F30))*C30,IF(G30="הצעה א",D30*C30,IF(G30="הצעה ב",E30*C30,F30*C30))) -> 0 | J30: =IF(I30="","","יש להסביר חריגה") | K30: =C30 -> 0 | M30: =IFERROR(IF(L30="מאושר",K30*H30/C30,K30*MIN(D30:G30)),0) -> 0
G31: סה"כ | H31: =SUM(H11:H30) -> 0 | K31: סה"כ | M31: =SUM(M11:M30) -> 0

Sheet סיכום תקציב הגוף המבקש
C2: דירוג חברתי/כלכלי של הישוב: | D2: =IF(שאלון!C22=0,"",שאלון!C22)
C3: קו עימות: | D3: =IF(שאלון!C23=0,"",שאלון!C23)
C4: סכום מקסימלי לפי קול קורא: | D4: =IF(שאלון!C24=0,"",שאלון!C24)
B6: סיכום בקשה להצטיידות - קרן סיעוד בש"ח כולל מע"מ
B8: =שאלון!B5 -> תאריך הגשת הבקשה: | C8: =IF(שאלון!C5=0,"",שאלון!C5)
B9: =שאלון!B7 -> שם הארגון המבקש: | C9: =IF(שאלון!C7=0,"",שאלון!C7)
B10: =שאלון!B8 -> ח"פ/ע"ר של הארגון המבקש: | C10: =IF(שאלון!C8=0,"",שאלון!C8)
B11: =שאלון!B10 -> שם מרכז היום: | C11: =IF(שאלון!C10=0,"",שאלון!C10)
B12: =שאלון!B11 -> כתובת מרכז היום: | C12: =IF(שאלון!C11=0,"",שאלון!C11)
B13: =שאלון!B17 -> שם איש קשר: | C13: =IF(שאלון!C17=0,"",שאלון!C17)
B14: =שאלון!B18 -> תפקיד: | C14: =IF(שאלון!C18=0,"",שאלון!C18)
B15: =שאלון!B19 -> אימייל איש קשר: | C15: =IF(שאלון!C19=0,"",שאלון!C19)
B16: =שאלון!B20 -> טלפון איש קשר: | C16: =IF(שאלון!C20=0,"",שאלון!C20)
B18: סה"כ מקבלי שירות | C18: =IF(שאלון!C15=0,"",שאלון!C15)
B20: ציוד כללי | C20: סה"כ אישור מנהלת התכניות
B21: אביזרים | C21: =SUMIF('ציוד כללי'!B:B,"אביזרים",'ציוד כללי'!O:O) -> 0
B22: טיפוח חן/מספרה | C22: =SUMIF('ציוד כללי'!B:B,"טיפוח חן",'ציוד כללי'!O:O) -> 0
B23: כלי חשמל | C23: =SUMIF('ציוד כללי'!B:B,"כלי חשמל",'ציוד כללי'!O:O) -> 0
B24: כללי | C24: =SUMIF('ציוד כללי'!B:B,"כללי",'ציוד כללי'!O:O) -> 0
B25: חדר אוכל | C25: =SUMIF('ציוד כללי'!B:B,"חדר אוכל",'ציוד כללי'!O:O) -> 0
B26: מיחשוב | C26: =SUMIF('ציוד כללי'!B:B,"מיחשוב",'ציוד כללי'!O:O) -> 0
B27: ציוד אלקטרוני | C27: =SUMIF('ציוד כללי'!B:B,"ציוד אלקטרוני",'ציוד כללי'!O:O) -> 0
B28: ריהוט | C28: =SUMIF('ציוד כללי'!B:B,"ריהוט",'ציוד כללי'!O:O) -> 0
B29: סה"כ ציוד כללי | C29: =SUM(C21:D28) -> 0
B31: הנגשת ראייה | C31: =IF('הנגשת ראייה'!N14=0,"",'הנגשת ראייה'!N14)
B32: הנגשת שמע | C32: =IF('הנגשת שמע'!O25=0,"",'הנגשת שמע'!O25)
B33: ריפוי בעיסוק ופיזיותרפיה | C33: =IF('ריפוי בעיסוק ופיזיותרפיה'!M87=0,"",'ריפוי בעיסוק ופיזיותרפיה'!M87)
B34: מרחב חושי | C34: =IF('מרחב חושי'!M30=0,"",'מרחב חושי'!M30)
B35: גינון טיפולי וחממה | C35: =IF('גינון טיפולי וחממה'!M53=0,"",'גינון טיפולי וחממה'!M53)
B36: חוגים | C36: =IF(חוגים!M21=0,"",חוגים!M21)
B37: עם הפנים לקהילה | C37: =IF('עם הפנים לקהילה'!M14=0,"",'עם הפנים לקהילה'!M14)
B38: פנאי וטכנולוגיה מסייעת | C38: =IF('פנאי וטכנולוגיה מסייעת'!M22=0,"",'פנאי וטכנולוגיה מסייעת'!M22)
B39: ציוד ייעודי | C39: =IF('ציוד ייעודי'!M31=0,"",'ציוד ייעודי'!M31)
B40: סה"כ | C40: =SUM(C31:D39) -> 0
B42: סה"כ עלות הבקשה שאושרה | C42: =C29+C40 -> 0
B45: לאישור הוועדה
B47: מקורות מימון להצטיידות | C47: אחוז מימון | D47: סכום מימון
B48: ביטוח לאומי | C48: =IF(D48=0,"",ROUNDUP(D48/$C42,4)) | D48: =MIN(D54,D60) -> 0
B49: הארגון המבקש | C49: =IF(D49=0,"",ROUNDDOWN(D49/$C42,4)) | D49: =C42-D48 -> 0
B51: אופן חישוב שיעור ההשתתפות של ביטוח לאומי - מוסתר
B52: אחוז מימון מקסימלי לפי דירוג אשכול לאישור הוועדה (לפי אחוז השתתפות בט"ל וללא התחשבות בתקציב הסיוע המקסימלי בקול קורא)
B53: גורם מממן | C53: אחוז מימון | D53: סכום מימון
B54: אחוז מימון מקסימלי-ביטוח לאומי | C54: =IF(D3="כן",90%,IF(D2<=4,90%,IF(D2<8,80%,70%))) -> 0.7 | D54: =$C$42*C54 -> 0
B55: מימון עצמי | C55: =100%-C54 -> 0.3 | D55: =$C$42*C55 -> 0
B56: סה"כ | C56: =SUM(C54:C55) -> 1 | D56: =SUM(D54:D55) -> 0
B58: מימון מקסימלי לפי דירוג אשכול לאישור הוועדה (אחוז השתתפות בט"ל בהתחשב בתקציב הסיוע המקסימלי בקול קורא)
B59: גורם מממן | C59: אחוז מימון | D59: סכום מימון
B60: סכום מימון מקסימלי-ביטוח לאומי | C60: =IF($D$60=0,"",IF($D$54<$D$60,"",ROUNDUP(D60/C$42,4))) | D60: =D4
B61: מימון עצמי | C61: =IF($D$60=0,"",IF($D$54<$D$60,"",ROUNDUP(D61/C$42,4))) | D61: =IF($D$54<$D$60,"",(D62-D60))
B62: סה"כ | C62: =IF($D$24<$D$30,"",SUM(C60:C61)) -> 0 | D62: =IF($D$54<$D$60,"",C42)

Sheet סיכום לועדה
C2: דירוג חברתי/כלכלי של הישוב: | D2: =IF(שאלון!C22=0,"",שאלון!C22)
C3: קו עימות: | D3: =IF(שאלון!C23=0,"",שאלון!C23)
C4: סכום מקסימלי לפי קול קורא: | D4: =(שאלון!C24) -> 0
B6: סיכום בקשה להצטיידות - קרן סיעוד בש"ח כולל מע"מ
B8: =שאלון!B5 -> תאריך הגשת הבקשה: | C8: =IF(שאלון!C5=0,"",שאלון!C5)
B9: =שאלון!B7 -> שם הארגון המבקש: | C9: =IF(שאלון!C7=0,"",שאלון!C7)
B10: =שאלון!B8 -> ח"פ/ע"ר של הארגון המבקש: | C10: =IF(שאלון!C8=0,"",שאלון!C8)
B11: =שאלון!B10 -> שם מרכז היום: | C11: =IF(שאלון!C10=0,"",שאלון!C10)
B12: =שאלון!B11 -> כתובת מרכז היום: | C12: =IF(שאלון!C11=0,"",שאלון!C11)
B13: =שאלון!B17 -> שם איש קשר: | C13: =IF(שאלון!C17=0,"",שאלון!C17)
B14: =שאלון!B18 -> תפקיד: | C14: =IF(שאלון!C18=0,"",שאלון!C18)
B15: =שאלון!B19 -> אימייל איש קשר: | C15: =IF(שאלון!C19=0,"",שאלון!C19)
B16: =שאלון!B20 -> טלפון איש קשר: | C16: =IF(שאלון!C20=0,"",שאלון!C20)
B18: סה"כ מקבלי שירות | C18: =IF(שאלון!C15=0,"",שאלון!C15)
B20: ציוד כללי | C20: סה"כ אישור מנהלת התכניות
B21: אביזרים | C21: =SUMIF('ציוד כללי'!B:B,"אביזרים",'ציוד כללי'!O:O) -> 0
B22: טיפוח חן/מספרה | C22: =SUMIF('ציוד כללי'!B:B,"טיפוח חן",'ציוד כללי'!O:O) -> 0
B23: כלי חשמל | C23: =SUMIF('ציוד כללי'!B:B,"כלי חשמל",'ציוד כללי'!O:O) -> 0
B24: כללי | C24: =SUMIF('ציוד כללי'!B:B,"כללי",'ציוד כללי'!O:O) -> 0
B25: חדר אוכל | C25: =SUMIF('ציוד כללי'!B:B,"חדר אוכל",'ציוד כללי'!O:O) -> 0
B26: מיחשוב | C26: =SUMIF('ציוד כללי'!B:B,"מיחשוב",'ציוד כללי'!O:O) -> 0
B27: ציוד אלקטרוני | C27: =SUMIF('ציוד כללי'!B:B,"ציוד אלקטרוני",'ציוד כללי'!O:O) -> 0
B28: ריהוט | C28: =SUMIF('ציוד כללי'!B:B,"ריהוט",'ציוד כללי'!O:O) -> 0
B29: סה"כ ציוד כללי | C29: =SUM(C21:D28) -> 0
B31: הנגשת ראייה | C31: =IF('הנגשת ראייה'!N14=0,"",'הנגשת ראייה'!N14)
B32: הנגשת שמע | C32: =IF('הנגשת שמע'!O25=0,"",'הנגשת שמע'!O25)
B33: ריפוי בעיסוק ופיזיותרפיה | C33: =IF('ריפוי בעיסוק ופיזיותרפיה'!M87=0,"",'ריפוי בעיסוק ופיזיותרפיה'!M87)
B34: מרחב חושי | C34: =IF('מרחב חושי'!M30=0,"",'מרחב חושי'!M30)
B35: גינון טיפולי וחממה | C35: =IF('גינון טיפולי וחממה'!M53=0,"",'גינון טיפולי וחממה'!M53)
B36: חוגים | C36: =IF(חוגים!M21=0,"",חוגים!M21)
B37: עם הפנים לקהילה | C37: =IF('עם הפנים לקהילה'!M14=0,"",'עם הפנים לקהילה'!M14)
B38: פנאי וטכנולוגיה מסייעת | C38: =IF('פנאי וטכנולוגיה מסייעת'!M22=0,"",'פנאי וטכנולוגיה מסייעת'!M22)
B39: ציוד ייעודי | C39: =IF('ציוד ייעודי'!M31=0,"",'ציוד ייעודי'!M31)
B40: סה"כ | C40: =SUM(C31:D39) -> 0
B42: סה"כ עלות הבקשה שאושרה | C42: =C29+C40 -> 0
B45: לאישור הוועדה
B47: מקורות מימון להצטיידות | C47: אחוז מימון | D47: סכום מימון
B48: ביטוח לאומי | C48: =IF(D48=0,"",ROUNDUP(D48/$C42,4)) | D48: =MIN(D54,D60) -> 0
B49: הארגון המבקש | C49: =IF(D49=0,"",ROUNDDOWN(D49/$C42,4)) | D49: =C42-D48 -> 0
B51: אופן חישוב שיעור ההשתתפות של ביטוח לאומי - מוסתר
B52: אחוז מימון מקסימלי לפי דירוג אשכול לאישור הוועדה (לפי אחוז השתתפות בט"ל וללא התחשבות בתקציב הסיוע המקסימלי בקול קורא)
B53: גורם מממן | C53: אחוז מימון | D53: סכום מימון
B54: אחוז מימון מקסימלי-ביטוח לאומי | C54: =IF(D3="כן",90%,IF(D2<=4,90%,IF(D2<8,80%,70%))) -> 0.7 | D54: =$C$42*C54 -> 0
B55: מימון עצמי | C55: =100%-C54 -> 0.3 | D55: =$C$42*C55 -> 0
B56: סה"כ | C56: =SUM(C54:C55) -> 1 | D56: =SUM(D54:D55) -> 0
B58: מימון מקסימלי לפי דירוג אשכול לאישור הוועדה (אחוז השתתפות בט"ל בהתחשב בתקציב הסיוע המקסימלי בקול קורא)
B59: גורם מממן | C59: אחוז מימון | D59: סכום מימון
B60: סכום מימון מקסימלי-ביטוח לאומי | C60: =IF($D$60=0,"",IF($D$54<$D$60,"",ROUNDUP(D60/C$42,4))) | D60: =D4 -> 0
B61: מימון עצמי | C61: =IF($D$60=0,"",IF($D$54<$D$60,"",ROUNDUP(D61/C$42,4))) | D61: =IF($D$54<$D$60,"",(D62-D60)) -> 0
B62: סה"כ | C62: =IF($D$24<$D$30,"",SUM(C60:C61)) -> 0 | D62: =IF($D$54<$D$60,"",C42) -> 0

Sheet נוסחאות
D6: דירוג אשכול סוציו אקונומי: | E6: =IF(שאלון!C22=0,"",שאלון!C22)
D7: קו עימות: | E7: =IF(שאלון!C23=0,"",שאלון!C23)
B8: דו"ח סיכום פרויקט בקשת הצטיידות | D8: יש למלא סכום מקסימלי לפי קול קורא: | E8: 5000
B9: תאריך הגשה: | C9: 0
B10: שם הגוף המבקש: | C10: 0
B11: שם המסגרת: | C11: 0
B12: מספר משתתפים בפרויקט: | C12: 0
B13: מספר חדרי פעילות: | C13: 0
B15: קטגוריית ציוד | C15: סך בקשת הגוף שאושרה ע"י מנהל/ת התכנית (בש"ח וכולל מע"מ)
B16: קטגוריה א'- ציוד וריהוט לחדרי קבוצות | C16: 15000
B17: קטגוריה ב'- ציוד כללי לסדנאות, חללים משותפים וציוד נוסף | C17: 0
B18: קטגוריה ג' - ציוד מטבח מחמם וחדר אוכל | C18: 0
B19: קטגוריה ג' - ציוד מטבח מבשל וחדר אוכל | C19: 0
B20: סה"כ לפרוייקט | C20: =SUM(C16:C19) -> 15000
B22: אחוז מימון מקסימלי לפי דירוג אשכול לאישור הוועדה (לפי אחוז השתתפות בט"ל וללא התחשבות בתקציב הסיוע המקסימלי בקול קורא)
B23: גורם מממן | C23: אחוז מימון | D23: סכום מימון
B24: אחוז מימון מקסימלי-ביטוח לאומי | C24: =IF(E7="כן",90%,IF(E6<=4,90%,IF(E6<8,80%,70%))) -> 0.7 | D24: =$C$20*C24 -> 10500
B25: מימון עצמי | C25: =100%-C24 -> 0.3 | D25: =$C$20*C25 -> 4500
B26: סה"כ | C26: =SUM(C24:C25) -> 1 | D26: =SUM(D24:D25) -> 15000
B28: מימון מקסימלי לפי דירוג אשכול לאישור הוועדה (אחוז השתתפות בט"ל בהתחשב בתקציב הסיוע המקסימלי בקול קורא)
B29: גורם מממן | C29: אחוז מימון | D29: סכום מימון
B30: סכום מימון מקסימלי-ביטוח לאומי | C30: =IF($D$30=0,"",IF($D$24<$D$30,"",ROUNDUP(D30/C$20,4))) -> 0.3334 | D30: =E8 -> 5000
B31: מימון עצמי | C31: =IF($D$30=0,"",IF($D$24<$D$30,"",ROUNDDOWN(D31/C$20,4))) -> 0.6666 | D31: =IF($D$24<$D$30,"",(D32-D30)) -> 10000
B32: סה"כ | C32: =IF($D$24<$D$30,"",SUM(C30:C31)) -> 1 | D32: =IF($D$24<$D$30,"",C20) -> 15000
B34: לאישור הוועדה
B35: מימון מאושר - הנמוך מבין השניים - אחוז השתתפות או תקציב סיוע מקסימלי
B36: גורם מממן | C36: אחוז מימון | D36: סכום מימון
B37: מימון ביטוח לאומי מקסימלי | C37: =IF(D37=0,"",ROUNDUP(D37/C$20,4)) -> 0.3334 | D37: =MIN(D24,D30) -> 5000
B38: מימון עצמי | C38: =IF(D38=0,"",ROUNDDOWN(D38/C$20,4)) -> 0.6666 | D38: =D39-D37 -> 10000
B39: סה"כ | C39: =IF(D39=0,"",SUM(C37:C38)) -> 1 | D39: =C20 -> 15000
