Workbook
Name BedroomType: #REF!
Name BedroomType: #REF!
Name BedroomType: #REF!
Name BedroomType: #REF!
Name BedroomType: #REF!
Name BedroomType: #REF!
Name BedroomType: #REF!

Sheet פירוט הסתרות
A1: תקן ריהוט וציוד לדיור קהילתי
A2: פירוט הגליונות / שורות מוסתרים
A3: א. גיליון נוסחאות - מוסתר כולו
A4: ב. סיווג דירות - מוסתר בשני גליונות בתאים G1-G2 (נכתב בלבן על רקע לבן):
B5: גיליון דירה קהילתית-חללים משותפים
B6: גיליון בית שיתופי - חללים משותפים
A7: ג. גיליון סיכום לוועדה - הסתרות
B8: ג.1 תא G7 - תקציב קול קורא - הוסתר
B9: נרשם בו תקציב בסכום של מיליון ש"ח
B10: ג. 2 שתי טבלאות עבודה-שורות 37-48 הוסתרו

Sheet נוסחאות
A1: מחירון והערות
A2: סוג הריהוט/ציוד | B2: עד 4 | F2: עד 6 | J2: עד 8 | N2: עד 16 | R2: עד 24
B3: תאור | C3: מחיר בש"ח | D3: כמות | E3: עלות מקסימלית | F3: תאור | G3: מחיר בש"ח | H3: כמות | I3: עלות מקסימלית | J3: תאור | K3: מחיר בש"ח | L3: כמות | M3: עלות מקסימלית | N3: תאור | O3: מחיר בש"ח | P3: כמות | Q3: עלות מקסימלית | R3: תאור | S3: מחיר בש"ח | T3: כמות | U3: עלות מקסימלית
A4: כלי בישול אחסון הגשה וניקוי | B4: - | C4: 6000 | D4: 1 | E4: =C4*D4 -> 6000 | F4: - | G4: 6000 | H4: 1 | I4: =G4*H4 -> 6000 | J4: - | K4: 8000 | L4: 1 | M4: =K4*L4 -> 8000 | N4: - | O4: 10000 | P4: 1 | Q4: =P4*O4 -> 10000 | R4: - | S4: 12000 | T4: 1 | U4: =T4*S4 -> 12000
A5: מיקרוגל | B5: ביתי | C5: 1500 | D5: 1 | E5: =C5*D5 -> 1500 | F5: ביתי | G5: 2000 | H5: 1 | I5: =G5*H5 -> 2000 | J5: ביתי | K5: 2000 | L5: 1 | M5: =K5*L5 -> 2000 | N5: מקצועי | O5: 3000 | P5: 2 | Q5: =P5*O5 -> 6000 | R5: מקצועי | S5: 3000 | T5: 2 | U5: =T5*S5 -> 6000
A6: מעבד מזון | B6: - | C6: 2000 | D6: 1 | E6: =C6*D6 -> 2000 | F6: ביתי | G6: 2000 | H6: 1 | I6: =G6*H6 -> 2000 | J6: ביתי | K6: 2000 | L6: 1 | M6: =K6*L6 -> 2000 | N6: מקצועי | O6: 4000 | P6: 1 | Q6: =P6*O6 -> 4000 | R6: מקצועי | S6: 4000 | T6: 1 | U6: =T6*S6 -> 4000
A7: מקרר | B7: ביתי | C7: 8000 | D7: 1 | E7: =C7*D7 -> 8000 | F7: ביתי | G7: 8000 | H7: 1 | I7: =G7*H7 -> 8000 | J7: ביתי | K7: 10000 | L7: 1 | M7: =K7*L7 -> 10000 | N7: מקרר תעשייתי | O7: 12000 | P7: 1 | Q7: =P7*O7 -> 12000 | R7: מקרר תעשייתי | S7: 12000 | T7: 1 | U7: =T7*S7 -> 12000
A8: פלטת חימום לשבת | B8: - | C8: 200 | D8: 1 | E8: =C8*D8 -> 200 | F8: - | G8: 200 | H8: 1 | I8: =G8*H8 -> 200 | J8: - | K8: 200 | L8: 2 | M8: =K8*L8 -> 400 | N8: - | O8: 200 | P8: 3 | Q8: =P8*O8 -> 600 | R8: - | S8: 200 | T8: 4 | U8: =T8*S8 -> 800
A9: קומקום חשמלי | B9: - | C9: 300 | D9: 1 | E9: =C9*D9 -> 300 | F9: - | G9: 300 | H9: 1 | I9: =G9*H9 -> 300 | J9: - | K9: 300 | L9: 1 | M9: =K9*L9 -> 300 | N9: - | O9: 300 | P9: 2 | Q9: =P9*O9 -> 600 | R9: - | S9: 300 | T9: 2 | U9: =T9*S9 -> 600
A10: תנור אפייה וחימום | B10: - | C10: 4000 | D10: 1 | E10: =C10*D10 -> 4000 | F10: - | G10: 4000 | H10: 1 | I10: =G10*H10 -> 4000 | J10: - | K10: 4000 | L10: 1 | M10: =K10*L10 -> 4000 | N10: קונווקטומט/ קומביסטימר | O10: 15000 | P10: 1 | Q10: =P10*O10 -> 15000 | R10: קונווקטומט/ קומביסטימר | S10: 15000 | T10: 1 | U10: =T10*S10 -> 15000
A11: קולט אדים | B11: - | C11: 3000 | D11: 1 | E11: =C11*D11 -> 3000 | F11: - | G11: 3000 | H11: 1 | I11: =G11*H11 -> 3000 | J11: - | K11: 3000 | L11: 1 | M11: =K11*L11 -> 3000 | N11: - | O11: 3000 | P11: 1 | Q11: =P11*O11 -> 3000 | R11: - | S11: 3000 | T11: 1 | U11: =T11*S11 -> 3000
A12: כיריים חשמליות 4 להבות | B12: - | C12: 6000 | D12: 1 | E12: =C12*D12 -> 6000 | F12: - | G12: 6000 | H12: 1 | I12: =G12*H12 -> 6000 | J12: - | K12: 6000 | L12: 1 | M12: =K12*L12 -> 6000 | N12: - | O12: 8000 | P12: 1 | Q12: =P12*O12 -> 8000 | R12: - | S12: 8000 | T12: 1 | U12: =T12*S12 -> 8000
A13: מיחם חשמלי | B13: מיחם ביתי | C13: 500 | D13: 1 | E13: =C13*D13 -> 500 | F13: מיחם ביתי | G13: 500 | H13: 1 | I13: =G13*H13 -> 500 | J13: מיחם ביתי | K13: 500 | L13: 1 | M13: =K13*L13 -> 500 | N13: מיחם ביתי | O13: 500 | P13: 1 | Q13: =P13*O13 -> 500 | R13: מיחם ביתי | S13: 500 | T13: 1 | U13: =T13*S13 -> 500
A14: מתקן/ בר מים | B14: - | C14: 4000 | D14: 1 | E14: =C14*D14 -> 4000 | F14: - | G14: 4000 | H14: 1 | I14: =G14*H14 -> 4000 | J14: - | K14: 4000 | L14: 1 | M14: =K14*L14 -> 4000 | N14: - | O14: 4000 | P14: 1 | Q14: =P14*O14 -> 4000 | R14: - | S14: 4000 | T14: 1 | U14: =T14*S14 -> 4000
A15: פינת אוכל | B15: - | C15: 10000 | D15: 1 | E15: =C15*D15 -> 10000 | F15: - | G15: 10000 | H15: 1 | I15: =G15*H15 -> 10000 | J15: - | K15: 10000 | L15: 2 | M15: =K15*L15 -> 20000 | N15: - | O15: 10000 | P15: 3 | Q15: =P15*O15 -> 30000 | R15: - | S15: 10000 | T15: 4 | U15: =T15*S15 -> 40000
... A18: גריל חשמלי | B18: מכשיר לטיגון/ בישול ללא שמן | C18: 1500 | D18: 1 | E18: =C18*D18 -> 1500 | F18: מכשיר לטיגון/ בישול ללא שמן | G18: 1500 | H18: 1 | I18: =G18*H18 -> 1500 | J18: מכשיר לטיגון/ בישול ללא שמן | K18: 1500 | L18: 1 | M18: =K18*L18 -> 1500 | N18: מכשיר לטיגון/ בישול ללא שמן | O18: 2500 | P18: 1 | Q18: =P18*O18 -> 2500 | R18: מכשיר לטיגון/ בישול ללא שמן | S18: 2500 | T18: 1 | U18: =T18*S18 -> 2500
A19: מקפיא | B19: - | E19: =C19*D19 -> 0 | F19: - | I19: =G19*H19 -> 0 | J19: - | M19: =K19*L19 -> 0 | N19: מקפיא בלבד 700 ליטר | O19: 12000 | P19: 1 | Q19: =P19*O19 -> 12000 | R19: מקפיא בלבד 700 ליטר | S19: 12000 | T19: 1 | U19: =T19*S19 -> 12000
A20: סה"כ מטבח | C20: =SUM(C4:C19) -> 52500 | E20: =SUM(E4:E19) -> 52500 | G20: =SUM(G4:G19) -> 53000 | I20: =SUM(I4:I19) -> 53000 | K20: =SUM(K4:K19) -> 57000 | M20: =SUM(M4:M19) -> 67200 | O20: =SUM(O4:O19) -> 101000 | Q20: =SUM(Q4:Q19) -> 124700 | S20: =SUM(S4:S19) -> 103000 | U20: =SUM(U4:U19) -> 136900
A22: וילונות חסיני אש | B22: עלות לחלון בחדר דירה | C22: 1500 | D22: 1 | E22: =C22*D22 -> 1500 | F22: עלות לחלון בחדר דירה | G22: 1500 | H22: 2 | I22: =G22*H22 -> 3000 | J22: עלות לחלון בחדר דירה | K22: 1500 | L22: 2 | M22: =K22*L22 -> 3000 | N22: עלות לחלון בחדר דירה | O22: 1500 | P22: 2 | Q22: =P22*O22 -> 3000 | R22: עלות לחלון בחדר דירה | S22: 1500 | T22: 4 | U22: =T22*S22 -> 6000
A23: טלוויזיה כולל מגן | B23: גודל לפי צרכי המקום | C23: 6000 | D23: 1 | E23: =C23*D23 -> 6000 | F23: גודל לפי צרכי המקום | G23: 6000 | H23: 1 | I23: =G23*H23 -> 6000 | J23: גודל לפי צרכי המקום | K23: 6000 | L23: 1 | M23: =K23*L23 -> 6000 | N23: גודל לפי צרכי המקום | O23: 6000 | P23: 1 | Q23: =P23*O23 -> 6000 | R23: גודל לפי צרכי המקום | S23: 6000 | T23: 1 | U23: =T23*S23 -> 6000
A24: מערכת שמע | B24: - | C24: 1500 | D24: 1 | E24: =C24*D24 -> 1500 | F24: - | G24: 1500 | H24: 1 | I24: =G24*H24 -> 1500 | J24: - | K24: 1500 | L24: 1 | M24: =K24*L24 -> 1500 | N24: - | O24: 1500 | P24: 1 | Q24: =P24*O24 -> 1500 | R24: - | S24: 1500 | T24: 1 | U24: =T24*S24 -> 1500
A25: מצלמות אבטחה | B25: באזורים משותפים | C25: 3000 | D25: 3 | E25: =C25*D25 -> 9000 | F25: באזורים משותפים | G25: 3000 | H25: 3 | I25: =G25*H25 -> 9000 | J25: באזורים משותפים | K25: 3000 | L25: 4 | M25: =K25*L25 -> 12000 | N25: באזורים משותפים | O25: 3000 | P25: 6 | Q25: =O25*P25 -> 18000 | R25: באזורים משותפים | S25: 3000 | T25: 6 | U25: =S25*T25 -> 18000
A26: מנעול חכם כולל התקנה | B26: לדלת כניסה לדירה | C26: 2500 | D26: 1 | E26: =C26*D26 -> 2500 | F26: לדלת כניסה לדירה | G26: 2500 | H26: 1 | I26: =G26*H26 -> 2500 | J26: לדלת כניסה לדירה | K26: 2500 | L26: 1 | M26: =K26*L26 -> 2500 | N26: לדלת כניסה לדירה | O26: 2500 | P26: 1 | Q26: =O26*P26 -> 2500 | R26: לדלת כניסה לדירה | S26: 2500 | T26: 1 | U26: =S26*T26 -> 2500
A27: פעמון כניסה + מצלמה | B27: - | C27: 500 | D27: 1 | E27: =C27*D27 -> 500 | F27: - | G27: 500 | H27: 1 | I27: =G27*H27 -> 500 | J27: - | K27: 500 | L27: 1 | M27: =K27*L27 -> 500 | N27: - | O27: 500 | P27: 1 | Q27: =O27*P27 -> 500 | R27: - | S27: 500 | T27: 1 | U27: =S27*T27 -> 500
A28: גלאי עשן | B28: מאושר ע"י מת"י | C28: 400 | D28: 3 | E28: =C28*D28 -> 1200 | F28: מאושר ע"י מת"י | G28: 400 | H28: 3 | I28: =G28*H28 -> 1200 | J28: מאושר ע"י מת"י | K28: 400 | L28: 4 | M28: =K28*L28 -> 1600 | N28: מאושר ע"י מת"י | O28: 400 | P28: 6 | Q28: =O28*P28 -> 2400 | R28: מאושר ע"י מת"י | S28: 400 | T28: 6 | U28: =S28*T28 -> 2400
A29: מזגן | B29: 2.5 כ"ס | C29: 7000 | D29: 1 | E29: =C29*D29 -> 7000 | F29: 2.5 כ"ס | G29: 7000 | H29: 1 | I29: =G29*H29 -> 7000 | J29: 2.5 כ"ס | K29: 7000 | L29: 1 | M29: =K29*L29 -> 7000 | N29: 3.5 כ"ס | O29: 9000 | P29: 1 | Q29: =P29*O29 -> 9000 | R29: 3.5 כ"ס | S29: 9000 | T29: 1 | U29: =T29*S29 -> 9000
A30: מחשב קומפלט | B30: נייח או נייד לפי הצורך | C30: 5000 | D30: 1 | E30: =C30*D30 -> 5000 | F30: נייח או נייד לפי הצורך | G30: 5000 | H30: 1 | I30: =G30*H30 -> 5000 | J30: נייח או נייד לפי הצורך | K30: 5000 | L30: 1 | M30: =K30*L30 -> 5000 | N30: נייח או נייד לפי הצורך | O30: 5000 | P30: 1 | Q30: =P30*O30 -> 5000 | R30: נייח או נייד לפי הצורך | S30: 5000 | T30: 1 | U30: =T30*S30 -> 5000
A31: מדפסת משולבת | B31: ביתית | C31: 1000 | D31: 1 | E31: =C31*D31 -> 1000 | F31: ביתית | G31: 1000 | H31: 1 | I31: =G31*H31 -> 1000 | J31: ביתית | K31: 1000 | L31: 1 | M31: =K31*L31 -> 1000 | N31: ביתית | O31: 1000 | P31: 1 | Q31: =P31*O31 -> 1000 | R31: ביתית | S31: 1000 | T31: 1 | U31: =T31*S31 -> 1000
A32: סלון | B32: 1+2+3 | C32: 10000 | D32: 1 | E32: =C32*D32 -> 10000 | F32: 1+2+3 | G32: 10000 | H32: 1 | I32: =G32*H32 -> 10000 | J32: 1+2+3+3 | K32: 12000 | L32: 1 | M32: =K32*L32 -> 12000 | N32: 1+2+3+3 | O32: 12000 | P32: 2 | Q32: =P32*O32 -> 24000 | R32: 1+2+3+3 | S32: 12000 | T32: 3 | U32: =T32*S32 -> 36000
A33: שולחן סלון | B33: - | C33: 1200 | D33: 1 | E33: =C33*D33 -> 1200 | F33: - | G33: 1200 | H33: 1 | I33: =G33*H33 -> 1200 | J33: - | K33: 1200 | L33: 1 | M33: =K33*L33 -> 1200 | N33: - | O33: 1200 | P33: 2 | Q33: =P33*O33 -> 2400 | R33: - | S33: 1200 | T33: 2 | U33: =T33*S33 -> 2400
A34: מזנון | B34: - | C34: 2000 | D34: 1 | E34: =C34*D34 -> 2000 | F34: - | G34: 2000 | H34: 1 | I34: =G34*H34 -> 2000 | J34: - | K34: 2000 | L34: 1 | M34: =K34*L34 -> 2000 | N34: - | O34: 2000 | P34: 2 | Q34: =P34*O34 -> 4000 | R34: - | S34: 2000 | T34: 2 | U34: =T34*S34 -> 4000
A35: אביזרי עיצטב | B35: אביזרים לסלון בית מגורים | C35: 3000 | D35: 1 | E35: 3000 | F35: אביזרים לסלון בית מגורים | G35: 3000 | H35: 1 | I35: =G35*H35 -> 3000 | J35: אביזרים לסלון בית מגורים | K35: 3000 | L35: 1 | M35: =K35*L35 -> 3000 | N35: אביזרים לסלון בית מגורים | O35: 3000 | P35: 1 | Q35: =P35*O35 -> 3000 | R35: אביזרים לסלון בית מגורים | S35: 3000 | T35: 2 | U35: =T35*S35 -> 6000
A36: כורסא | B36: - | E36: =C36*D36 -> 0 | F36: - | I36: =G36*H36 -> 0 | J36: - | K36: 3500 | L36: 1 | M36: =K36*L36 -> 3500 | N36: - | O36: 3500 | P36: 2 | Q36: =P36*O36 -> 7000 | R36: - | S36: 3500 | T36: 3 | U36: =T36*S36 -> 10500
A37: סה"כ סלון | C37: =SUM(C22:C36) -> 44600 | E37: =SUM(E22:E36) -> 51400 | G37: =SUM(G22:G36) -> 44600 | I37: =SUM(I22:I36) -> 52900 | K37: =SUM(K22:K36) -> 50100 | M37: =SUM(M22:M36) -> 61800 | O37: =SUM(O22:O36) -> 52100 | Q37: =SUM(Q22:Q36) -> 89300 | S37: =SUM(S22:S36) -> 52100 | U37: =SUM(U22:U36) -> 110800
A39: מגהץ + קרש | B39: - | C39: 1000 | D39: 1 | E39: =C39*D39 -> 1000 | F39: - | G39: 1000 | H39: 1 | I39: =G39*H39 -> 1000 | J39: - | K39: 1000 | L39: 1 | M39: =K39*L39 -> 1000 | N39: - | O39: 1000 | P39: 1 | Q39: =P39*O39 -> 1000 | R39: - | S39: 1000 | T39: 1 | U39: =T39*S39 -> 1000
A40: מייבש כביסה | B40: - | C40: 5000 | D40: 1 | E40: =C40*D40 -> 5000 | F40: - | G40: 5000 | H40: 1 | I40: =G40*H40 -> 5000 | J40: - | K40: 5000 | L40: 1 | M40: =K40*L40 -> 5000 | N40: - | O40: 5000 | P40: 2 | Q40: =P40*O40 -> 10000 | R40: - | S40: 5000 | T40: 2 | U40: =T40*S40 -> 10000
A41: שואב אבק תעשייתי | B41: - | C41: 5000 | D41: 1 | E41: =C41*D41 -> 5000 | F41: - | G41: 5000 | H41: 1 | I41: =G41*H41 -> 5000 | J41: - | K41: 5000 | L41: 1 | M41: =K41*L41 -> 5000 | N41: - | O41: 5000 | P41: 1 | Q41: =P41*O41 -> 5000 | R41: - | S41: 5000 | T41: 1 | U41: =T41*S41 -> 5000
A42: שואב אבק ביתי | B42: שואב אבק ידני | C42: 2000 | D42: 1 | E42: =C42*D42 -> 2000 | F42: שואב אבק ידני | G42: 2000 | H42: 1 | I42: =G42*H42 -> 2000 | J42: שואב אבק ידני | K42: 2000 | L42: 1 | M42: =K42*L42 -> 2000 | N42: שואב אבק ידני | O42: 2000 | P42: 1 | Q42: =P42*O42 -> 2000 | R42: שואב אבק ידני | S42: 2000 | T42: 1 | U42: =T42*S42 -> 2000
A43: מכונת כביסה | B43: - | C43: 5000 | D43: 1 | E43: =C43*D43 -> 5000 | F43: - | G43: 5000 | H43: 1 | I43: =G43*H43 -> 5000 | J43: - | K43: 5000 | L43: 1 | M43: =K43*L43 -> 5000 | N43: - | O43: 5000 | P43: 2 | Q43: =P43*O43 -> 10000 | R43: - | S43: 5000 | T43: 2 | U43: =T43*S43 -> 10000
A44: אביזרים לחדרי שירותים או רחיצה | B44: - | C44: 1800 | D44: 2 | E44: =C44*D44 -> 3600 | F44: - | G44: 1800 | H44: 3 | I44: =G44*H44 -> 5400 | J44: - | K44: 1800 | L44: 3 | M44: =K44*L44 -> 5400 | N44: - | O44: 1800 | P44: 4 | Q44: =P44*O44 -> 7200 | R44: - | S44: 1800 | T44: 5 | U44: =T44*S44 -> 9000
A45: ארגז כלי עבודה | B45: ארגז כלים ביתי | C45: 1000 | D45: 1 | E45: =C45*D45 -> 1000 | F45: ארגז כלים ביתי | G45: 1000 | H45: 1 | I45: =G45*H45 -> 1000 | J45: ארגז כלים ביתי | K45: 1000 | L45: 1 | M45: =K45*L45 -> 1000 | N45: ארגז כלים ביתי | O45: 1000 | P45: 1 | Q45: =P45*O45 -> 1000 | R45: ארגז כלים ביתי | S45: 1000 | T45: 1 | U45: =T45*S45 -> 1000
A46: ארון תרופות | B46: - | C46: 1300 | D46: 1 | E46: =C46*D46 -> 1300 | F46: - | G46: 1300 | H46: 1 | I46: =G46*H46 -> 1300 | J46: - | K46: 1300 | L46: 1 | M46: =K46*L46 -> 1300 | N46: - | O46: 1300 | P46: 1 | Q46: =P46*O46 -> 1300 | R46: - | S46: 1300 | T46: 1 | U46: =T46*S46 -> 1300
A47: דפיבריליאטור | N47: - | O47: 5000 | P47: 1 | Q47: =P47*O47 -> 5000 | R47: - | S47: 5000 | T47: 1 | U47: =T47*S47 -> 5000
A48: מטף כיבוי אש | B48: 6 ק"ג | C48: 500 | D48: 1 | E48: =C48*D48 -> 500 | F48: 6 ק"ג | G48: 500 | H48: 1 | I48: =G48*H48 -> 500 | J48: 6 ק"ג | K48: 500 | L48: 1 | M48: =K48*L48 -> 500 | N48: 6 ק"ג | O48: 500 | P48: 4 | Q48: =P48*O48 -> 2000 | R48: 6 ק"ג | S48: 500 | T48: 6 | U48: =T48*S48 -> 3000
A49: תאורת חירום | B49: - | C49: 200 | D49: 1 | E49: =C49*D49 -> 200 | F49: - | G49: 200 | H49: 1 | I49: =G49*H49 -> 200 | J49: - | K49: 200 | L49: 1 | M49: =K49*L49 -> 200 | N49: 2 סטים | O49: 200 | P49: 2 | Q49: =P49*O49 -> 400 | R49: 3 סטים | S49: 200 | T49: 3 | U49: =T49*S49 -> 600
A50: סולם | B50: 4 שלבים | C50: 1500 | D50: 1 | E50: =C50*D50 -> 1500 | F50: 4 שלבים | G50: 1500 | H50: 1 | I50: =G50*H50 -> 1500 | J50: 4 שלבים | K50: =C50 -> 1500 | L50: 1 | M50: =K50*L50 -> 1500 | N50: 4 שלבים | O50: 1500 | P50: 1 | Q50: =P50*O50 -> 1500 | R50: 4 שלבים | S50: 1500 | T50: 1 | U50: =T50*S50 -> 1500
A51: משחקים, ספרים, ציוד פנאי | B51: - | C51: 4000 | D51: 1 | E51: =C51*D51 -> 4000 | F51: - | G51: 4000 | H51: 1 | I51: =G51*H51 -> 4000 | J51: - | K51: 4000 | L51: 1 | M51: =K51*L51 -> 4000 | N51: - | O51: 4000 | P51: 2 | Q51: =P51*O51 -> 8000 | R51: - | S51: 4000 | T51: 3 | U51: =T51*S51 -> 12000
A52: שירותי עיצוב פנים | B52: - | C52: 25000 | D52: 1 | E52: =C52*D52 -> 25000 | F52: - | G52: 25000 | H52: 1 | I52: =G52*H52 -> 25000 | J52: - | K52: 25000 | L52: 1 | M52: =K52*L52 -> 25000 | N52: - | O52: 25000 | P52: 1 | Q52: =P52*O52 -> 25000 | R52: - | S52: 25000 | T52: 1 | U52: =T52*S52 -> 25000
A53: מקרר קטן | B53: לתרופות | C53: 2000 | D53: 1 | E53: =C53*D53 -> 2000 | F53: לתרופות | G53: 2000 | H53: 1 | I53: =G53*H53 -> 2000 | J53: לתרופות | K53: 2000 | L53: 1 | M53: =K53*L53 -> 2000 | N53: לתרופות | O53: 2000 | P53: 1 | Q53: =P53*O53 -> 2000 | R53: לתרופות | S53: 2000 | T53: 1 | U53: =T53*S53 -> 2000
A54: סה"כ ציוד נוסף | C54: =SUM(C39:C53) -> 55300 | E54: =SUM(E39:E53) -> 57100 | G54: =SUM(G39:G53) -> 55300 | I54: =SUM(I39:I53) -> 58900 | K54: =SUM(K39:K53) -> 55300 | M54: =SUM(M39:M53) -> 58900 | O54: =SUM(O39:O53) -> 60300 | Q54: =SUM(Q39:Q53) -> 81400 | S54: =SUM(S39:S53) -> 60300 | U54: =SUM(U39:U53) -> 88400
A55: מתקני ספורט לחצר | B55: ממלאים רק במדה וקיימת חצר | F55: ממלאים רק במדה וקיימת חצר | J55: ממלאים רק במדה וקיימת חצר | N55: ממלאים רק במדה וקיימת חצר | O55: 20000 | P55: 0 | Q55: =P55*O55 -> 0 | R55: ממלאים רק במדה וקיימת חצר | S55: 20000 | T55: 0 | U55: =T55*S55 -> 0
A56: משטחי גומי | B56: ממלאים רק במדה וקיימת חצר | F56: ממלאים רק במדה וקיימת חצר | J56: ממלאים רק במדה וקיימת חצר | N56: ממלאים רק במדה וקיימת חצר | O56: 300 | P56: 0 | Q56: =P56*O56 -> 0 | R56: ממלאים רק במדה וקיימת חצר | S56: 300 | T56: 0 | U56: =T56*S56 -> 0
A57: שימשיה - קוטר כ- 1.5 מ' | B57: ממלאים רק במדה וקיימת חצר | C57: 3500 | D57: 1 | E57: =D57*C57 -> 3500 | F57: ממלאים רק במדה וקיימת חצר | G57: 3500 | H57: 1 | I57: =H57*G57 -> 3500 | J57: ממלאים רק במדה וקיימת חצר | K57: 3500 | L57: 1 | M57: =L57*K57 -> 3500 | N57: ממלאים רק במדה וקיימת חצר | O57: 3500 | P57: 1 | Q57: =P57*O57 -> 3500 | R57: ממלאים רק במדה וקיימת חצר | S57: 3500 | T57: 2 | U57: =T57*S57 -> 7000
A58: פינת ישיבה למרפסת | B58: ממלאים רק במדה וקיימת חצר | C58: 5000 | D58: 1 | E58: =D58*C58 -> 5000 | F58: ממלאים רק במדה וקיימת חצר | G58: 5000 | H58: 1 | I58: =H58*G58 -> 5000 | J58: ממלאים רק במדה וקיימת חצר | K58: 5000 | L58: 1 | M58: =L58*K58 -> 5000 | N58: ממלאים רק במדה וקיימת חצר | O58: 5000 | P58: 1 | Q58: =P58*O58 -> 5000 | R58: ממלאים רק במדה וקיימת חצר | S58: 5000 | T58: 2 | U58: =T58*S58 -> 10000
A59: ציוד תחזוקת חצר וגינה | B59: ממלאים רק במדה וקיימת חצר | F59: ממלאים רק במדה וקיימת חצר | J59: ממלאים רק במדה וקיימת חצר | N59: ממלאים רק במדה וקיימת חצר | O59: 2000 | P59: 0 | Q59: =P59*O59 -> 0 | R59: ממלאים רק במדה וקיימת חצר | S59: 2000 | T59: 0 | U59: =T59*S59 -> 0
A60: סה"כ ציוד חצר | C60: =SUM(C57:C58) -> 8500 | E60: =SUM(E57:E58) -> 8500 | G60: =SUM(G57:G58) -> 8500 | I60: =SUM(I57:I58) -> 8500 | K60: =SUM(K57:K58) -> 8500 | M60: =SUM(M57:M58) -> 8500 | O60: =SUM(O55:O59) -> 30800 | Q60: =SUM(Q55:Q59) -> 8500 | S60: =SUM(S55:S59) -> 30800 | U60: =SUM(U55:U59) -> 17000
A61: סה"כ ריהוט וציוד נוסף (עבור לדירה בקהילה) | C61: =C60+C54+C37+C20 -> 160900 | E61: =E60+E54+E37+E20 -> 169500 | G61: =G60+G54+G37+G20 -> 161400 | I61: =I60+I54+I37+I20 -> 173300 | K61: =K60+K54+K37+K20 -> 170900 | M61: =M60+M54+M37+M20 -> 196400 | O61: =O60+O54+O37+O20 -> 244200 | Q61: =Q60+Q54+Q37+Q20 -> 303900 | S61: =S60+S54+S37+S20 -> 246200 | U61: =U60+U54+U37+U20 -> 353100

Sheet פתיח 
C3: ה מ ו ס ד ל ב י ט ו ח ל א ו מ י
C4: קרנות הביטוח הלאומי
C5: הקרן לפיתוח שירותים לנכים
C7: תקן ריהוט וציוד לדיור קהילתי | J7: גירסה: 07/09/26
B9: הקרן מעניקה סיוע למסגרות דיור מוגן קהילתי לאנשים עם צרכים מיוחדים לצורך הצטיידות. הזכות לדיור נאות הינה חלק מזכויות האדם, לה זכאים אנשים עם מוגבלות וללא מוגבלות כאחד. אנשים עם מוגבלות זקוקים, בחלקם, למעטפת טיפולית מסוגים שונים. עזרה כזו היא נגזרת של מסגרת הדיור בה ניתן להפעיל מערך טיפולי המותאם ליכולת התפקוד והעצמאות של אנשים עם מוגבלות. רצף הפתרונות יכול לנוע מדירת לוויין בקצה הקל של המעטפת הטיפולית ועד לדיור בהוסטל בו ישנן תשומות טיפוליות במשך כל שעות היממה, לאורך כל השבוע.
B10: הסיוע בהצטיידות ניתן לבניית פלטפורמה שיקומית המאפשרת דיור ברמה גבוהה: דירות אסתטיות, מאובזרות היטב בכל הנדרש לחיים נורמטיביים עם דגש על רהיטים איכותיים ועיצוב פנים. שיפור איכות הטיפול לדיירים ולצוות במסגרות המוקמות על ידי הצטיידות מותאמת, פונקציונלית ואיכותית.
B11: תקן זה, המתבסס על תקן קודם, נבדק על ידי יועץ כלכלי מטעמנו ועל ידי סגן/ית החשב במוסד: עודכנו עלויות הציוד, נוספו פריטים ונלקחו בחשבון הצרכים המשתנים של הדיירים ושינויים באופי מערכי הדיור בשנים האחרונות.
B12: התקן נותן מענה לצרכים הבסיסיים הנדרשים בסוגים השונים של דיור קהילתי ומאפשר רכישה של מוצרים אלו ברמה סבירה. יש לקחת בחשבון כי הצטיידות יכולה להיעשות בטווח רחב מאוד של עלויות, ואילו העלויות המצוינות בו באות לענות על סטנדרט אשר נמצא מתאים מבחינת איכות החומרים ויכולתם להישמר לאורך זמן.
B13: התקן נכתב בפורמט אקסל על מנת שיהווה כלי עבודה עבורכם לתמחורים בעת רכישת הציוד.
B14: התקן גמיש ומודולרי כמו כן ניתן לבצע בו המרות בתנאי שאלו יאושרו בוועדת היגוי.
B15: עלויות התקן חושבו על פי מספר דיירים בדירה ובחלקן לפי מספר חדרי שינה.
B16: בתקן הוכנסו רכיבים מסוימים הבאים לענות על צרכים של אוכלוסיות ייעודיות: אוכלוסייה מזדקנת, אוכלוסיית אנשים אי שקטים או אנשים עם אוטיזם בתפקוד נמוך הזקוקים לפרטי ציוד עמידים במיוחד.
B18: סיוע הקרן בהצטיידות יינתן פעם אחת לכל דייר. הקרן איננה מחדשת ציוד.
B20: הקרן ממליצה בחום להיעזר באנשי מקצוע מתחום עיצוב פנים בעת ציוד הדירות מתוך תפיסה מקצועית כי עיצוב מזמין, אסתטי ובעל צביון ביתי ככל שניתן הוא חלק אינטגרלי מתהליך שיקומי באשר הוא.
B21: אנו מקווים כי התקן המחודש יימצא כיעיל ונח לשימוש, כמו גם ככלי עבודה טוב במהלך רכישת הציוד.
B22: הגשת בקשה להצטיידות לפי תקן אינה מחייבת את הקרן לאישור הבקשה, סכום ואחוז הסיוע נתונים לשיקול החלטתה הבלעדי של הקרן. אחוז הסיוע המצויין הינו מקסימלי ביחס לדירוג סוציואקונומי של הישוב.

Sheet תוכן עניינים
B7: ='פתיח '!$C$7&"- "&'פתיח '!$J$7 -> תקן ריהוט וציוד לדיור קהילתי - גירסה: 07/09/26
C9: תוכן עניינים | D9: הסברים והערות לממלא הבקשה
B10: גיליונות הסבר והכנה
C11: פתיח | D11: יש לקרוא לפני מילוי הבקשה
C12: שאלון למילוי הגוף | D12: חובה למלא את כל הסעיפים
B13: גיליונות הבקשה
B14: 1 | C14: חדרי שינה: ציוד וריהוט | D14: חדרי שינה בלבד לא כולל חללים משותפים
B15: 2 | C15: דירה קהלתית: ציוד חללים משותפים (עד 8 דיירים) | D15: מיועד לדירות עד 8 דיירים
B16: 3 | C16: בית שיתופי: ציוד חללים משותפים (מעל 8 דיירים) | D16: מיועד לבתים שיתופיים עם מספר דיירים מ-9 עד 24
B17: 4 | C17: בית שיתופי: אופציה למטבחון וסלון קטן (מעל 8 דיירים) | D17: מיועד לבתים שיתופיים עם מספר דיירים מ-9 עד 24. למלא רק באישור מנהל/ת התכנית
B18: 5 | C18: ציוד מיוחד | D18: ציוד מיועד לאוכלוסיות מיוחדות. למלא רק באישור מנהל/ת התכנית
B19: 6 | C19: ציוד מתקנים אחרים | D19: ציוד שאינו קיים בתקן זה אבל קיים בתקנים אחרים. למלא רק באישור מנהל/ת התכנית
B20: 7 | C20: ציוד נוסף שלא קיים בתקן | D20: ציוד שאינו קיים בתקן ואינו קיים בתקנים אחרים. למלא רק באישור מנהל/ת התכנית
B21: טבלאות סיכום
C22: סיכום לוועדה | D22: לשימוש המוסד לביטוח לאומי בלבד

Sheet שאלון למילוי הגוף-חובה
C1: ='תוכן עניינים'!$B$7 -> תקן ריהוט וציוד לדיור קהילתי - גירסה: 07/09/26
C2: הערות והסברים למילוי הבקשה:
C3: נא למלא את השאלון לעיל לפני מעבר לכתב הכמויות
C4: הגוף המבקש מתבקש למלא פרטים רק בתאים המסומנים בצבע צהוב. אין לגעת בתאים אחרים.
C5: כל מחירי התקן כוללים מע"מ
C6: המחירים כוללים הובלה והתקנה של הציוד
C7: שאלון למילוי ע"י מגיש הבקשה
B8: פרטי הגוף המבקש
C9: תאריך הגשת הבקשה | E9: =IF(D9="","יש למלא","") -> יש למלא
C10: שם הגוף המבקש | E10: =IF(D10="","יש למלא","") -> יש למלא
C11: ח.פ./ מס/ עמותה של הגוף המבקש | E11: =IF(D11="","יש למלא","") -> יש למלא
C12: כתובת הגוף המבקש | E12: =IF(D12="","יש למלא","") -> יש למלא
C13: איש קשר בגוף המבקש | E13: =IF(D13="","יש למלא","") -> יש למלא
C14: טלפון איש קשר בגוף המבקש | E14: =IF(D14="","יש למלא","") -> יש למלא
C15: מייל איש קשר בגוף המבקש | E15: =IF(D15="","יש למלא","") -> יש למלא
B17: פרטי המסגרת
C18: שם המסגרת | E18: =IF(D18="","יש למלא","") -> יש למלא
C19: כתובת המסגרת | E19: =IF(D19="","יש למלא","") -> יש למלא
C20: איש קשר במסגרת | E20: =IF(D20="","יש למלא","") -> יש למלא
C21: טלפון איש קשר במסגרת | E21: =IF(D21="","יש למלא","") -> יש למלא
C22: מייל איש קשר במסגרת | E22: =IF(D22="","יש למלא","") -> יש למלא
B24: מאפייני המסגרת
C25: פרויקט ארצי | E25: =IF(D25="","יש לבחור מהרשימה","") -> יש לבחור מהרשימה
C26: דירוג סוציואקונומי של הישוב | E26: =IF(D26="","יש לבחור מהרשימה","") -> יש לבחור מהרשימה
C27: קו עימות | E27: =IF(D27="","יש לבחור מהרשימה","") -> יש לבחור מהרשימה
C28: האם הגוף המבקש הינו גוף פרטי? | E28: =IF(D28="","יש לבחור מהרשימה","") -> יש לבחור מהרשימה
C30: מס' דירות עד 8 דיירים | D30: 1 | E30: =IF(D30="","יש למלא אם רלוונטי","")
C31: מס' דיירים בדירות עד 8 דיירים | D31: 6 | E31: =IF(D31="","יש למלא אם רלוונטי","")
C33: מס' דירות מעל 8 דיירים | E33: =IF(D33="","יש למלא אם רלוונטי","") -> יש למלא אם רלוונטי
C34: מס' דיירים בדירות מעל 8 דיירים | E34: =IF(D34="","יש למלא אם רלוונטי","") -> יש למלא אם רלוונטי
C36: מס' חדרי שינה (בכל הדירות) | D36: 5 | E36: =IF(D36="","יש למלא","")
C37: סה"כ דיירים (סכימה אוטומטית) | D37: =D31+D34 -> 6
C38: במידה וישנם אנשים עם המוגבלויות הבאות יש למלא את שלושת הסעיפים הבאים
C39: אנשים עם לקויות מוטוריות | E39: =IF(D39="","יש למלא אם רלוונטי","") -> יש למלא אם רלוונטי
C40: אנשים עם לקויות חושיות | E40: =IF(D40="","יש למלא אם רלוונטי","") -> יש למלא אם רלוונטי
C41: אנשים בתפקוד נמוך ו/או התנהגות מאתגרת | E41: =IF(D41="","יש למלא אם רלוונטי","") -> יש למלא אם רלוונטי
C43: האם קיימת חצר/ מרפסת? | E43: =IF(D43="","יש לבחור מהרשימה","") -> יש לבחור מהרשימה
C44: אם כן, שטח החצר | E44: =IF(D43="כן","יש למלא","")

Sheet חדרי שינה
A1: ='תוכן עניינים'!$B$7 -> תקן ריהוט וציוד לדיור קהילתי - גירסה: 07/09/26 | E1: מס' חדרי שינה | F1: ='שאלון למילוי הגוף-חובה'!$D$36 -> 5 | I1: ='שאלון למילוי הגוף-חובה'!$C$10&" : "&'שאלון למילוי הגוף-חובה'!$D$10 -> שם הגוף המבקש :
A2: ='תוכן עניינים'!B14 -> 1 | B2: ='תוכן עניינים'!C14 -> חדרי שינה: ציוד וריהוט | E2: סה"כ דיירים | F2: ='שאלון למילוי הגוף-חובה'!$D$37 -> 6 | I2: ='שאלון למילוי הגוף-חובה'!$C$18&" : "&'שאלון למילוי הגוף-חובה'!$D$18 -> שם המסגרת :
C3: תקן | I3: בקשת הגוף | M3: אישור מנהלת התוכנית (חריגות בלבד) | P3: שלב 1 | R3: דוח הוצאות כספי מפורט - שלבים 2 ואילך
A4: מס' | B4: קבוצת הציוד | C4: סוג הריהוט / ציוד | D4: הערות | E4: תקציב ליחיד לחדר שינה | F4: כמות התקן | G4: תקציב מומלץ לפי מס' דיירים | I4: כמות מבוקשת | J4: תקציב מבוקש | K4: סטייה מהתקן | L4: הערות הגוף | M4: אישור חריגה | N4: הערות מנהלת התוכנית | P4: צפי עלות רכישה כולל מע"מ | Q4: שם הספק | R4: פירוט מהות ההוצאה - הציוד שנרכש / השרות שניתן | S4: מס' חשבונית מס / קבלה | T4: תאריך הוצאה | U4: סכום הוצאה בש"ח וכולל מע"מ | V4: סכום חריגה מהתקציב - הפרש בין הסכום שנרכש בפועל לעלות שאושרה בהסכם | W4: שיעור ההפרש | X4: הערות לחריגה | Y4: בדיקה והערות של היועץ מתאריך | Z4: נבדק בשלב 2/3
A5: 1.1 | B5: ריהוט | C5: ארון איחסון | D5: ארון אישי לכל דייר | E5: 3000 | F5: =$F$2 -> 6 | G5: =E5*F5 -> 18000 | J5: =IF(G5=0,0,I5*E5) -> 0 | K5: =IF(F5=0,"",IF(J5=0,"",IF(OR(J5-$G5>0,J5-$G5<0), (J5-$G5)/$G5, ""))) | L5: =IF(I5>F5,"יש להסביר חריגה","") | V5: =IF(U5="",0,U5-J5) -> 0 | W5: =IF(U5=0,0,V5/J5) -> 0
A6: 1.2 | C6: שולחן | D6: שולחן 1 בחדר (ל-1-2 דיירים) | E6: 1200 | F6: =$F$1 -> 5 | G6: =E6*F6 -> 6000 | J6: =IF(G6=0,0,I6*E6) -> 0 | K6: =IF(F6=0,"",IF(J6=0,"",IF(OR(J6-$G6>0,J6-$G6<0), (J6-$G6)/$G6, ""))) | L6: =IF(I6>F6,"יש להסביר חריגה","") | V6: =IF(U6="",0,U6-J6) -> 0 | W6: =IF(U6=0,0,V6/J6) -> 0
A7: 1.3 | C7: כיסא | D7: לפי 2 לחדר | E7: 600 | F7: =$F$1*2 -> 10 | G7: =E7*F7 -> 6000 | J7: =IF(G7=0,0,I7*E7) -> 0 | K7: =IF(F7=0,"",IF(J7=0,"",IF(OR(J7-$G7>0,J7-$G7<0), (J7-$G7)/$G7, ""))) | L7: =IF(I7>F7,"יש להסביר חריגה","") | V7: =IF(U7="",0,U7-J7) -> 0 | W7: =IF(U7=0,0,V7/J7) -> 0
A8: 1.4 | C8: מיטה + ארגז מצעים | D8: מיטה ברוחב כ- 90-120 ס"מ | E8: 4000 | F8: =$F$2 -> 6 | G8: =E8*F8 -> 24000 | J8: =IF(G8=0,0,I8*E8) -> 0 | K8: =IF(F8=0,"",IF(J8=0,"",IF(OR(J8-$G8>0,J8-$G8<0), (J8-$G8)/$G8, ""))) | L8: =IF(I8>F8,"יש להסביר חריגה","") | V8: =IF(U8="",0,U8-J8) -> 0 | W8: =IF(U8=0,0,V8/J8) -> 0
A9: 1.5 | C9: ארונית מגירות | D9: ליד כל מיטה לפי מספר אנשים/ מיטות | E9: 1000 | F9: =$F$2 -> 6 | G9: =E9*F9 -> 6000 | J9: =IF(G9=0,0,I9*E9) -> 0 | K9: =IF(F9=0,"",IF(J9=0,"",IF(OR(J9-$G9>0,J9-$G9<0), (J9-$G9)/$G9, ""))) | L9: =IF(I9>F9,"יש להסביר חריגה","") | V9: =IF(U9="",0,U9-J9) -> 0 | W9: =IF(U9=0,0,V9/J9) -> 0
A10: 1.6 | B10: מוצרי חשמל | C10: מזגן | D10: מזגן לחדר שינה - עד 1.5 כ"ס | E10: 3000 | F10: =$F$1 -> 5 | G10: =E10*F10 -> 15000 | J10: =IF(G10=0,0,I10*E10) -> 0 | K10: =IF(F10=0,"",IF(J10=0,"",IF(OR(J10-$G10>0,J10-$G10<0), (J10-$G10)/$G10, ""))) | L10: =IF(I10>F10,"יש להסביר חריגה","") | V10: =IF(U10="",0,U10-J10) -> 0 | W10: =IF(U10=0,0,V10/J10) -> 0
A11: 1.7 | C11: מנורת קריאה | E11: 400 | F11: =$F$2 -> 6 | G11: =E11*F11 -> 2400 | J11: =IF(G11=0,0,I11*E11) -> 0 | K11: =IF(F11=0,"",IF(J11=0,"",IF(OR(J11-$G11>0,J11-$G11<0), (J11-$G11)/$G11, ""))) | L11: =IF(I11>F11,"יש להסביר חריגה","") | V11: =IF(U11="",0,U11-J11) -> 0 | W11: =IF(U11=0,0,V11/J11) -> 0
A12: 1.8 | B12: מכשירים אלקטרוניים | C12: מחשב קומפלט | D12: נייח או נייד לפי הצורך | E12: 5000 | F12: =$F$1 -> 5 | G12: =E12*F12 -> 25000 | J12: =IF(G12=0,0,I12*E12) -> 0 | K12: =IF(F12=0,"",IF(J12=0,"",IF(OR(J12-$G12>0,J12-$G12<0), (J12-$G12)/$G12, ""))) | L12: =IF(I12>F12,"יש להסביר חריגה","") | V12: =IF(U12="",0,U12-J12) -> 0 | W12: =IF(U12=0,0,V12/J12) -> 0
A13: 1.9 | C13: טלוויזיה כולל מגן | D13: גודל לפי מאפייני המקום עד 40 אינץ' | E13: 3000 | F13: =$F$1 -> 5 | G13: =E13*F13 -> 15000 | J13: =IF(G13=0,0,I13*E13) -> 0 | K13: =IF(F13=0,"",IF(J13=0,"",IF(OR(J13-$G13>0,J13-$G13<0), (J13-$G13)/$G13, ""))) | L13: =IF(I13>F13,"יש להסביר חריגה","") | V13: =IF(U13="",0,U13-J13) -> 0 | W13: =IF(U13=0,0,V13/J13) -> 0
A14: 1.1 | C14: מנעול חכם כולל התקנה | D14: סוג הציוד לפי צרכי המקום | E14: 500 | F14: =$F$1 -> 5 | G14: =E14*F14 -> 2500 | J14: =IF(G14=0,0,I14*E14) -> 0 | K14: =IF(F14=0,"",IF(J14=0,"",IF(OR(J14-$G14>0,J14-$G14<0), (J14-$G14)/$G14, ""))) | L14: =IF(I14>F14,"יש להסביר חריגה","") | V14: =IF(U14="",0,U14-J14) -> 0 | W14: =IF(U14=0,0,V14/J14) -> 0
A15: 1.11 | C15: גלאי עשן | D15: סוג הציוד לפי צרכי המקום | E15: 200 | F15: =$F$1 -> 5 | G15: =E15*F15 -> 1000 | J15: =IF(G15=0,0,I15*E15) -> 0 | K15: =IF(F15=0,"",IF(J15=0,"",IF(OR(J15-$G15>0,J15-$G15<0), (J15-$G15)/$G15, ""))) | L15: =IF(I15>F15,"יש להסביר חריגה","") | V15: =IF(U15="",0,U15-J15) -> 0 | W15: =IF(U15=0,0,V15/J15) -> 0
A16: 1.12 | B16: כלי בית ואביזרים | C16: וילון חסין אש | D16: לפי מספר חדרים - חלון אחד בחדר שינה | E16: 1500 | F16: =$F$1 -> 5 | G16: =E16*F16 -> 7500 | J16: =IF(G16=0,0,I16*E16) -> 0 | K16: =IF(F16=0,"",IF(J16=0,"",IF(OR(J16-$G16>0,J16-$G16<0), (J16-$G16)/$G16, ""))) | L16: =IF(I16>F16,"יש להסביר חריגה","") | V16: =IF(U16="",0,U16-J16) -> 0 | W16: =IF(U16=0,0,V16/J16) -> 0
A17: 1.13 | C17: כלי מיטה ומגבות | D17: 4 סטים למיטה + 4 מגבות + מגן מזרן + כרית + 2 שמיכות | E17: 3000 | F17: =$F$2 -> 6 | G17: =E17*F17 -> 18000 | J17: =IF(G17=0,0,I17*E17) -> 0 | K17: =IF(F17=0,"",IF(J17=0,"",IF(OR(J17-$G17>0,J17-$G17<0), (J17-$G17)/$G17, ""))) | L17: =IF(I17>F17,"יש להסביר חריגה","") | V17: =IF(U17="",0,U17-J17) -> 0 | W17: =IF(U17=0,0,V17/J17) -> 0
A18: 1.14 | C18: אביזרי עיצוב | D18: בחדר שינה | E18: 3000 | F18: =$F$1 -> 5 | G18: =E18*F18 -> 15000 | J18: =IF(G18=0,0,I18*E18) -> 0 | K18: =IF(F18=0,"",IF(J18=0,"",IF(OR(J18-$G18>0,J18-$G18<0), (J18-$G18)/$G18, ""))) | L18: =IF(I18>F18,"יש להסביר חריגה","") | V18: =IF(U18="",0,U18-J18) -> 0 | W18: =IF(U18=0,0,V18/J18) -> 0
A19: סה"כ ריהוט וציוד לחדרי שינה כולל מע"מ | G19: =SUM(G5:G18) -> 161400 | J19: =SUM(J5:J18) -> 0 | K19: =IF(J19=0,"",IF(OR(J19-$G19>0,J19-$G19<0), (J19-$G19)/$G19, "")) | P19: =SUM(P5:P18) -> 0 | U19: =SUM(U5:U18) -> 0 | V19: =IF(U19="",0,U19-J19) -> 0 | W19: =IF(U19=0,0,V19/J19) -> 0

Sheet דירה קהילתית-חללים משותפים 
A1: ='תוכן עניינים'!$B$7 -> תקן ריהוט וציוד לדיור קהילתי - גירסה: 07/09/26 | E1: ='שאלון למילוי הגוף-חובה'!C30 -> מס' דירות עד 8 דיירים | F1: ='שאלון למילוי הגוף-חובה'!D30 -> 1 | G1: סיווג הדירה | I1: ='שאלון למילוי הגוף-חובה'!$C$10&" : "&'שאלון למילוי הגוף-חובה'!$D$10 -> שם הגוף המבקש :
A2: ='תוכן עניינים'!B15 -> 2 | B2: ='תוכן עניינים'!C15 -> דירה קהלתית: ציוד חללים משותפים (עד 8 דיירים) | E2: ='שאלון למילוי הגוף-חובה'!C31 -> מס' דיירים בדירות עד 8 דיירים | F2: ='שאלון למילוי הגוף-חובה'!D31 -> 6 | G2: =IF(F1=0,"הגיליון אינו רלוונטי לבקשה",IF(F2/F1<=4,"עד 4",IF(F2/F1<=6,"עד 6",IF(F2/F1<=8,"עד 8","הגיליון אינו רלוונטי לבקשה")))) -> עד 6 | I2: ='שאלון למילוי הגוף-חובה'!$C$18&" : "&'שאלון למילוי הגוף-חובה'!$D$18 -> שם המסגרת :
C3: תקן | I3: בקשת הגוף | M3: אישור מנהלת התוכנית (חריגות בלבד) | P3: שלב 1 | R3: דוח הוצאות כספי מפורט - שלבים 2 ואילך
A4: מס' | B4: קבוצת הציוד | C4: סוג הריהוט / ציוד | D4: הערות | E4: מחיר ליחידה | F4: כמות תקן | G4: תקציב מומלץ לפי תקן | I4: כמות מבוקשת | J4: תקציב מבוקש | K4: סטייה מהתקן | L4: הערות הגוף | M4: אישור חריגה | N4: הערות מנהלת התוכנית | P4: צפי עלות רכישה כולל מע"מ | Q4: שם הספק | R4: פירוט מהות ההוצאה - הציוד שנרכש / השרות שניתן | S4: מס' חשבונית מס / קבלה | T4: תאריך הוצאה | U4: סכום הוצאה בש"ח וכולל מע"מ | V4: סכום חריגה מהתקציב - הפרש בין הסכום שנרכש בפועל לעלות שאושרה בהסכם | W4: שיעור ההפרש | X4: הערות לחריגה | Y4: בדיקה והערות של היועץ מתאריך | Z4: נבדק בשלב 2/3
A5: 2.1 | C5: מטבח | J5: =C5 -> מטבח | P5: =C5 -> מטבח
A6: 2.1.1 | B6: ריהוט | C6: פינת אוכל | D6: =IF($G$2=נוסחאות!$B$2,נוסחאות!B15,IF($G$2=נוסחאות!$F$2,נוסחאות!F15,IF($G$2=נוסחאות!$J$2,נוסחאות!J15,0))) -> - | E6: =IF($G$2=נוסחאות!$B$2,נוסחאות!C15,IF($G$2=נוסחאות!$F$2,נוסחאות!G15,IF($G$2=נוסחאות!$J$2,נוסחאות!K15,0))) -> 10000 | F6: =IF($G$2=נוסחאות!$B$2,נוסחאות!D15*$F$1,IF($G$2=נוסחאות!$F$2,נוסחאות!H15*$F$1,IF($G$2=נוסחאות!$J$2,נוסחאות!L15*$F$1,0))) -> 1 | G6: =F6*E6 -> 10000 | J6: =IF(G6=0,0,I6*E6) -> 0 | K6: =IF(F6=0,"",IF(J6=0,"",IF(OR(J6-$G6>0,J6-$G6<0), (J6-$G6)/$G6, ""))) | L6: =IF(I6>F6,"יש להסביר חריגה","") | V6: =IF(U6="",0,U6-J6) -> 0 | W6: =IF(U6=0,0,V6/J6) -> 0
A7: 2.1.2 | B7: מוצרי חשמל | C7: מקרר | D7: =IF($G$2=נוסחאות!$B$2,נוסחאות!B7,IF($G$2=נוסחאות!$F$2,נוסחאות!F7,IF($G$2=נוסחאות!$J$2,נוסחאות!J7,0))) -> ביתי | E7: =IF($G$2=נוסחאות!$B$2,נוסחאות!C7,IF($G$2=נוסחאות!$F$2,נוסחאות!G7,IF($G$2=נוסחאות!$J$2,נוסחאות!K7,0))) -> 8000 | F7: =IF($G$2=נוסחאות!$B$2,נוסחאות!D7*$F$1,IF($G$2=נוסחאות!$F$2,נוסחאות!H7*$F$1,IF($G$2=נוסחאות!$J$2,נוסחאות!L7*$F$1,0))) -> 1 | G7: =F7*E7 -> 8000 | J7: =IF(G7=0,0,I7*E7) -> 0 | K7: =IF(J7=0,"",IF(OR(J7-$G7>0,J7-$G7<0), (J7-$G7)/$G7, "")) | L7: =IF(I7>F7,"יש להסביר חריגה","") | V7: =IF(U7="",0,U7-J7) -> 0 | W7: =IF(U7=0,0,V7/J7) -> 0
A8: 2.1.3 | C8: מעבד מזון | D8: =IF($G$2=נוסחאות!$B$2,נוסחאות!B6,IF($G$2=נוסחאות!$F$2,נוסחאות!F6,IF($G$2=נוסחאות!$J$2,נוסחאות!J6,0))) -> ביתי | E8: =IF($G$2=נוסחאות!$B$2,נוסחאות!C6,IF($G$2=נוסחאות!$F$2,נוסחאות!G6,IF($G$2=נוסחאות!$J$2,נוסחאות!K6,0))) -> 2000 | F8: =IF($G$2=נוסחאות!$B$2,נוסחאות!D6*$F$1,IF($G$2=נוסחאות!$F$2,נוסחאות!H6*$F$1,IF($G$2=נוסחאות!$J$2,נוסחאות!L6*$F$1,0))) -> 1 | G8: =F8*E8 -> 2000 | J8: =IF(G8=0,0,I8*E8) -> 0 | K8: =IF(J8=0,"",IF(OR(J8-$G8>0,J8-$G8<0), (J8-$G8)/$G8, "")) | L8: =IF(I8>F8,"יש להסביר חריגה","") | V8: =IF(U8="",0,U8-J8) -> 0 | W8: =IF(U8=0,0,V8/J8) -> 0
A9: 2.1.4 | C9: מדיח כלים | D9: =IF($G$2=נוסחאות!$B$2,נוסחאות!B16,IF($G$2=נוסחאות!$F$2,נוסחאות!F16,IF($G$2=נוסחאות!$J$2,נוסחאות!J16,0))) -> ביתי | E9: =IF($G$2=נוסחאות!$B$2,נוסחאות!C16,IF($G$2=נוסחאות!$F$2,נוסחאות!G16,IF($G$2=נוסחאות!$J$2,נוסחאות!K16,0))) -> 4000 | F9: =IF($G$2=נוסחאות!$B$2,נוסחאות!D16*$F$1,IF($G$2=נוסחאות!$F$2,נוסחאות!H16*$F$1,IF($G$2=נוסחאות!$J$2,נוסחאות!L16*$F$1,0))) -> 1 | G9: =F9*E9 -> 4000 | J9: =IF(G9=0,0,I9*E9) -> 0 | L9: =IF(I9>F9,"יש להסביר חריגה","") | V9: =IF(U9="",0,U9-J9) -> 0 | W9: =IF(U9=0,0,V9/J9) -> 0
A10: 2.1.5 | C10: תנור אפייה וחימום | D10: =IF($G$2=נוסחאות!$B$2,נוסחאות!B10,IF($G$2=נוסחאות!$F$2,נוסחאות!F10,IF($G$2=נוסחאות!$J$2,נוסחאות!J10,0))) -> - | E10: =IF($G$2=נוסחאות!$B$2,נוסחאות!C10,IF($G$2=נוסחאות!$F$2,נוסחאות!G10,IF($G$2=נוסחאות!$J$2,נוסחאות!K10,0))) -> 4000 | F10: =IF($G$2=נוסחאות!$B$2,נוסחאות!D10*$F$1,IF($G$2=נוסחאות!$F$2,נוסחאות!H10*$F$1,IF($G$2=נוסחאות!$J$2,נוסחאות!L10*$F$1,0))) -> 1 | G10: =F10*E10 -> 4000 | J10: =IF(G10=0,0,I10*E10) -> 0 | K10: =IF(J10=0,"",IF(OR(J10-$G10>0,J10-$G10<0), (J10-$G10)/$G10, "")) | L10: =IF(I10>F10,"יש להסביר חריגה","") | V10: =IF(U10="",0,U10-J10) -> 0 | W10: =IF(U10=0,0,V10/J10) -> 0
A11: 2.1.6 | C11: כיריים חשמליות 4 להבות | D11: =IF($G$2=נוסחאות!$B$2,נוסחאות!B12,IF($G$2=נוסחאות!$F$2,נוסחאות!F12,IF($G$2=נוסחאות!$J$2,נוסחאות!J12,0))) -> - | E11: =IF($G$2=נוסחאות!$B$2,נוסחאות!C12,IF($G$2=נוסחאות!$F$2,נוסחאות!G12,IF($G$2=נוסחאות!$J$2,נוסחאות!K12,0))) -> 6000 | F11: =IF($G$2=נוסחאות!$B$2,נוסחאות!D12*$F$1,IF($G$2=נוסחאות!$F$2,נוסחאות!H12*$F$1,IF($G$2=נוסחאות!$J$2,נוסחאות!L12*$F$1,0))) -> 1 | G11: =F11*E11 -> 6000 | J11: =IF(G11=0,0,I11*E11) -> 0 | L11: =IF(I11>F11,"יש להסביר חריגה","") | V11: =IF(U11="",0,U11-J11) -> 0 | W11: =IF(U11=0,0,V11/J11) -> 0
A12: 2.1.7 | C12: קולט אדים | D12: =IF($G$2=נוסחאות!$B$2,נוסחאות!B11,IF($G$2=נוסחאות!$F$2,נוסחאות!F11,IF($G$2=נוסחאות!$J$2,נוסחאות!J11,0))) -> - | E12: =IF($G$2=נוסחאות!$B$2,נוסחאות!C11,IF($G$2=נוסחאות!$F$2,נוסחאות!G11,IF($G$2=נוסחאות!$J$2,נוסחאות!K11,0))) -> 3000 | F12: =IF($G$2=נוסחאות!$B$2,נוסחאות!D11*$F$1,IF($G$2=נוסחאות!$F$2,נוסחאות!H11*$F$1,IF($G$2=נוסחאות!$J$2,נוסחאות!L11*$F$1,0))) -> 1 | G12: =F12*E12 -> 3000 | J12: =IF(G12=0,0,I12*E12) -> 0 | L12: =IF(I12>F12,"יש להסביר חריגה","") | V12: =IF(U12="",0,U12-J12) -> 0 | W12: =IF(U12=0,0,V12/J12) -> 0
A13: 2.1.8 | C13: מתקן/ בר מים | D13: =IF($G$2=נוסחאות!$B$2,נוסחאות!B14,IF($G$2=נוסחאות!$F$2,נוסחאות!F14,IF($G$2=נוסחאות!$J$2,נוסחאות!J14,0))) -> - | E13: =IF($G$2=נוסחאות!$B$2,נוסחאות!C14,IF($G$2=נוסחאות!$F$2,נוסחאות!G14,IF($G$2=נוסחאות!$J$2,נוסחאות!K14,0))) -> 4000 | F13: =IF($G$2=נוסחאות!$B$2,נוסחאות!D14*$F$1,IF($G$2=נוסחאות!$F$2,נוסחאות!H14*$F$1,IF($G$2=נוסחאות!$J$2,נוסחאות!L14*$F$1,0))) -> 1 | G13: =F13*E13 -> 4000 | J13: =IF(G13=0,0,I13*E13) -> 0 | L13: =IF(I13>F13,"יש להסביר חריגה","") | V13: =IF(U13="",0,U13-J13) -> 0 | W13: =IF(U13=0,0,V13/J13) -> 0
A14: 2.1.9 | C14: מיקרוגל | D14: =IF($G$2=נוסחאות!$B$2,נוסחאות!B5,IF($G$2=נוסחאות!$F$2,נוסחאות!F5,IF($G$2=נוסחאות!$J$2,נוסחאות!J5,0))) -> ביתי | E14: =IF($G$2=נוסחאות!$B$2,נוסחאות!C5,IF($G$2=נוסחאות!$F$2,נוסחאות!G5,IF($G$2=נוסחאות!$J$2,נוסחאות!K5,0))) -> 2000 | F14: =IF($G$2=נוסחאות!$B$2,נוסחאות!D5*$F$1,IF($G$2=נוסחאות!$F$2,נוסחאות!H5*$F$1,IF($G$2=נוסחאות!$J$2,נוסחאות!L5*$F$1,0))) -> 1 | G14: =F14*E14 -> 2000 | J14: =IF(G14=0,0,I14*E14) -> 0 | K14: =IF(J14=0,"",IF(OR(J14-$G14>0,J14-$G14<0), (J14-$G14)/$G14, "")) | L14: =IF(I14>F14,"יש להסביר חריגה","") | V14: =IF(U14="",0,U14-J14) -> 0 | W14: =IF(U14=0,0,V14/J14) -> 0
A15: 2.1.10 | C15: בלנדר | D15: =IF($G$2=נוסחאות!$B$2,נוסחאות!B17,IF($G$2=נוסחאות!$F$2,נוסחאות!F17,IF($G$2=נוסחאות!$J$2,נוסחאות!J17,0))) -> - | E15: =IF($G$2=נוסחאות!$B$2,נוסחאות!C17,IF($G$2=נוסחאות!$F$2,נוסחאות!G17,IF($G$2=נוסחאות!$J$2,נוסחאות!K17,0))) -> 1500 | F15: =IF($G$2=נוסחאות!$B$2,נוסחאות!D17*$F$1,IF($G$2=נוסחאות!$F$2,נוסחאות!H17*$F$1,IF($G$2=נוסחאות!$J$2,נוסחאות!L17*$F$1,0))) -> 1 | G15: =F15*E15 -> 1500 | J15: =IF(G15=0,0,I15*E15) -> 0 | L15: =IF(I15>F15,"יש להסביר חריגה","") | V15: =IF(U15="",0,U15-J15) -> 0 | W15: =IF(U15=0,0,V15/J15) -> 0
A16: 2.1.11 | C16: גריל חשמלי | D16: =IF($G$2=נוסחאות!$B$2,נוסחאות!B18,IF($G$2=נוסחאות!$F$2,נוסחאות!F18,IF($G$2=נוסחאות!$J$2,נוסחאות!J18,0))) -> מכשיר לטיגון/ בישול ללא שמן | E16: =IF($G$2=נוסחאות!$B$2,נוסחאות!C18,IF($G$2=נוסחאות!$F$2,נוסחאות!G18,IF($G$2=נוסחאות!$J$2,נוסחאות!K18,0))) -> 1500 | F16: =IF($G$2=נוסחאות!$B$2,נוסחאות!D18*$F$1,IF($G$2=נוסחאות!$F$2,נוסחאות!H18*$F$1,IF($G$2=נוסחאות!$J$2,נוסחאות!L18*$F$1,0))) -> 1 | G16: =F16*E16 -> 1500 | J16: =IF(G16=0,0,I16*E16) -> 0 | L16: =IF(I16>F16,"יש להסביר חריגה","") | V16: =IF(U16="",0,U16-J16) -> 0 | W16: =IF(U16=0,0,V16/J16) -> 0
A17: 2.1.12 | C17: מיחם חשמלי | D17: =IF($G$2=נוסחאות!$B$2,נוסחאות!B13,IF($G$2=נוסחאות!$F$2,נוסחאות!F13,IF($G$2=נוסחאות!$J$2,נוסחאות!J13,0))) -> מיחם ביתי | E17: =IF($G$2=נוסחאות!$B$2,נוסחאות!C13,IF($G$2=נוסחאות!$F$2,נוסחאות!G13,IF($G$2=נוסחאות!$J$2,נוסחאות!K13,0))) -> 500 | F17: =IF($G$2=נוסחאות!$B$2,נוסחאות!D13*$F$1,IF($G$2=נוסחאות!$F$2,נוסחאות!H13*$F$1,IF($G$2=נוסחאות!$J$2,נוסחאות!L13*$F$1,0))) -> 1 | G17: =F17*E17 -> 500 | J17: =IF(G17=0,0,I17*E17) -> 0 | K17: =IF(J17=0,"",IF(OR(J17-$G17>0,J17-$G17<0), (J17-$G17)/$G17, "")) | L17: =IF(I17>F17,"יש להסביר חריגה","") | V17: =IF(U17="",0,U17-J17) -> 0 | W17: =IF(U17=0,0,V17/J17) -> 0
A18: 2.1.13 | C18: פלטת חימום לשבת | D18: =IF($G$2=נוסחאות!$B$2,נוסחאות!B8,IF($G$2=נוסחאות!$F$2,נוסחאות!F8,IF($G$2=נוסחאות!$J$2,נוסחאות!J8,0))) -> - | E18: =IF($G$2=נוסחאות!$B$2,נוסחאות!C8,IF($G$2=נוסחאות!$F$2,נוסחאות!G8,IF($G$2=נוסחאות!$J$2,נוסחאות!K8,0))) -> 200 | F18: =IF($G$2=נוסחאות!$B$2,נוסחאות!D8*$F$1,IF($G$2=נוסחאות!$F$2,נוסחאות!H8*$F$1,IF($G$2=נוסחאות!$J$2,נוסחאות!L8*$F$1,0))) -> 1 | G18: =F18*E18 -> 200 | J18: =IF(G18=0,0,I18*E18) -> 0 | K18: =IF(J18=0,"",IF(OR(J18-$G18>0,J18-$G18<0), (J18-$G18)/$G18, "")) | L18: =IF(I18>F18,"יש להסביר חריגה","") | V18: =IF(U18="",0,U18-J18) -> 0 | W18: =IF(U18=0,0,V18/J18) -> 0
A19: 2.1.14 | C19: קומקום חשמלי | D19: =IF($G$2=נוסחאות!$B$2,נוסחאות!B9,IF($G$2=נוסחאות!$F$2,נוסחאות!F9,IF($G$2=נוסחאות!$J$2,נוסחאות!J9,0))) -> - | E19: =IF($G$2=נוסחאות!$B$2,נוסחאות!C9,IF($G$2=נוסחאות!$F$2,נוסחאות!G9,IF($G$2=נוסחאות!$J$2,נוסחאות!K9,0))) -> 300 | F19: =IF($G$2=נוסחאות!$B$2,נוסחאות!D9*$F$1,IF($G$2=נוסחאות!$F$2,נוסחאות!H9*$F$1,IF($G$2=נוסחאות!$J$2,נוסחאות!L9*$F$1,0))) -> 1 | G19: =F19*E19 -> 300 | J19: =IF(G19=0,0,I19*E19) -> 0 | K19: =IF(J19=0,"",IF(OR(J19-$G19>0,J19-$G19<0), (J19-$G19)/$G19, "")) | L19: =IF(I19>F19,"יש להסביר חריגה","") | V19: =IF(U19="",0,U19-J19) -> 0 | W19: =IF(U19=0,0,V19/J19) -> 0
A20: 2.1.15 | B20: כלי בית ואביזרים | C20: כלי בישול אחסון הגשה וניקוי | D20: =IF($G$2=נוסחאות!$B$2,נוסחאות!B4,IF($G$2=נוסחאות!$F$2,נוסחאות!F4,IF($G$2=נוסחאות!$J$2,נוסחאות!J4,0))) -> - | E20: =IF($G$2=נוסחאות!$B$2,נוסחאות!C4,IF($G$2=נוסחאות!$F$2,נוסחאות!G4,IF($G$2=נוסחאות!$J$2,נוסחאות!K4,0))) -> 6000 | F20: =IF($G$2=נוסחאות!$B$2,נוסחאות!D4*$F$1,IF($G$2=נוסחאות!$F$2,נוסחאות!H4*$F$1,IF($G$2=נוסחאות!$J$2,נוסחאות!L4*$F$1,0))) -> 1 | G20: =F20*E20 -> 6000 | J20: =IF(G20=0,0,I20*E20) -> 0 | K20: =IF(J20=0,"",IF(OR(J20-$G20>0,J20-$G20<0), (J20-$G20)/$G20, "")) | L20: =IF(I20>F20,"יש להסביר חריגה","") | V20: =IF(U20="",0,U20-J20) -> 0 | W20: =IF(U20=0,0,V20/J20) -> 0
A21: 2.1.16 | B21: סה"כ מטבח כולל מע"מ | G21: =SUM(G6:G20) -> 53000 | J21: =SUM(J6:J20) -> 0 | K21: =IF(J21=0,"",IF(OR(J21-$G21>0,J21-$G21<0), (J21-$G21)/$G21, "")) | L21: =B21 -> סה"כ מטבח כולל מע"מ | P21: =SUM(P6:P20) -> 0 | U21: =SUM(U6:U20) -> 0 | V21: =IF(U21="",0,U21-J21) -> 0 | W21: =IF(U21=0,0,V21/J21) -> 0
A22: 2.2 | C22: סלון | J22: =C22 -> סלון | P22: =C22 -> סלון
A23: 2.2.1 | B23: ריהוט | C23: סלון | D23: =IF($G$2=נוסחאות!$B$2,נוסחאות!B32,IF($G$2=נוסחאות!$F$2,נוסחאות!F32,IF($G$2=נוסחאות!$J$2,נוסחאות!J32,0))) -> 1+2+3 | E23: =IF($G$2=נוסחאות!$B$2,נוסחאות!C32,IF($G$2=נוסחאות!$F$2,נוסחאות!G32,IF($G$2=נוסחאות!$J$2,נוסחאות!K32,0))) -> 10000 | F23: =IF($G$2=נוסחאות!$B$2,נוסחאות!D32*$F$1,IF($G$2=נוסחאות!$F$2,נוסחאות!H32*$F$1,IF($G$2=נוסחאות!$J$2,נוסחאות!L32*$F$1,0))) -> 1 | G23: =F23*E23 -> 10000 | J23: =IF(G23=0,0,I23*E23) -> 0 | K23: =IF(J23=0,"",IF(OR(J23-$G23>0,J23-$G23<0), (J23-$G23)/$G23, "")) | L23: =IF(I23>F23,"יש להסביר חריגה","") | V23: =IF(U23="",0,U23-J23) -> 0 | W23: =IF(U23=0,0,V23/J23) -> 0
A24: 2.2.2 | C24: שולחן סלון | D24: =IF($G$2=נוסחאות!$B$2,נוסחאות!B33,IF($G$2=נוסחאות!$F$2,נוסחאות!F33,IF($G$2=נוסחאות!$J$2,נוסחאות!J33,0))) -> - | E24: =IF($G$2=נוסחאות!$B$2,נוסחאות!C33,IF($G$2=נוסחאות!$F$2,נוסחאות!G33,IF($G$2=נוסחאות!$J$2,נוסחאות!K33,0))) -> 1200 | F24: =IF($G$2=נוסחאות!$B$2,נוסחאות!D33*$F$1,IF($G$2=נוסחאות!$F$2,נוסחאות!H33*$F$1,IF($G$2=נוסחאות!$J$2,נוסחאות!L33*$F$1,0))) -> 1 | G24: =F24*E24 -> 1200 | J24: =IF(G24=0,0,I24*E24) -> 0 | K24: =IF(J24=0,"",IF(OR(J24-$G24>0,J24-$G24<0), (J24-$G24)/$G24, "")) | L24: =IF(I24>F24,"יש להסביר חריגה","") | V24: =IF(U24="",0,U24-J24) -> 0 | W24: =IF(U24=0,0,V24/J24) -> 0
A25: 2.2.3 | C25: מזנון | D25: =IF($G$2=נוסחאות!$B$2,נוסחאות!B34,IF($G$2=נוסחאות!$F$2,נוסחאות!F34,IF($G$2=נוסחאות!$J$2,נוסחאות!J34,0))) -> - | E25: =IF($G$2=נוסחאות!$B$2,נוסחאות!C34,IF($G$2=נוסחאות!$F$2,נוסחאות!G34,IF($G$2=נוסחאות!$J$2,נוסחאות!K34,0))) -> 2000 | F25: =IF($G$2=נוסחאות!$B$2,נוסחאות!D34*$F$1,IF($G$2=נוסחאות!$F$2,נוסחאות!H34*$F$1,IF($G$2=נוסחאות!$J$2,נוסחאות!L34*$F$1,0))) -> 1 | G25: =F25*E25 -> 2000 | J25: =IF(G25=0,0,I25*E25) -> 0 | K25: =IF(J25=0,"",IF(OR(J25-$G25>0,J25-$G25<0), (J25-$G25)/$G25, "")) | L25: =IF(I25>F25,"יש להסביר חריגה","") | V25: =IF(U25="",0,U25-J25) -> 0 | W25: =IF(U25=0,0,V25/J25) -> 0
A26: 2.2.4 | B26: מוצרי חשמל | C26: מזגן | D26: =IF($G$2=נוסחאות!$B$2,נוסחאות!B29,IF($G$2=נוסחאות!$F$2,נוסחאות!F29,IF($G$2=נוסחאות!$J$2,נוסחאות!J29,0))) -> 2.5 כ"ס | E26: =IF($G$2=נוסחאות!$B$2,נוסחאות!C29,IF($G$2=נוסחאות!$F$2,נוסחאות!G29,IF($G$2=נוסחאות!$J$2,נוסחאות!K29,0))) -> 7000 | F26: =IF($G$2=נוסחאות!$B$2,נוסחאות!D29*$F$1,IF($G$2=נוסחאות!$F$2,נוסחאות!H29*$F$1,IF($G$2=נוסחאות!$J$2,נוסחאות!L29*$F$1,0))) -> 1 | G26: =F26*E26 -> 7000 | J26: =IF(G26=0,0,I26*E26) -> 0 | K26: =IF(J26=0,"",IF(OR(J26-$G26>0,J26-$G26<0), (J26-$G26)/$G26, "")) | L26: =IF(I26>F26,"יש להסביר חריגה","") | V26: =IF(U26="",0,U26-J26) -> 0 | W26: =IF(U26=0,0,V26/J26) -> 0
A27: 2.2.5 | B27: מכשירים אלקטרוניים | C27: טלוויזיה כולל מגן | D27: =IF($G$2=נוסחאות!$B$2,נוסחאות!B23,IF($G$2=נוסחאות!$F$2,נוסחאות!F23,IF($G$2=נוסחאות!$J$2,נוסחאות!J23,0))) -> גודל לפי צרכי המקום | E27: =IF($G$2=נוסחאות!$B$2,נוסחאות!C23,IF($G$2=נוסחאות!$F$2,נוסחאות!G23,IF($G$2=נוסחאות!$J$2,נוסחאות!K23,0))) -> 6000 | F27: =IF($G$2=נוסחאות!$B$2,נוסחאות!D23*$F$1,IF($G$2=נוסחאות!$F$2,נוסחאות!H23*$F$1,IF($G$2=נוסחאות!$J$2,נוסחאות!L23*$F$1,0))) -> 1 | G27: =F27*E27 -> 6000 | J27: =IF(G27=0,0,I27*E27) -> 0 | K27: =IF(J27=0,"",IF(OR(J27-$G27>0,J27-$G27<0), (J27-$G27)/$G27, "")) | L27: =IF(I27>F27,"יש להסביר חריגה","") | V27: =IF(U27="",0,U27-J27) -> 0 | W27: =IF(U27=0,0,V27/J27) -> 0
A28: 2.2.6 | C28: מצלמות אבטחה | D28: =IF($G$2=נוסחאות!$B$2,נוסחאות!B25,IF($G$2=נוסחאות!$F$2,נוסחאות!F25,IF($G$2=נוסחאות!$J$2,נוסחאות!J25,0))) -> באזורים משותפים | E28: =IF($G$2=נוסחאות!$B$2,נוסחאות!C25,IF($G$2=נוסחאות!$F$2,נוסחאות!G25,IF($G$2=נוסחאות!$J$2,נוסחאות!K25,0))) -> 3000 | F28: =IF($G$2=נוסחאות!$B$2,נוסחאות!D25*$F$1,IF($G$2=נוסחאות!$F$2,נוסחאות!H25*$F$1,IF($G$2=נוסחאות!$J$2,נוסחאות!L25*$F$1,0))) -> 3 | G28: =F28*E28 -> 9000 | J28: =IF(G28=0,0,I28*E28) -> 0 | K28: =IF(J28=0,"",IF(OR(J28-$G28>0,J28-$G28<0), (J28-$G28)/$G28, "")) | L28: =IF(I28>F28,"יש להסביר חריגה","") | V28: =IF(U28="",0,U28-J28) -> 0 | W28: =IF(U28=0,0,V28/J28) -> 0
A29: 2.2.7 | C29: מנעול חכם כולל התקנה | D29: =IF($G$2=נוסחאות!$B$2,נוסחאות!B26,IF($G$2=נוסחאות!$F$2,נוסחאות!F26,IF($G$2=נוסחאות!$J$2,נוסחאות!J26,0))) -> לדלת כניסה לדירה | E29: =IF($G$2=נוסחאות!$B$2,נוסחאות!C26,IF($G$2=נוסחאות!$F$2,נוסחאות!G26,IF($G$2=נוסחאות!$J$2,נוסחאות!K26,0))) -> 2500 | F29: =IF($G$2=נוסחאות!$B$2,נוסחאות!D26*$F$1,IF($G$2=נוסחאות!$F$2,נוסחאות!H26*$F$1,IF($G$2=נוסחאות!$J$2,נוסחאות!L26*$F$1,0))) -> 1 | G29: =F29*E29 -> 2500 | J29: =IF(G29=0,0,I29*E29) -> 0 | K29: =IF(J29=0,"",IF(OR(J29-$G29>0,J29-$G29<0), (J29-$G29)/$G29, "")) | L29: =IF(I29>F29,"יש להסביר חריגה","") | V29: =IF(U29="",0,U29-J29) -> 0 | W29: =IF(U29=0,0,V29/J29) -> 0
A30: 2.2.8 | C30: פעמון כניסה + מצלמה | D30: =IF($G$2=נוסחאות!$B$2,נוסחאות!B27,IF($G$2=נוסחאות!$F$2,נוסחאות!F27,IF($G$2=נוסחאות!$J$2,נוסחאות!J27,0))) -> - | E30: =IF($G$2=נוסחאות!$B$2,נוסחאות!C27,IF($G$2=נוסחאות!$F$2,נוסחאות!G27,IF($G$2=נוסחאות!$J$2,נוסחאות!K27,0))) -> 500 | F30: =IF($G$2=נוסחאות!$B$2,נוסחאות!D27*$F$1,IF($G$2=נוסחאות!$F$2,נוסחאות!H27*$F$1,IF($G$2=נוסחאות!$J$2,נוסחאות!L27*$F$1,0))) -> 1 | G30: =F30*E30 -> 500 | J30: =IF(G30=0,0,I30*E30) -> 0 | K30: =IF(J30=0,"",IF(OR(J30-$G30>0,J30-$G30<0), (J30-$G30)/$G30, "")) | L30: =IF(I30>F30,"יש להסביר חריגה","") | V30: =IF(U30="",0,U30-J30) -> 0 | W30: =IF(U30=0,0,V30/J30) -> 0
A31: 2.2.9 | C31: גלאי עשן | D31: =IF($G$2=נוסחאות!$B$2,נוסחאות!B28,IF($G$2=נוסחאות!$F$2,נוסחאות!F28,IF($G$2=נוסחאות!$J$2,נוסחאות!J28,0))) -> מאושר ע"י מת"י | E31: =IF($G$2=נוסחאות!$B$2,נוסחאות!C28,IF($G$2=נוסחאות!$F$2,נוסחאות!G28,IF($G$2=נוסחאות!$J$2,נוסחאות!K28,0))) -> 400 | F31: =IF($G$2=נוסחאות!$B$2,נוסחאות!D28*$F$1,IF($G$2=נוסחאות!$F$2,נוסחאות!H28*$F$1,IF($G$2=נוסחאות!$J$2,נוסחאות!L28*$F$1,0))) -> 3 | G31: =F31*E31 -> 1200 | J31: =IF(G31=0,0,I31*E31) -> 0 | K31: =IF(J31=0,"",IF(OR(J31-$G31>0,J31-$G31<0), (J31-$G31)/$G31, "")) | L31: =IF(I31>F31,"יש להסביר חריגה","") | V31: =IF(U31="",0,U31-J31) -> 0 | W31: =IF(U31=0,0,V31/J31) -> 0
A32: 2.2.10 | C32: מערכת שמע | D32: =IF($G$2=נוסחאות!$B$2,נוסחאות!B24,IF($G$2=נוסחאות!$F$2,נוסחאות!F24,IF($G$2=נוסחאות!$J$2,נוסחאות!J24,0))) -> - | E32: =IF($G$2=נוסחאות!$B$2,נוסחאות!C24,IF($G$2=נוסחאות!$F$2,נוסחאות!G24,IF($G$2=נוסחאות!$J$2,נוסחאות!K24,0))) -> 1500 | F32: =IF($G$2=נוסחאות!$B$2,נוסחאות!D24*$F$1,IF($G$2=נוסחאות!$F$2,נוסחאות!H24*$F$1,IF($G$2=נוסחאות!$J$2,נוסחאות!L24*$F$1,0))) -> 1 | G32: =F32*E32 -> 1500 | J32: =IF(G32=0,0,I32*E32) -> 0 | K32: =IF(J32=0,"",IF(OR(J32-$G32>0,J32-$G32<0), (J32-$G32)/$G32, "")) | L32: =IF(I32>F32,"יש להסביר חריגה","") | V32: =IF(U32="",0,U32-J32) -> 0 | W32: =IF(U32=0,0,V32/J32) -> 0
A33: 2.2.11 | C33: מחשב קומפלט | D33: =IF($G$2=נוסחאות!$B$2,נוסחאות!B30,IF($G$2=נוסחאות!$F$2,נוסחאות!F30,IF($G$2=נוסחאות!$J$2,נוסחאות!J30,0))) -> נייח או נייד לפי הצורך | E33: =IF($G$2=נוסחאות!$B$2,נוסחאות!C30,IF($G$2=נוסחאות!$F$2,נוסחאות!G30,IF($G$2=נוסחאות!$J$2,נוסחאות!K30,0))) -> 5000 | F33: =IF($G$2=נוסחאות!$B$2,נוסחאות!D30*$F$1,IF($G$2=נוסחאות!$F$2,נוסחאות!H30*$F$1,IF($G$2=נוסחאות!$J$2,נוסחאות!L30*$F$1,0))) -> 1 | G33: =F33*E33 -> 5000 | J33: =IF(G33=0,0,I33*E33) -> 0 | K33: =IF(J33=0,"",IF(OR(J33-$G33>0,J33-$G33<0), (J33-$G33)/$G33, "")) | L33: =IF(I33>F33,"יש להסביר חריגה","") | V33: =IF(U33="",0,U33-J33) -> 0 | W33: =IF(U33=0,0,V33/J33) -> 0
A34: 2.2.12 | C34: מדפסת משולבת | D34: =IF($G$2=נוסחאות!$B$2,נוסחאות!B31,IF($G$2=נוסחאות!$F$2,נוסחאות!F31,IF($G$2=נוסחאות!$J$2,נוסחאות!J31,0))) -> ביתית | E34: =IF($G$2=נוסחאות!$B$2,נוסחאות!C31,IF($G$2=נוסחאות!$F$2,נוסחאות!G31,IF($G$2=נוסחאות!$J$2,נוסחאות!K31,0))) -> 1000 | F34: =IF($G$2=נוסחאות!$B$2,נוסחאות!D31*$F$1,IF($G$2=נוסחאות!$F$2,נוסחאות!H31*$F$1,IF($G$2=נוסחאות!$J$2,נוסחאות!L31*$F$1,0))) -> 1 | G34: =F34*E34 -> 1000 | J34: =IF(G34=0,0,I34*E34) -> 0 | K34: =IF(J34=0,"",IF(OR(J34-$G34>0,J34-$G34<0), (J34-$G34)/$G34, "")) | L34: =IF(I34>F34,"יש להסביר חריגה","") | V34: =IF(U34="",0,U34-J34) -> 0 | W34: =IF(U34=0,0,V34/J34) -> 0
A35: 2.2.13 | B35: כלי בית | C35: וילון חסין אש | D35: =IF($G$2=נוסחאות!$B$2,נוסחאות!B22,IF($G$2=נוסחאות!$F$2,נוסחאות!F22,IF($G$2=נוסחאות!$J$2,נוסחאות!J22,0))) -> עלות לחלון בחדר דירה | E35: =IF($G$2=נוסחאות!$B$2,נוסחאות!C22,IF($G$2=נוסחאות!$F$2,נוסחאות!G22,IF($G$2=נוסחאות!$J$2,נוסחאות!K22,0))) -> 1500 | F35: =IF($G$2=נוסחאות!$B$2,נוסחאות!D22*$F$1,IF($G$2=נוסחאות!$F$2,נוסחאות!H22*$F$1,IF($G$2=נוסחאות!$J$2,נוסחאות!L22*$F$1,0))) -> 2 | G35: =F35*E35 -> 3000 | J35: =IF(G35=0,0,I35*E35) -> 0 | K35: =IF(J35=0,"",IF(OR(J35-$G35>0,J35-$G35<0), (J35-$G35)/$G35, "")) | L35: =IF(I35>F35,"יש להסביר חריגה","") | V35: =IF(U35="",0,U35-J35) -> 0 | W35: =IF(U35=0,0,V35/J35) -> 0
A36: 2.2.14 | B36: ואביזרים | C36: אביזרי עיצוב | D36: =IF($G$2=נוסחאות!$B$2,נוסחאות!B35,IF($G$2=נוסחאות!$F$2,נוסחאות!F35,IF($G$2=נוסחאות!$J$2,נוסחאות!J35,0))) -> אביזרים לסלון בית מגורים | E36: =IF($G$2=נוסחאות!$B$2,נוסחאות!C35,IF($G$2=נוסחאות!$F$2,נוסחאות!G35,IF($G$2=נוסחאות!$J$2,נוסחאות!K35,0))) -> 3000 | F36: =IF($G$2=נוסחאות!$B$2,נוסחאות!D35*$F$1,IF($G$2=נוסחאות!$F$2,נוסחאות!H35*$F$1,IF($G$2=נוסחאות!$J$2,נוסחאות!L35*$F$1,0))) -> 1 | G36: =F36*E36 -> 3000 | J36: =IF(G36=0,0,I36*E36) -> 0 | K36: =IF(J36=0,"",IF(OR(J36-$G36>0,J36-$G36<0), (J36-$G36)/$G36, "")) | L36: =IF(I36>F36,"יש להסביר חריגה","") | V36: =IF(U36="",0,U36-J36) -> 0 | W36: =IF(U36=0,0,V36/J36) -> 0
A37: 2.2.15 | B37: סה"כ סלון כולל מע"מ | G37: =SUM(G23:G36) -> 52900 | J37: =SUM(J23:J36) -> 0 | K37: =IF(J37=0,"",IF(OR(J37-$G37>0,J37-$G37<0), (J37-$G37)/$G37, "")) | L37: =B37 -> סה"כ סלון כולל מע"מ | P37: =SUM(P23:P36) -> 0 | U37: =SUM(U23:U36) -> 0 | V37: =IF(U37="",0,U37-J37) -> 0 | W37: =IF(U37=0,0,V37/J37) -> 0
A38: 2.3 | C38: ציוד כללי | J38: =C38 -> ציוד כללי | P38: =C38 -> ציוד כללי
A39: 2.3.1 | B39: ציוד חשמל | C39: מכונת כביסה | D39: =IF($G$2=נוסחאות!$B$2,נוסחאות!B43,IF($G$2=נוסחאות!$F$2,נוסחאות!F43,IF($G$2=נוסחאות!$J$2,נוסחאות!J43,0))) -> - | E39: =IF($G$2=נוסחאות!$B$2,נוסחאות!C43,IF($G$2=נוסחאות!$F$2,נוסחאות!G43,IF($G$2=נוסחאות!$J$2,נוסחאות!K43,0))) -> 5000 | F39: =IF($G$2=נוסחאות!$B$2,נוסחאות!D43*$F$1,IF($G$2=נוסחאות!$F$2,נוסחאות!H43*$F$1,IF($G$2=נוסחאות!$J$2,נוסחאות!L43*$F$1,0))) -> 1 | G39: =F39*E39 -> 5000 | J39: =IF(G39=0,0,I39*E39) -> 0 | K39: =IF(J39=0,"",IF(OR(J39-$G39>0,J39-$G39<0), (J39-$G39)/$G39, "")) | L39: =IF(I39>F39,"יש להסביר חריגה","") | V39: =IF(U39="",0,U39-J39) -> 0 | W39: =IF(U39=0,0,V39/J39) -> 0
A40: 2.3.2 | C40: מייבש כביסה | D40: =IF($G$2=נוסחאות!$B$2,נוסחאות!B40,IF($G$2=נוסחאות!$F$2,נוסחאות!F40,IF($G$2=נוסחאות!$J$2,נוסחאות!J40,0))) -> - | E40: =IF($G$2=נוסחאות!$B$2,נוסחאות!C40,IF($G$2=נוסחאות!$F$2,נוסחאות!G40,IF($G$2=נוסחאות!$J$2,נוסחאות!K40,0))) -> 5000 | F40: =IF($G$2=נוסחאות!$B$2,נוסחאות!D40*$F$1,IF($G$2=נוסחאות!$F$2,נוסחאות!H40*$F$1,IF($G$2=נוסחאות!$J$2,נוסחאות!L40*$F$1,0))) -> 1 | G40: =F40*E40 -> 5000 | J40: =IF(G40=0,0,I40*E40) -> 0 | K40: =IF(J40=0,"",IF(OR(J40-$G40>0,J40-$G40<0), (J40-$G40)/$G40, "")) | L40: =IF(I40>F40,"יש להסביר חריגה","") | V40: =IF(U40="",0,U40-J40) -> 0 | W40: =IF(U40=0,0,V40/J40) -> 0
A41: 2.3.3 | C41: שואב אבק תעשייתי | D41: =IF($G$2=נוסחאות!$B$2,נוסחאות!B41,IF($G$2=נוסחאות!$F$2,נוסחאות!F41,IF($G$2=נוסחאות!$J$2,נוסחאות!J41,0))) -> - | E41: =IF($G$2=נוסחאות!$B$2,נוסחאות!C41,IF($G$2=נוסחאות!$F$2,נוסחאות!G41,IF($G$2=נוסחאות!$J$2,נוסחאות!K41,0))) -> 5000 | F41: =IF($G$2=נוסחאות!$B$2,נוסחאות!D41*$F$1,IF($G$2=נוסחאות!$F$2,נוסחאות!H41*$F$1,IF($G$2=נוסחאות!$J$2,נוסחאות!L41*$F$1,0))) -> 1 | G41: =F41*E41 -> 5000 | J41: =IF(G41=0,0,I41*E41) -> 0 | L41: =IF(I41>F41,"יש להסביר חריגה","") | V41: =IF(U41="",0,U41-J41) -> 0 | W41: =IF(U41=0,0,V41/J41) -> 0
A42: 2.3.4 | C42: שואב אבק ביתי | D42: =IF($G$2=נוסחאות!$B$2,נוסחאות!B42,IF($G$2=נוסחאות!$F$2,נוסחאות!F42,IF($G$2=נוסחאות!$J$2,נוסחאות!J42,0))) -> שואב אבק ידני | E42: =IF($G$2=נוסחאות!$B$2,נוסחאות!C42,IF($G$2=נוסחאות!$F$2,נוסחאות!G42,IF($G$2=נוסחאות!$J$2,נוסחאות!K42,0))) -> 2000 | F42: =IF($G$2=נוסחאות!$B$2,נוסחאות!D42*$F$1,IF($G$2=נוסחאות!$F$2,נוסחאות!H42*$F$1,IF($G$2=נוסחאות!$J$2,נוסחאות!L42*$F$1,0))) -> 1 | G42: =F42*E42 -> 2000 | J42: =IF(G42=0,0,I42*E42) -> 0 | K42: =IF(J42=0,"",IF(OR(J42-$G42>0,J42-$G42<0), (J42-$G42)/$G42, "")) | L42: =IF(I42>F42,"יש להסביר חריגה","") | V42: =IF(U42="",0,U42-J42) -> 0 | W42: =IF(U42=0,0,V42/J42) -> 0
A43: 2.3.5 | C43: מגהץ + קרש | D43: =IF($G$2=נוסחאות!$B$2,נוסחאות!B39,IF($G$2=נוסחאות!$F$2,נוסחאות!F39,IF($G$2=נוסחאות!$J$2,נוסחאות!J39,0))) -> - | E43: =IF($G$2=נוסחאות!$B$2,נוסחאות!C39,IF($G$2=נוסחאות!$F$2,נוסחאות!G39,IF($G$2=נוסחאות!$J$2,נוסחאות!K39,0))) -> 1000 | F43: =IF($G$2=נוסחאות!$B$2,נוסחאות!D39*$F$1,IF($G$2=נוסחאות!$F$2,נוסחאות!H39*$F$1,IF($G$2=נוסחאות!$J$2,נוסחאות!L39*$F$1,0))) -> 1 | G43: =F43*E43 -> 1000 | J43: =IF(G43=0,0,I43*E43) -> 0 | K43: =IF(J43=0,"",IF(OR(J43-$G43>0,J43-$G43<0), (J43-$G43)/$G43, "")) | L43: =IF(I43>F43,"יש להסביר חריגה","") | V43: =IF(U43="",0,U43-J43) -> 0 | W43: =IF(U43=0,0,V43/J43) -> 0
A44: 2.3.6 | C44: תאורת חירום | D44: =IF($G$2=נוסחאות!$B$2,נוסחאות!B49,IF($G$2=נוסחאות!$F$2,נוסחאות!F49,IF($G$2=נוסחאות!$J$2,נוסחאות!J49,0))) -> - | E44: =IF($G$2=נוסחאות!$B$2,נוסחאות!C49,IF($G$2=נוסחאות!$F$2,נוסחאות!G49,IF($G$2=נוסחאות!$J$2,נוסחאות!K49,0))) -> 200 | F44: =IF($G$2=נוסחאות!$B$2,נוסחאות!D49*$F$1,IF($G$2=נוסחאות!$F$2,נוסחאות!H49*$F$1,IF($G$2=נוסחאות!$J$2,נוסחאות!L49*$F$1,0))) -> 1 | G44: =F44*E44 -> 200 | J44: =IF(G44=0,0,I44*E44) -> 0 | K44: =IF(J44=0,"",IF(OR(J44-$G44>0,J44-$G44<0), (J44-$G44)/$G44, "")) | L44: =IF(I44>F44,"יש להסביר חריגה","") | V44: =IF(U44="",0,U44-J44) -> 0 | W44: =IF(U44=0,0,V44/J44) -> 0
A45: 2.3.7 | B45: כלי בית ואביזרים | C45: אביזרים לחדרי שירותים או רחיצה | D45: =IF($G$2=נוסחאות!$B$2,נוסחאות!B44,IF($G$2=נוסחאות!$F$2,נוסחאות!F44,IF($G$2=נוסחאות!$J$2,נוסחאות!J44,0))) -> - | E45: =IF($G$2=נוסחאות!$B$2,נוסחאות!C44,IF($G$2=נוסחאות!$F$2,נוסחאות!G44,IF($G$2=נוסחאות!$J$2,נוסחאות!K44,0))) -> 1800 | F45: =IF($G$2=נוסחאות!$B$2,נוסחאות!D44*$F$1,IF($G$2=נוסחאות!$F$2,נוסחאות!H44*$F$1,IF($G$2=נוסחאות!$J$2,נוסחאות!L44*$F$1,0))) -> 3 | G45: =F45*E45 -> 5400 | J45: =IF(G45=0,0,I45*E45) -> 0 | K45: =IF(J45=0,"",IF(OR(J45-$G45>0,J45-$G45<0), (J45-$G45)/$G45, "")) | L45: =IF(I45>F45,"יש להסביר חריגה","") | V45: =IF(U45="",0,U45-J45) -> 0 | W45: =IF(U45=0,0,V45/J45) -> 0
A46: 2.3.8 | C46: סולם | D46: =IF($G$2=נוסחאות!$B$2,נוסחאות!B50,IF($G$2=נוסחאות!$F$2,נוסחאות!F50,IF($G$2=נוסחאות!$J$2,נוסחאות!J50,0))) -> 4 שלבים | E46: =IF($G$2=נוסחאות!$B$2,נוסחאות!C50,IF($G$2=נוסחאות!$F$2,נוסחאות!G50,IF($G$2=נוסחאות!$J$2,נוסחאות!K50,0))) -> 1500 | F46: =IF($G$2=נוסחאות!$B$2,נוסחאות!D50*$F$1,IF($G$2=נוסחאות!$F$2,נוסחאות!H50*$F$1,IF($G$2=נוסחאות!$J$2,נוסחאות!L50*$F$1,0))) -> 1 | G46: =F46*E46 -> 1500 | J46: =IF(G46=0,0,I46*E46) -> 0 | L46: =IF(I46>F46,"יש להסביר חריגה","") | V46: =IF(U46="",0,U46-J46) -> 0 | W46: =IF(U46=0,0,V46/J46) -> 0
A47: 2.3.9 | C47: ארגז כלי עבודה | D47: =IF($G$2=נוסחאות!$B$2,נוסחאות!B45,IF($G$2=נוסחאות!$F$2,נוסחאות!F45,IF($G$2=נוסחאות!$J$2,נוסחאות!J45,0))) -> ארגז כלים ביתי | E47: =IF($G$2=נוסחאות!$B$2,נוסחאות!C45,IF($G$2=נוסחאות!$F$2,נוסחאות!G45,IF($G$2=נוסחאות!$J$2,נוסחאות!K45,0))) -> 1000 | F47: =IF($G$2=נוסחאות!$B$2,נוסחאות!D45*$F$1,IF($G$2=נוסחאות!$F$2,נוסחאות!H45*$F$1,IF($G$2=נוסחאות!$J$2,נוסחאות!L45*$F$1,0))) -> 1 | G47: =F47*E47 -> 1000 | J47: =IF(G47=0,0,I47*E47) -> 0 | K47: =IF(J47=0,"",IF(OR(J47-$G47>0,J47-$G47<0), (J47-$G47)/$G47, "")) | L47: =IF(I47>F47,"יש להסביר חריגה","") | V47: =IF(U47="",0,U47-J47) -> 0 | W47: =IF(U47=0,0,V47/J47) -> 0
A48: 2.3.10 | C48: ארון תרופות | D48: =IF($G$2=נוסחאות!$B$2,נוסחאות!B46,IF($G$2=נוסחאות!$F$2,נוסחאות!F46,IF($G$2=נוסחאות!$J$2,נוסחאות!J46,0))) -> - | E48: =IF($G$2=נוסחאות!$B$2,נוסחאות!C46,IF($G$2=נוסחאות!$F$2,נוסחאות!G46,IF($G$2=נוסחאות!$J$2,נוסחאות!K46,0))) -> 1300 | F48: =IF($G$2=נוסחאות!$B$2,נוסחאות!D46*$F$1,IF($G$2=נוסחאות!$F$2,נוסחאות!H46*$F$1,IF($G$2=נוסחאות!$J$2,נוסחאות!L46*$F$1,0))) -> 1 | G48: =F48*E48 -> 1300 | J48: =IF(G48=0,0,I48*E48) -> 0 | K48: =IF(J48=0,"",IF(OR(J48-$G48>0,J48-$G48<0), (J48-$G48)/$G48, "")) | L48: =IF(I48>F48,"יש להסביר חריגה","") | V48: =IF(U48="",0,U48-J48) -> 0 | W48: =IF(U48=0,0,V48/J48) -> 0
A49: 2.3.11 | C49: מטף כיבוי אש | D49: =IF($G$2=נוסחאות!$B$2,נוסחאות!B48,IF($G$2=נוסחאות!$F$2,נוסחאות!F48,IF($G$2=נוסחאות!$J$2,נוסחאות!J48,0))) -> 6 ק"ג | E49: =IF($G$2=נוסחאות!$B$2,נוסחאות!C48,IF($G$2=נוסחאות!$F$2,נוסחאות!G48,IF($G$2=נוסחאות!$J$2,נוסחאות!K48,0))) -> 500 | F49: =IF($G$2=נוסחאות!$B$2,נוסחאות!D48*$F$1,IF($G$2=נוסחאות!$F$2,נוסחאות!H48*$F$1,IF($G$2=נוסחאות!$J$2,נוסחאות!L48*$F$1,0))) -> 1 | G49: =F49*E49 -> 500 | J49: =IF(G49=0,0,I49*E49) -> 0 | K49: =IF(J49=0,"",IF(OR(J49-$G49>0,J49-$G49<0), (J49-$G49)/$G49, "")) | L49: =IF(I49>F49,"יש להסביר חריגה","") | V49: =IF(U49="",0,U49-J49) -> 0 | W49: =IF(U49=0,0,V49/J49) -> 0
A50: 2.3.12 | C50: משחקים, ספרים, ציוד פנאי | D50: =IF($G$2=נוסחאות!$B$2,נוסחאות!B51,IF($G$2=נוסחאות!$F$2,נוסחאות!F51,IF($G$2=נוסחאות!$J$2,נוסחאות!J51,0))) -> - | E50: =IF($G$2=נוסחאות!$B$2,נוסחאות!C51,IF($G$2=נוסחאות!$F$2,נוסחאות!G51,IF($G$2=נוסחאות!$J$2,נוסחאות!K51,0))) -> 4000 | F50: =IF($G$2=נוסחאות!$B$2,נוסחאות!D51*$F$1,IF($G$2=נוסחאות!$F$2,נוסחאות!H51*$F$1,IF($G$2=נוסחאות!$J$2,נוסחאות!L51*$F$1,0))) -> 1 | G50: =F50*E50 -> 4000 | J50: =IF(G50=0,0,I50*E50) -> 0 | K50: =IF(J50=0,"",IF(OR(J50-$G50>0,J50-$G50<0), (J50-$G50)/$G50, "")) | L50: =IF(I50>F50,"יש להסביר חריגה","") | V50: =IF(U50="",0,U50-J50) -> 0 | W50: =IF(U50=0,0,V50/J50) -> 0
A51: 2.3.13 | B51: שירות מקצועי | C51: שירותי עיצוב פנים | D51: =IF($G$2=נוסחאות!$B$2,נוסחאות!B52,IF($G$2=נוסחאות!$F$2,נוסחאות!F52,IF($G$2=נוסחאות!$J$2,נוסחאות!J52,0))) -> - | E51: =IF($G$2=נוסחאות!$B$2,נוסחאות!C52,IF($G$2=נוסחאות!$F$2,נוסחאות!G52,IF($G$2=נוסחאות!$J$2,נוסחאות!K52,0))) -> 25000 | F51: =IF($G$2=נוסחאות!$B$2,נוסחאות!D52*$F$1,IF($G$2=נוסחאות!$F$2,נוסחאות!H52*$F$1,IF($G$2=נוסחאות!$J$2,נוסחאות!L52*$F$1,0))) -> 1 | G51: =F51*E51 -> 25000 | J51: =IF(G51=0,0,I51*E51) -> 0 | K51: =IF(J51=0,"",IF(OR(J51-$G51>0,J51-$G51<0), (J51-$G51)/$G51, "")) | L51: =IF(I51>F51,"יש להסביר חריגה","") | V51: =IF(U51="",0,U51-J51) -> 0 | W51: =IF(U51=0,0,V51/J51) -> 0
A52: 2.3.14 | B52: סה"כ ציוד כללי כולל מע"מ | G52: =SUM(G39:G51) -> 56900 | J52: =SUM(J39:J51) -> 0 | K52: =IF(J52=0,"",IF(OR(J52-$G52>0,J52-$G52<0), (J52-$G52)/$G52, "")) | L52: =B52 -> סה"כ ציוד כללי כולל מע"מ | P52: =SUM(P38:P51) -> 0 | U52: =SUM(U38:U51) -> 0 | V52: =IF(U52="",0,U52-J52) -> 0 | W52: =IF(U52=0,0,V52/J52) -> 0
A53: 2.4 | C53: ציוד חצר/ מרפסת | J53: =C53 -> ציוד חצר/ מרפסת | P53: =C53 -> ציוד חצר/ מרפסת
A54: 2.4.1 | B54: ריהוט | C54: שימשיה - קוטר כ- 1.5 מ' | D54: =IF($G$2=נוסחאות!$B$2,נוסחאות!B57,IF($G$2=נוסחאות!$F$2,נוסחאות!F57,IF($G$2=נוסחאות!$J$2,נוסחאות!J57,0))) -> ממלאים רק במדה וקיימת חצר | E54: =IF($G$2=נוסחאות!$B$2,נוסחאות!C57,IF($G$2=נוסחאות!$F$2,נוסחאות!G57,IF($G$2=נוסחאות!$J$2,נוסחאות!K57,0))) -> 3500 | F54: =IF($G$2=נוסחאות!$B$2,נוסחאות!D57,IF($G$2=נוסחאות!$F$2,נוסחאות!H57,IF($G$2=נוסחאות!$J$2,נוסחאות!L57,0))) -> 1 | G54: =F54*E54 -> 3500 | I54: =IF('שאלון למילוי הגוף-חובה'!$D$43="כן",F54,0) -> 0 | J54: =IF('שאלון למילוי הגוף-חובה'!$D$43="כן",E54*I54,0) -> 0 | K54: =IF(J54=0,"",IF(OR(J54-G54>0,J54-G54<0), (J54-G54)/G54, "")) | L54: =IF(I54>F54,"יש להסביר חריגה","") | N54: =IF('שאלון למילוי הגוף-חובה'!$D$43="לא","אין חצר","") | V54: =IF(U54="",0,U54-J54) -> 0 | W54: =IF(U54=0,0,V54/J54) -> 0
A55: 2.4.2 | C55: פינת ישיבה למרפסת | D55: =IF($G$2=נוסחאות!$B$2,נוסחאות!B58,IF($G$2=נוסחאות!$F$2,נוסחאות!F58,IF($G$2=נוסחאות!$J$2,נוסחאות!J58,0))) -> ממלאים רק במדה וקיימת חצר | E55: =IF($G$2=נוסחאות!$B$2,נוסחאות!C58,IF($G$2=נוסחאות!$F$2,נוסחאות!G58,IF($G$2=נוסחאות!$J$2,נוסחאות!K58,0))) -> 5000 | F55: =IF($G$2=נוסחאות!$B$2,נוסחאות!D58,IF($G$2=נוסחאות!$F$2,נוסחאות!H58,IF($G$2=נוסחאות!$J$2,נוסחאות!L58,0))) -> 1 | G55: =F55*E55 -> 5000 | I55: =IF('שאלון למילוי הגוף-חובה'!$D$43="כן",F55,0) -> 0 | J55: =IF('שאלון למילוי הגוף-חובה'!$D$43="כן",E55*I55,0) -> 0 | K55: =IF(J55=0,"",IF(OR(J55-G55>0,J55-G55<0), (J55-G55)/G55, "")) | L55: =IF(I55>F55,"יש להסביר חריגה","") | N55: =IF('שאלון למילוי הגוף-חובה'!$D$43="לא","אין חצר","") | V55: =IF(U55="",0,U55-J55) -> 0 | W55: =IF(U55=0,0,V55/J55) -> 0
A56: 2.4.3 | B56: סה"כ חצר/ מרפסת כולל מע"מ | G56: =SUM(G54:G55) -> 8500 | J56: =SUM(J54:J55) -> 0 | K56: =IF(J56=0,"",IF(OR(J56-$G56>0,J56-$G56<0), (J56-$G56)/$G56, "")) | L56: =B56 -> סה"כ חצר/ מרפסת כולל מע"מ | P56: =SUM(P54:P55) -> 0 | U56: =SUM(U54:U55) -> 0 | V56: =IF(U56="",0,U56-J56) -> 0 | W56: =IF(U56=0,0,V56/J56) -> 0
A57: סה"כ חללים משותפים בדירה קהילתית כולל מע"מ | G57: =G21+G37+G52+G56 -> 171300 | J57: =J21+J37+J52+J56 -> 0 | K57: =IF(J57=0,"",IF(OR(J57-$G57>0,J57-$G57<0), (J57-$G57)/$G57, "")) | L57: =A57 -> סה"כ חללים משותפים בדירה קהילתית כולל מע"מ | P57: =P21+P37+P52+P56 -> 0 | U57: =U21+U37+U52+U56 -> 0 | V57: =IF(U57="",0,U57-J57) -> 0 | W57: =IF(U57=0,0,V57/J57) -> 0

Sheet בית שיתופי-חללים משותפים
A1: ='תוכן עניינים'!$B$7 -> תקן ריהוט וציוד לדיור קהילתי - גירסה: 07/09/26 | E1: ='שאלון למילוי הגוף-חובה'!$C$33 -> מס' דירות מעל 8 דיירים | F1: ='שאלון למילוי הגוף-חובה'!$D$33 -> 0 | G1: סיווג הדירה | I1: ='שאלון למילוי הגוף-חובה'!$C$10&" : "&'שאלון למילוי הגוף-חובה'!$D$10 -> שם הגוף המבקש :
A2: 3 | B2: ='תוכן עניינים'!C16 -> בית שיתופי: ציוד חללים משותפים (מעל 8 דיירים) | E2: ='שאלון למילוי הגוף-חובה'!C34 -> מס' דיירים בדירות מעל 8 דיירים | F2: ='שאלון למילוי הגוף-חובה'!D34 -> 0 | G2: =IF(F1=0,"הגיליון אינו רלוונטי לבקשה",IF(F2/F1<=8,"הגיליון אינו רלוונטי לבקשה",IF(F2/F1<=16,"עד 16","עד 24"))) -> הגיליון אינו רלוונטי לבקשה | I2: ='שאלון למילוי הגוף-חובה'!$C$18&" : "&'שאלון למילוי הגוף-חובה'!$D$18 -> שם המסגרת :
C3: תקן | I3: בקשת הגוף | M3: אישור מנהלת התוכנית (חריגות בלבד) | P3: שלב 1 | R3: דוח הוצאות כספי מפורט - שלבים 2 ואילך
A4: מס' | B4: קבוצת הציוד | C4: סוג הריהוט / ציוד | D4: הערות | E4: מחיר ליחידה | F4: כמות תקן | G4: תקציב מומלץ לפי תקן | I4: כמות מבוקשת | J4: תקציב מבוקש | K4: סטייה מהתקן | L4: הערות הגוף | M4: אישור חריגה | N4: הערות מנהלת התוכנית | P4: צפי עלות רכישה כולל מע"מ | Q4: שם הספק | R4: פירוט מהות ההוצאה - הציוד שנרכש / השרות שניתן | S4: מס' חשבונית מס / קבלה | T4: תאריך הוצאה | U4: סכום הוצאה בש"ח וכולל מע"מ | V4: סכום חריגה מהתקציב - הפרש בין הסכום שנרכש בפועל לעלות שאושרה בהסכם | W4: שיעור ההפרש | X4: הערות לחריגה | Y4: בדיקה והערות של היועץ מתאריך | Z4: נבדק בשלב 2/3
A5: 3.1 | C5: מטבח מרכזי | J5: =C5 -> מטבח מרכזי | P5: =C5 -> מטבח מרכזי
A6: 3.1.1 | B6: מוצרי חשמל | C6: מקרר | D6: =IF($G$2=נוסחאות!$N$2,נוסחאות!N7,IF($G$2=נוסחאות!$R$2,נוסחאות!R7,0)) -> 0 | E6: =IF($G$2=נוסחאות!$N$2,נוסחאות!O7,IF($G$2=נוסחאות!$R$2,נוסחאות!O7,0)) -> 0 | F6: =IF($G$2=נוסחאות!$N$2,נוסחאות!P7*$F$1,IF($G$2=נוסחאות!$R$2,נוסחאות!T7*$F$1,0)) -> 0 | G6: =F6*E6 -> 0 | J6: =IF(G6=0,0,I6*E6) -> 0 | K6: =IF(J6=0,"",IF(OR(J6-G6>0,J6-G6<0), (J6-G6)/G6, "")) | L6: =IF(I6>F6,"יש להסביר חריגה","") | V6: =IF(U6="",0,U6-J6) -> 0 | W6: =IF(U6=0,0,V6/J6) -> 0
A7: 3.1.2 | C7: מקפיא | D7: =IF($G$2=נוסחאות!$N$2,נוסחאות!N19,IF($G$2=נוסחאות!$R$2,נוסחאות!R19,0)) -> 0 | E7: =IF($G$2=נוסחאות!$N$2,נוסחאות!O19,IF($G$2=נוסחאות!$R$2,נוסחאות!S19,0)) -> 0 | F7: =IF($G$2=נוסחאות!$N$2,נוסחאות!P19*$F$1,IF($G$2=נוסחאות!$R$2,נוסחאות!T19*$F$1,0)) -> 0 | G7: =F7*E7 -> 0 | J7: =IF(G7=0,0,I7*E7) -> 0 | K7: =IF(J7=0,"",IF(OR(J7-G7>0,J7-G7<0), (J7-G7)/G7, "")) | L7: =IF(I7>F7,"יש להסביר חריגה","") | V7: =IF(U7="",0,U7-J7) -> 0 | W7: =IF(U7=0,0,V7/J7) -> 0
A8: 3.1.3 | C8: מעבד מזון | D8: =IF($G$2=נוסחאות!$N$2,נוסחאות!N6,IF($G$2=נוסחאות!$R$2,נוסחאות!R6,0)) -> 0 | E8: =IF($G$2=נוסחאות!$N$2,נוסחאות!O6,IF($G$2=נוסחאות!$R$2,נוסחאות!S6,0)) -> 0 | F8: =IF($G$2=נוסחאות!$N$2,נוסחאות!P6*$F$1,IF($G$2=נוסחאות!$R$2,נוסחאות!T6*$F$1,0)) -> 0 | G8: =F8*E8 -> 0 | J8: =IF(G8=0,0,I8*E8) -> 0 | K8: =IF(J8=0,"",IF(OR(J8-G8>0,J8-G8<0), (J8-G8)/G8, "")) | L8: =IF(I8>F8,"יש להסביר חריגה","") | V8: =IF(U8="",0,U8-J8) -> 0 | W8: =IF(U8=0,0,V8/J8) -> 0
A9: 3.1.4 | C9: מדיח כלים | D9: =IF($G$2=נוסחאות!$N$2,נוסחאות!N16,IF($G$2=נוסחאות!$R$2,נוסחאות!R16,0)) -> 0 | E9: =IF($G$2=נוסחאות!$N$2,נוסחאות!O16,IF($G$2=נוסחאות!$R$2,נוסחאות!S16,0)) -> 0 | F9: =IF($G$2=נוסחאות!$N$2,נוסחאות!P16*$F$1,IF($G$2=נוסחאות!$R$2,נוסחאות!T16*$F$1,0)) -> 0 | G9: =F9*E9 -> 0 | J9: =IF(G9=0,0,I9*E9) -> 0 | K9: =IF(J9=0,"",IF(OR(J9-G9>0,J9-G9<0), (J9-G9)/G9, "")) | L9: =IF(I9>F9,"יש להסביר חריגה","") | V9: =IF(U9="",0,U9-J9) -> 0 | W9: =IF(U9=0,0,V9/J9) -> 0
A10: 3.1.5 | C10: תנור בישול וחימום כיריים גז | D10: =IF($G$2=נוסחאות!$N$2,נוסחאות!N10,IF($G$2=נוסחאות!$R$2,נוסחאות!R10,0)) -> 0 | E10: =IF($G$2=נוסחאות!$N$2,נוסחאות!O10,IF($G$2=נוסחאות!$R$2,נוסחאות!S10,0)) -> 0 | F10: =IF($G$2=נוסחאות!$N$2,נוסחאות!P10*$F$1,IF($G$2=נוסחאות!$R$2,נוסחאות!T10*$F$1,0)) -> 0 | G10: =F10*E10 -> 0 | J10: =IF(G10=0,0,I10*E10) -> 0 | K10: =IF(J10=0,"",IF(OR(J10-G10>0,J10-G10<0), (J10-G10)/G10, "")) | L10: =IF(I10>F10,"יש להסביר חריגה","") | V10: =IF(U10="",0,U10-J10) -> 0 | W10: =IF(U10=0,0,V10/J10) -> 0
A11: 3.1.6 | C11: כיריים חשמליות 4 להבות | D11: =IF($G$2=נוסחאות!$N$2,נוסחאות!N12,IF($G$2=נוסחאות!$R$2,נוסחאות!R12,0)) -> 0 | E11: =IF($G$2=נוסחאות!$N$2,נוסחאות!O12,IF($G$2=נוסחאות!$R$2,נוסחאות!S12,0)) -> 0 | F11: =IF($G$2=נוסחאות!$N$2,נוסחאות!P12*$F$1,IF($G$2=נוסחאות!$R$2,נוסחאות!T12*$F$1,0)) -> 0 | G11: =F11*E11 -> 0 | J11: =IF(G11=0,0,I11*E11) -> 0 | K11: =IF(J11=0,"",IF(OR(J11-G11>0,J11-G11<0), (J11-G11)/G11, "")) | L11: =IF(I11>F11,"יש להסביר חריגה","") | V11: =IF(U11="",0,U11-J11) -> 0 | W11: =IF(U11=0,0,V11/J11) -> 0
A12: 3.1.7 | C12: קולט אדים | D12: =IF($G$2=נוסחאות!$N$2,נוסחאות!N11,IF($G$2=נוסחאות!$R$2,נוסחאות!R11,0)) -> 0 | E12: =IF($G$2=נוסחאות!$N$2,נוסחאות!O11,IF($G$2=נוסחאות!$R$2,נוסחאות!S11,0)) -> 0 | F12: =IF($G$2=נוסחאות!$N$2,נוסחאות!P13*$F$1,IF($G$2=נוסחאות!$R$2,נוסחאות!T13*$F$1,0)) -> 0 | G12: =F12*E12 -> 0 | J12: =IF(G12=0,0,I12*E12) -> 0 | K12: =IF(J12=0,"",IF(OR(J12-G12>0,J12-G12<0), (J12-G12)/G12, "")) | L12: =IF(I12>F12,"יש להסביר חריגה","") | V12: =IF(U12="",0,U12-J12) -> 0 | W12: =IF(U12=0,0,V12/J12) -> 0
A13: 3.1.8 | C13: מתקן/ בר מים | D13: =IF($G$2=נוסחאות!$N$2,נוסחאות!N14,IF($G$2=נוסחאות!$R$2,נוסחאות!R14,0)) -> 0 | E13: =IF($G$2=נוסחאות!$N$2,נוסחאות!O14,IF($G$2=נוסחאות!$R$2,נוסחאות!S14,0)) -> 0 | F13: =IF($G$2=נוסחאות!$N$2,נוסחאות!P14*$F$1,IF($G$2=נוסחאות!$R$2,נוסחאות!T14*$F$1,0)) -> 0 | G13: =F13*E13 -> 0 | J13: =IF(G13=0,0,I13*E13) -> 0 | K13: =IF(J13=0,"",IF(OR(J13-G13>0,J13-G13<0), (J13-G13)/G13, "")) | L13: =IF(I13>F13,"יש להסביר חריגה","") | V13: =IF(U13="",0,U13-J13) -> 0 | W13: =IF(U13=0,0,V13/J13) -> 0
A14: 3.1.9 | C14: מיקרוגל | D14: =IF($G$2=נוסחאות!$N$2,נוסחאות!N5,IF($G$2=נוסחאות!$R$2,נוסחאות!R5,0)) -> 0 | E14: =IF($G$2=נוסחאות!$N$2,נוסחאות!O5,IF($G$2=נוסחאות!$R$2,נוסחאות!S5,0)) -> 0 | F14: =IF($G$2=נוסחאות!$N$2,נוסחאות!P5*$F$1,IF($G$2=נוסחאות!$R$2,נוסחאות!T5*$F$1,0)) -> 0 | G14: =F14*E14 -> 0 | J14: =IF(G14=0,0,I14*E14) -> 0 | K14: =IF(J14=0,"",IF(OR(J14-G14>0,J14-G14<0), (J14-G14)/G14, "")) | L14: =IF(I14>F14,"יש להסביר חריגה","") | V14: =IF(U14="",0,U14-J14) -> 0 | W14: =IF(U14=0,0,V14/J14) -> 0
A15: 3.1.10 | C15: בלנדר | D15: =IF($G$2=נוסחאות!$N$2,נוסחאות!N17,IF($G$2=נוסחאות!$R$2,נוסחאות!R17,0)) -> 0 | E15: =IF($G$2=נוסחאות!$N$2,נוסחאות!O17,IF($G$2=נוסחאות!$R$2,נוסחאות!S17,0)) -> 0 | F15: =IF($G$2=נוסחאות!$N$2,נוסחאות!P17*$F$1,IF($G$2=נוסחאות!$R$2,נוסחאות!T17*$F$1,0)) -> 0 | G15: =F15*E15 -> 0 | J15: =IF(G15=0,0,I15*E15) -> 0 | K15: =IF(J15=0,"",IF(OR(J15-G15>0,J15-G15<0), (J15-G15)/G15, "")) | L15: =IF(I15>F15,"יש להסביר חריגה","") | V15: =IF(U15="",0,U15-J15) -> 0 | W15: =IF(U15=0,0,V15/J15) -> 0
A16: 3.1.11 | C16: גריל חשמלי | D16: =IF($G$2=נוסחאות!$N$2,נוסחאות!N18,IF($G$2=נוסחאות!$R$2,נוסחאות!R18,0)) -> 0 | E16: =IF($G$2=נוסחאות!$N$2,נוסחאות!O18,IF($G$2=נוסחאות!$R$2,נוסחאות!S18,0)) -> 0 | F16: =IF($G$2=נוסחאות!$N$2,נוסחאות!P18*$F$1,IF($G$2=נוסחאות!$R$2,נוסחאות!T18*$F$1,0)) -> 0 | G16: =F16*E16 -> 0 | J16: =IF(G16=0,0,I16*E16) -> 0 | K16: =IF(J16=0,"",IF(OR(J16-G16>0,J16-G16<0), (J16-G16)/G16, "")) | L16: =IF(I16>F16,"יש להסביר חריגה","") | V16: =IF(U16="",0,U16-J16) -> 0 | W16: =IF(U16=0,0,V16/J16) -> 0
A17: 3.1.12 | C17: מיחם חשמלי | D17: =IF($G$2=נוסחאות!$N$2,נוסחאות!N13,IF($G$2=נוסחאות!$R$2,נוסחאות!R13,0)) -> 0 | E17: =IF($G$2=נוסחאות!$N$2,נוסחאות!O13,IF($G$2=נוסחאות!$R$2,נוסחאות!S13,0)) -> 0 | F17: =IF($G$2=נוסחאות!$N$2,נוסחאות!P13*$F$1,IF($G$2=נוסחאות!$R$2,נוסחאות!T13*$F$1,0)) -> 0 | G17: =F17*E17 -> 0 | J17: =IF(G17=0,0,I17*E17) -> 0 | K17: =IF(J17=0,"",IF(OR(J17-G17>0,J17-G17<0), (J17-G17)/G17, "")) | L17: =IF(I17>F17,"יש להסביר חריגה","") | V17: =IF(U17="",0,U17-J17) -> 0 | W17: =IF(U17=0,0,V17/J17) -> 0
A18: 3.1.13 | C18: פלטת חימום לשבת | D18: =IF($G$2=נוסחאות!$N$2,נוסחאות!N8,IF($G$2=נוסחאות!$R$2,נוסחאות!R8,0)) -> 0 | E18: =IF($G$2=נוסחאות!$N$2,נוסחאות!O8,IF($G$2=נוסחאות!$R$2,נוסחאות!S8,0)) -> 0 | F18: =IF($G$2=נוסחאות!$N$2,נוסחאות!P8*$F$1,IF($G$2=נוסחאות!$R$2,נוסחאות!T8*$F$1,0)) -> 0 | G18: =F18*E18 -> 0 | J18: =IF(G18=0,0,I18*E18) -> 0 | K18: =IF(J18=0,"",IF(OR(J18-G18>0,J18-G18<0), (J18-G18)/G18, "")) | L18: =IF(I18>F18,"יש להסביר חריגה","") | V18: =IF(U18="",0,U18-J18) -> 0 | W18: =IF(U18=0,0,V18/J18) -> 0
A19: 3.1.14 | C19: קומקום חשמלי | D19: =IF($G$2=נוסחאות!$N$2,נוסחאות!N9,IF($G$2=נוסחאות!$R$2,נוסחאות!R9,0)) -> 0 | E19: =IF($G$2=נוסחאות!$N$2,נוסחאות!O9,IF($G$2=נוסחאות!$R$2,נוסחאות!S9,0)) -> 0 | F19: =IF($G$2=נוסחאות!$N$2,נוסחאות!P9*$F$1,IF($G$2=נוסחאות!$R$2,נוסחאות!T9*$F$1,0)) -> 0 | G19: =F19*E19 -> 0 | J19: =IF(G19=0,0,I19*E19) -> 0 | K19: =IF(J19=0,"",IF(OR(J19-G19>0,J19-G19<0), (J19-G19)/G19, "")) | L19: =IF(I19>F19,"יש להסביר חריגה","") | V19: =IF(U19="",0,U19-J19) -> 0 | W19: =IF(U19=0,0,V19/J19) -> 0
A20: 3.1.15 | B20: כלי בית ואביזרים | C20: כלי בישול אחסון הגשה וניקוי | D20: =IF($G$2=נוסחאות!$N$2,נוסחאות!N4,IF($G$2=נוסחאות!$R$2,נוסחאות!R4,0)) -> 0 | E20: =IF($G$2=נוסחאות!$N$2,נוסחאות!O4,IF($G$2=נוסחאות!$R$2,נוסחאות!S4,0)) -> 0 | F20: =IF($G$2=נוסחאות!$N$2,נוסחאות!P4*$F$1,IF($G$2=נוסחאות!$R$2,נוסחאות!T4*$F$1,0)) -> 0 | G20: =F20*E20 -> 0 | J20: =IF(G20=0,0,I20*E20) -> 0 | K20: =IF(J20=0,"",IF(OR(J20-G20>0,J20-G20<0), (J20-G20)/G20, "")) | L20: =IF(I20>F20,"יש להסביר חריגה","") | V20: =IF(U20="",0,U20-J20) -> 0 | W20: =IF(U20=0,0,V20/J20) -> 0
A21: 3.1.16 | B21: סה"כ מטבח מרכזי כולל מע"מ | G21: =SUM(G6:G20) -> 0 | J21: =SUM(J6:J20) -> 0 | K21: =IF(J21=0,"",IF(OR(J21-G21>0,J21-G21<0), (J21-G21)/G21, "")) | L21: =B21 -> סה"כ מטבח מרכזי כולל מע"מ | P21: =SUM(P6:P20) -> 0 | U21: =SUM(U6:U20) -> 0 | V21: =IF(U21="",0,U21-J21) -> 0 | W21: =IF(U21=0,0,V21/J21) -> 0
A22: 3.2 | C22: סלון מרכזי | J22: =C22 -> סלון מרכזי | P22: =C22 -> סלון מרכזי
A23: 3.2.1 | B23: ריהוט | C23: סלון | D23: =IF($G$2=נוסחאות!$N$2,נוסחאות!N32,IF($G$2=נוסחאות!$R$2,נוסחאות!R32,0)) -> 0 | E23: =IF($G$2=נוסחאות!$N$2,נוסחאות!O32,IF($G$2=נוסחאות!$R$2,נוסחאות!S32,0)) -> 0 | F23: =IF($G$2=נוסחאות!$N$2,נוסחאות!P32*$F$1,IF($G$2=נוסחאות!$R$2,נוסחאות!T32*$F$1,0)) -> 0 | G23: =F23*E23 -> 0 | J23: =IF(G23=0,0,I23*E23) -> 0 | K23: =IF(J23=0,"",IF(OR(J23-G23>0,J23-G23<0), (J23-G23)/G23, "")) | L23: =IF(I23>F23,"יש להסביר חריגה","") | V23: =IF(U23="",0,U23-J23) -> 0 | W23: =IF(U23=0,0,V23/J23) -> 0
A24: 3.2.2 | C24: שולחן סלון | D24: =IF($G$2=נוסחאות!$N$2,נוסחאות!N33,IF($G$2=נוסחאות!$R$2,נוסחאות!R33,0)) -> 0 | E24: =IF($G$2=נוסחאות!$N$2,נוסחאות!O33,IF($G$2=נוסחאות!$R$2,נוסחאות!S33,0)) -> 0 | F24: =IF($G$2=נוסחאות!$N$2,נוסחאות!P33*$F$1,IF($G$2=נוסחאות!$R$2,נוסחאות!T33*$F$1,0)) -> 0 | G24: =F24*E24 -> 0 | J24: =IF(G24=0,0,I24*E24) -> 0 | K24: =IF(J24=0,"",IF(OR(J24-G24>0,J24-G24<0), (J24-G24)/G24, "")) | L24: =IF(I24>F24,"יש להסביר חריגה","") | V24: =IF(U24="",0,U24-J24) -> 0 | W24: =IF(U24=0,0,V24/J24) -> 0
A25: 3.2.3 | C25: מזנון | D25: =IF($G$2=נוסחאות!$N$2,נוסחאות!N34,IF($G$2=נוסחאות!$R$2,נוסחאות!R34,0)) -> 0 | E25: =IF($G$2=נוסחאות!$N$2,נוסחאות!O34,IF($G$2=נוסחאות!$R$2,נוסחאות!S34,0)) -> 0 | F25: =IF($G$2=נוסחאות!$N$2,נוסחאות!P34*$F$1,IF($G$2=נוסחאות!$R$2,נוסחאות!T34*$F$1,0)) -> 0 | G25: =F25*E25 -> 0 | J25: =IF(G25=0,0,I25*E25) -> 0 | K25: =IF(J25=0,"",IF(OR(J25-G25>0,J25-G25<0), (J25-G25)/G25, "")) | L25: =IF(I25>F25,"יש להסביר חריגה","") | V25: =IF(U25="",0,U25-J25) -> 0 | W25: =IF(U25=0,0,V25/J25) -> 0
A26: 3.2.4 | C26: פינת אוכל | D26: =IF($G$2=נוסחאות!$N$2,נוסחאות!N15,IF($G$2=נוסחאות!$R$2,נוסחאות!R15,0)) -> 0 | E26: =IF($G$2=נוסחאות!$N$2,נוסחאות!O15,IF($G$2=נוסחאות!$R$2,נוסחאות!S15,0)) -> 0 | F26: =IF($G$2=נוסחאות!$N$2,נוסחאות!P15*$F$1,IF($G$2=נוסחאות!$R$2,נוסחאות!T15*$F$1,0)) -> 0 | G26: =F26*E26 -> 0 | J26: =IF(G26=0,0,I26*E26) -> 0 | K26: =IF(J26=0,"",IF(OR(J26-G26>0,J26-G26<0), (J26-G26)/G26, "")) | L26: =IF(I26>F26,"יש להסביר חריגה","") | V26: =IF(U26="",0,U26-J26) -> 0 | W26: =IF(U26=0,0,V26/J26) -> 0
A27: 3.2.5 | C27: כורסא | D27: =IF($G$2=נוסחאות!$N$2,נוסחאות!N36,IF($G$2=נוסחאות!$R$2,נוסחאות!R36,0)) -> 0 | E27: =IF($G$2=נוסחאות!$N$2,נוסחאות!O36,IF($G$2=נוסחאות!$R$2,נוסחאות!S36,0)) -> 0 | F27: =IF($G$2=נוסחאות!$N$2,נוסחאות!P36*$F$1,IF($G$2=נוסחאות!$R$2,נוסחאות!T36*$F$1,0)) -> 0 | G27: =F27*E27 -> 0 | J27: =IF(G27=0,0,I27*E27) -> 0 | K27: =IF(J27=0,"",IF(OR(J27-G27>0,J27-G27<0), (J27-G27)/G27, "")) | L27: =IF(I27>F27,"יש להסביר חריגה","") | V27: =IF(U27="",0,U27-J27) -> 0 | W27: =IF(U27=0,0,V27/J27) -> 0
A28: 3.2.6 | B28: מוצרי חשמל | C28: מזגן | D28: =IF($G$2=נוסחאות!$N$2,נוסחאות!N29,IF($G$2=נוסחאות!$R$2,נוסחאות!R29,0)) -> 0 | E28: =IF($G$2=נוסחאות!$N$2,נוסחאות!O29,IF($G$2=נוסחאות!$R$2,נוסחאות!S29,0)) -> 0 | F28: =IF($G$2=נוסחאות!$N$2,נוסחאות!P29*$F$1,IF($G$2=נוסחאות!$R$2,נוסחאות!T29*$F$1,0)) -> 0 | G28: =F28*E28 -> 0 | J28: =IF(G28=0,0,I28*E28) -> 0 | K28: =IF(J28=0,"",IF(OR(J28-G28>0,J28-G28<0), (J28-G28)/G28, "")) | L28: =IF(I28>F28,"יש להסביר חריגה","") | V28: =IF(U28="",0,U28-J28) -> 0 | W28: =IF(U28=0,0,V28/J28) -> 0
A29: 3.2.7 | B29: מכשירים אלקטרוניים | C29: טלוויזיה כולל מגן | D29: =IF($G$2=נוסחאות!$N$2,נוסחאות!N23,IF($G$2=נוסחאות!$R$2,נוסחאות!R23,0)) -> 0 | E29: =IF($G$2=נוסחאות!$N$2,נוסחאות!O23,IF($G$2=נוסחאות!$R$2,נוסחאות!S23,0)) -> 0 | F29: =IF($G$2=נוסחאות!$N$2,נוסחאות!P23*$F$1,IF($G$2=נוסחאות!$R$2,נוסחאות!T23*$F$1,0)) -> 0 | G29: =F29*E29 -> 0 | J29: =IF(G29=0,0,I29*E29) -> 0 | K29: =IF(J29=0,"",IF(OR(J29-G29>0,J29-G29<0), (J29-G29)/G29, "")) | L29: =IF(I29>F29,"יש להסביר חריגה","") | V29: =IF(U29="",0,U29-J29) -> 0 | W29: =IF(U29=0,0,V29/J29) -> 0
A30: 3.2.8 | C30: מצלמות אבטחה | D30: =IF($G$2=נוסחאות!$N$2,נוסחאות!N25,IF($G$2=נוסחאות!$R$2,נוסחאות!R25,0)) -> 0 | E30: =IF($G$2=נוסחאות!$N$2,נוסחאות!O25,IF($G$2=נוסחאות!$R$2,נוסחאות!S25,0)) -> 0 | F30: =IF($G$2=נוסחאות!$N$2,נוסחאות!P25*$F$1,IF($G$2=נוסחאות!$R$2,נוסחאות!T25*$F$1,0)) -> 0 | G30: =F30*E30 -> 0 | J30: =IF(G30=0,0,I30*E30) -> 0 | K30: =IF(J30=0,"",IF(OR(J30-G30>0,J30-G30<0), (J30-G30)/G30, "")) | L30: =IF(I30>F30,"יש להסביר חריגה","") | V30: =IF(U30="",0,U30-J30) -> 0 | W30: =IF(U30=0,0,V30/J30) -> 0
A31: 3.2.9 | C31: מנעול חכם כולל התקנה | D31: =IF($G$2=נוסחאות!$N$2,נוסחאות!N26,IF($G$2=נוסחאות!$R$2,נוסחאות!R26,0)) -> 0 | E31: =IF($G$2=נוסחאות!$N$2,נוסחאות!O26,IF($G$2=נוסחאות!$R$2,נוסחאות!S26,0)) -> 0 | F31: =IF($G$2=נוסחאות!$N$2,נוסחאות!P26*$F$1,IF($G$2=נוסחאות!$R$2,נוסחאות!T26*$F$1,0)) -> 0 | G31: =F31*E31 -> 0 | J31: =IF(G31=0,0,I31*E31) -> 0 | K31: =IF(J31=0,"",IF(OR(J31-G31>0,J31-G31<0), (J31-G31)/G31, "")) | L31: =IF(I31>F31,"יש להסביר חריגה","") | V31: =IF(U31="",0,U31-J31) -> 0 | W31: =IF(U31=0,0,V31/J31) -> 0
A32: 3.2.10 | C32: פעמון כניסה + מצלמה | D32: =IF($G$2=נוסחאות!$N$2,נוסחאות!N27,IF($G$2=נוסחאות!$R$2,נוסחאות!R27,0)) -> 0 | E32: =IF($G$2=נוסחאות!$N$2,נוסחאות!O27,IF($G$2=נוסחאות!$R$2,נוסחאות!S27,0)) -> 0 | F32: =IF($G$2=נוסחאות!$N$2,נוסחאות!P27*$F$1,IF($G$2=נוסחאות!$R$2,נוסחאות!T27*$F$1,0)) -> 0 | G32: =F32*E32 -> 0 | J32: =IF(G32=0,0,I32*E32) -> 0 | K32: =IF(J32=0,"",IF(OR(J32-G32>0,J32-G32<0), (J32-G32)/G32, "")) | L32: =IF(I32>F32,"יש להסביר חריגה","") | V32: =IF(U32="",0,U32-J32) -> 0 | W32: =IF(U32=0,0,V32/J32) -> 0
A33: 3.2.11 | C33: גלאי עשן | D33: =IF($G$2=נוסחאות!$N$2,נוסחאות!N28,IF($G$2=נוסחאות!$R$2,נוסחאות!R28,0)) -> 0 | E33: =IF($G$2=נוסחאות!$N$2,נוסחאות!O28,IF($G$2=נוסחאות!$R$2,נוסחאות!S28,0)) -> 0 | F33: =IF($G$2=נוסחאות!$N$2,נוסחאות!P28*$F$1,IF($G$2=נוסחאות!$R$2,נוסחאות!T28*$F$1,0)) -> 0 | G33: =F33*E33 -> 0 | J33: =IF(G33=0,0,I33*E33) -> 0 | K33: =IF(J33=0,"",IF(OR(J33-G33>0,J33-G33<0), (J33-G33)/G33, "")) | L33: =IF(I33>F33,"יש להסביר חריגה","") | V33: =IF(U33="",0,U33-J33) -> 0 | W33: =IF(U33=0,0,V33/J33) -> 0
A34: 3.2.12 | C34: מערכת שמע | D34: =IF($G$2=נוסחאות!$N$2,נוסחאות!N24,IF($G$2=נוסחאות!$R$2,נוסחאות!R24,0)) -> 0 | E34: =IF($G$2=נוסחאות!$N$2,נוסחאות!O24,IF($G$2=נוסחאות!$R$2,נוסחאות!S24,0)) -> 0 | F34: =IF($G$2=נוסחאות!$N$2,נוסחאות!P24*$F$1,IF($G$2=נוסחאות!$R$2,נוסחאות!T24*$F$1,0)) -> 0 | G34: =F34*E34 -> 0 | J34: =IF(G34=0,0,I34*E34) -> 0 | K34: =IF(J34=0,"",IF(OR(J34-G34>0,J34-G34<0), (J34-G34)/G34, "")) | L34: =IF(I34>F34,"יש להסביר חריגה","") | V34: =IF(U34="",0,U34-J34) -> 0 | W34: =IF(U34=0,0,V34/J34) -> 0
A35: 3.2.13 | C35: מחשב קומפלט | D35: =IF($G$2=נוסחאות!$N$2,נוסחאות!N30,IF($G$2=נוסחאות!$R$2,נוסחאות!R30,0)) -> 0 | E35: =IF($G$2=נוסחאות!$N$2,נוסחאות!O30,IF($G$2=נוסחאות!$R$2,נוסחאות!S30,0)) -> 0 | F35: =IF($G$2=נוסחאות!$N$2,נוסחאות!P30*$F$1,IF($G$2=נוסחאות!$R$2,נוסחאות!T30*$F$1,0)) -> 0 | G35: =F35*E35 -> 0 | J35: =IF(G35=0,0,I35*E35) -> 0 | K35: =IF(J35=0,"",IF(OR(J35-G35>0,J35-G35<0), (J35-G35)/G35, "")) | L35: =IF(I35>F35,"יש להסביר חריגה","") | V35: =IF(U35="",0,U35-J35) -> 0 | W35: =IF(U35=0,0,V35/J35) -> 0
A36: 3.2.14 | C36: מדפסת משולבת | D36: =IF($G$2=נוסחאות!$N$2,נוסחאות!N31,IF($G$2=נוסחאות!$R$2,נוסחאות!R31,0)) -> 0 | E36: =IF($G$2=נוסחאות!$N$2,נוסחאות!O31,IF($G$2=נוסחאות!$R$2,נוסחאות!S31,0)) -> 0 | F36: =IF($G$2=נוסחאות!$N$2,נוסחאות!P31*$F$1,IF($G$2=נוסחאות!$R$2,נוסחאות!T31*$F$1,0)) -> 0 | G36: =F36*E36 -> 0 | J36: =IF(G36=0,0,I36*E36) -> 0 | K36: =IF(J36=0,"",IF(OR(J36-G36>0,J36-G36<0), (J36-G36)/G36, "")) | L36: =IF(I36>F36,"יש להסביר חריגה","") | V36: =IF(U36="",0,U36-J36) -> 0 | W36: =IF(U36=0,0,V36/J36) -> 0
A37: 3.2.15 | B37: כלי בית ואביזרים | C37: וילון חסין אש | D37: =IF($G$2=נוסחאות!$N$2,נוסחאות!N22,IF($G$2=נוסחאות!$R$2,נוסחאות!R22,0)) -> 0 | E37: =IF($G$2=נוסחאות!$N$2,נוסחאות!O22,IF($G$2=נוסחאות!$R$2,נוסחאות!S22,0)) -> 0 | F37: =IF($G$2=נוסחאות!$N$2,נוסחאות!P22,IF($G$2=נוסחאות!$R$2,נוסחאות!T22,0)) -> 0 | G37: =F37*E37 -> 0 | J37: =IF(G37=0,0,I37*E37) -> 0 | K37: =IF(J37=0,"",IF(OR(J37-G37>0,J37-G37<0), (J37-G37)/G37, "")) | L37: =IF(I37>F37,"יש להסביר חריגה","") | V37: =IF(U37="",0,U37-J37) -> 0 | W37: =IF(U37=0,0,V37/J37) -> 0
A38: 3.2.16 | C38: אביזרי עיצוב | D38: =IF($G$2=נוסחאות!$N$2,נוסחאות!N35,IF($G$2=נוסחאות!$R$2,נוסחאות!R35,0)) -> 0 | E38: =IF($G$2=נוסחאות!$N$2,נוסחאות!O35,IF($G$2=נוסחאות!$R$2,נוסחאות!S35,0)) -> 0 | F38: =IF($G$2=נוסחאות!$N$2,נוסחאות!P35*$F$1,IF($G$2=נוסחאות!$R$2,נוסחאות!T35*$F$1,0)) -> 0 | G38: =F38*E38 -> 0 | J38: =IF(G38=0,0,I38*E38) -> 0 | K38: =IF(J38=0,"",IF(OR(J38-G38>0,J38-G38<0), (J38-G38)/G38, "")) | L38: =IF(I38>F38,"יש להסביר חריגה","") | V38: =IF(U38="",0,U38-J38) -> 0 | W38: =IF(U38=0,0,V38/J38) -> 0
A39: 3.2.17 | B39: סה"כ סלון מרכזי כולל מע"מ | G39: =SUM(G23:G38) -> 0 | J39: =SUM(J23:J38) -> 0 | K39: =IF(J39=0,"",IF(OR(J39-G39>0,J39-G39<0), (J39-G39)/G39, "")) | L39: =B39 -> סה"כ סלון מרכזי כולל מע"מ | P39: =SUM(P23:P38) -> 0 | U39: =SUM(U23:U38) -> 0 | V39: =IF(U39="",0,U39-J39) -> 0 | W39: =IF(U39=0,0,V39/J39) -> 0
A40: 3.3 | C40: ציוד עזרה ראשונה | J40: =C40 -> ציוד עזרה ראשונה | P40: =C40 -> ציוד עזרה ראשונה
A41: 3.3.1 | B41: כלי בית ואביזרים | C41: ארון תרופות | D41: =IF($G$2=נוסחאות!$N$2,נוסחאות!N46,IF($G$2=נוסחאות!$R$2,נוסחאות!R46,0)) -> 0 | E41: =IF($G$2=נוסחאות!$N$2,נוסחאות!O46,IF($G$2=נוסחאות!$R$2,נוסחאות!S46,0)) -> 0 | F41: =IF($G$2=נוסחאות!$N$2,נוסחאות!P46*$F$1,IF($G$2=נוסחאות!$R$2,נוסחאות!T46*$F$1,0)) -> 0 | G41: =F41*E41 -> 0 | J41: =IF(G41=0,0,I41*E41) -> 0 | K41: =IF(J41=0,"",IF(OR(J41-G41>0,J41-G41<0), (J41-G41)/G41, "")) | L41: =IF(I41>F41,"יש להסביר חריגה","") | V41: =IF(U41="",0,U41-J41) -> 0 | W41: =IF(U41=0,0,V41/J41) -> 0
A42: 3.3.2 | B42: מכשירים אלקטרוניים | C42: דפיבריליאטור | D42: =IF($G$2=נוסחאות!$N$2,נוסחאות!N47,IF($G$2=נוסחאות!$R$2,נוסחאות!R47,0)) -> 0 | E42: =IF($G$2=נוסחאות!$N$2,נוסחאות!O47,IF($G$2=נוסחאות!$R$2,נוסחאות!S47,0)) -> 0 | F42: =IF($G$2=נוסחאות!$N$2,נוסחאות!P47*$F$1,IF($G$2=נוסחאות!$R$2,נוסחאות!T47*$F$1,0)) -> 0 | G42: =F42*E42 -> 0 | J42: =IF(G42=0,0,I42*E42) -> 0 | L42: =IF(I42>F42,"יש להסביר חריגה","") | V42: =IF(U42="",0,U42-J42) -> 0 | W42: =IF(U42=0,0,V42/J42) -> 0
A43: 3.3.3 | B43: מוצרי חשמל | C43: מקרר קטן | D43: =IF($G$2=נוסחאות!$N$2,נוסחאות!N53,IF($G$2=נוסחאות!$R$2,נוסחאות!R53,0)) -> 0 | E43: =IF($G$2=נוסחאות!$N$2,נוסחאות!O53,IF($G$2=נוסחאות!$R$2,נוסחאות!S53,0)) -> 0 | F43: =IF($G$2=נוסחאות!$N$2,נוסחאות!P53*$F$1,IF($G$2=נוסחאות!$R$2,נוסחאות!T53*$F$1,0)) -> 0 | G43: =F43*E43 -> 0 | J43: =IF(G43=0,0,I43*E43) -> 0 | K43: =IF(J43=0,"",IF(OR(J43-G43>0,J43-G43<0), (J43-G43)/G43, "")) | L43: =IF(I43>F43,"יש להסביר חריגה","") | V43: =IF(U43="",0,U43-J43) -> 0 | W43: =IF(U43=0,0,V43/J43) -> 0
A44: 3.3.4 | B44: סה"כ ציוד עזרה ראשונה כולל מע"מ | G44: =SUM(G41:G43) -> 0 | J44: =SUM(J41:J43) -> 0 | K44: =IF(J44=0,"",IF(OR(J44-G44>0,J44-G44<0), (J44-G44)/G44, "")) | L44: =B44 -> סה"כ ציוד עזרה ראשונה כולל מע"מ | P44: =SUM(P41:P43) -> 0 | U44: =SUM(U41:U43) -> 0 | V44: =IF(U44="",0,U44-J44) -> 0 | W44: =IF(U44=0,0,V44/J44) -> 0
A45: 3.4 | C45: ציוד כללי | J45: =C45 -> ציוד כללי | P45: =C45 -> ציוד כללי
A46: 3.4.1 | B46: מוצרי חשמל | C46: מכונת כביסה | E46: 5000 | F46: =IF($G$2=נוסחאות!$N$2,נוסחאות!P43*$F$1,IF($G$2=נוסחאות!$R$2,נוסחאות!T43*$F$1,0)) -> 0 | G46: =F46*E46 -> 0 | J46: =IF(G46=0,0,I46*E46) -> 0 | K46: =IF(J46=0,"",IF(OR(J46-G46>0,J46-G46<0), (J46-G46)/G46, "")) | L46: =IF(I46>F46,"יש להסביר חריגה","") | V46: =IF(U46="",0,U46-J46) -> 0 | W46: =IF(U46=0,0,V46/J46) -> 0
A47: 3.4.2 | C47: מייבש כביסה | E47: 5000 | F47: =IF($G$2=נוסחאות!$N$2,נוסחאות!P40*$F$1,IF($G$2=נוסחאות!$R$2,נוסחאות!T40*$F$1,0)) -> 0 | G47: =F47*E47 -> 0 | J47: =IF(G47=0,0,I47*E47) -> 0 | K47: =IF(J47=0,"",IF(OR(J47-G47>0,J47-G47<0), (J47-G47)/G47, "")) | L47: =IF(I47>F47,"יש להסביר חריגה","") | V47: =IF(U47="",0,U47-J47) -> 0 | W47: =IF(U47=0,0,V47/J47) -> 0
A48: 3.4.3 | C48: שואב אבק תעשייתי | D48: =IF($G$2=נוסחאות!$N$2,נוסחאות!N41,IF($G$2=נוסחאות!$R$2,נוסחאות!R41,0)) -> 0 | E48: =IF($G$2=נוסחאות!$N$2,נוסחאות!O41,IF($G$2=נוסחאות!$R$2,נוסחאות!S41,0)) -> 0 | F48: =IF($G$2=נוסחאות!$N$2,נוסחאות!P41*$F$1,IF($G$2=נוסחאות!$R$2,נוסחאות!T41*$F$1,0)) -> 0 | G48: =F48*E48 -> 0 | J48: =IF(G48=0,0,I48*E48) -> 0 | L48: =IF(I48>F48,"יש להסביר חריגה","") | V48: =IF(U48="",0,U48-J48) -> 0 | W48: =IF(U48=0,0,V48/J48) -> 0
A49: 3.4.4 | C49: שואב אבק ביתי | D49: =IF($G$2=נוסחאות!$N$2,נוסחאות!N42,IF($G$2=נוסחאות!$R$2,נוסחאות!R42,0)) -> 0 | E49: =IF($G$2=נוסחאות!$N$2,נוסחאות!O42,IF($G$2=נוסחאות!$R$2,נוסחאות!S42,0)) -> 0 | F49: =IF($G$2=נוסחאות!$N$2,נוסחאות!P42*$F$1,IF($G$2=נוסחאות!$R$2,נוסחאות!T42*$F$1,0)) -> 0 | G49: =F49*E49 -> 0 | J49: =IF(G49=0,0,I49*E49) -> 0 | K49: =IF(J49=0,"",IF(OR(J49-G49>0,J49-G49<0), (J49-G49)/G49, "")) | L49: =IF(I49>F49,"יש להסביר חריגה","") | V49: =IF(U49="",0,U49-J49) -> 0 | W49: =IF(U49=0,0,V49/J49) -> 0
A50: 3.4.5 | C50: מגהץ + קרש | D50: =IF($G$2=נוסחאות!$N$2,נוסחאות!N39,IF($G$2=נוסחאות!$R$2,נוסחאות!R39,0)) -> 0 | E50: =IF($G$2=נוסחאות!$N$2,נוסחאות!O39,IF($G$2=נוסחאות!$R$2,נוסחאות!S39,0)) -> 0 | F50: =IF($G$2=נוסחאות!$N$2,נוסחאות!P39*$F$1,IF($G$2=נוסחאות!$R$2,נוסחאות!T39*$F$1,0)) -> 0 | G50: =F50*E50 -> 0 | J50: =IF(G50=0,0,I50*E50) -> 0 | L50: =IF(I50>F50,"יש להסביר חריגה","") | V50: =IF(U50="",0,U50-J50) -> 0 | W50: =IF(U50=0,0,V50/J50) -> 0
A51: 3.4.6 | C51: תאורת חירום | D51: =IF($G$2=נוסחאות!$N$2,נוסחאות!N49,IF($G$2=נוסחאות!$R$2,נוסחאות!R49,0)) -> 0 | E51: =IF($G$2=נוסחאות!$N$2,נוסחאות!O49,IF($G$2=נוסחאות!$R$2,נוסחאות!S49,0)) -> 0 | F51: =IF($G$2=נוסחאות!$N$2,נוסחאות!P49*$F$1,IF($G$2=נוסחאות!$R$2,נוסחאות!T49*$F$1,0)) -> 0 | G51: =F51*E51 -> 0 | J51: =IF(G51=0,0,I51*E51) -> 0 | K51: =IF(J51=0,"",IF(OR(J51-G51>0,J51-G51<0), (J51-G51)/G51, "")) | L51: =IF(I51>F51,"יש להסביר חריגה","") | V51: =IF(U51="",0,U51-J51) -> 0 | W51: =IF(U51=0,0,V51/J51) -> 0
A52: 3.4.7 | B52: כלי בית ואביזרים | C52: אביזרים לחדרי שירותים או רחצה | D52: =IF($G$2=נוסחאות!$N$2,נוסחאות!N44,IF($G$2=נוסחאות!$R$2,נוסחאות!R44,0)) -> 0 | E52: =IF($G$2=נוסחאות!$N$2,נוסחאות!O44,IF($G$2=נוסחאות!$R$2,נוסחאות!S44,0)) -> 0 | F52: =IF($G$2=נוסחאות!$N$2,נוסחאות!P44*$F$1,IF($G$2=נוסחאות!$R$2,נוסחאות!T44*$F$1,0)) -> 0 | G52: =F52*E52 -> 0 | J52: =IF(G52=0,0,I52*E52) -> 0 | K52: =IF(J52=0,"",IF(OR(J52-G52>0,J52-G52<0), (J52-G52)/G52, "")) | L52: =IF(I52>F52,"יש להסביר חריגה","") | V52: =IF(U52="",0,U52-J52) -> 0 | W52: =IF(U52=0,0,V52/J52) -> 0
A53: 3.4.8 | C53: ארגז כלי עבודה | D53: =IF($G$2=נוסחאות!$N$2,נוסחאות!N45,IF($G$2=נוסחאות!$R$2,נוסחאות!R45,0)) -> 0 | E53: =IF($G$2=נוסחאות!$N$2,נוסחאות!O45,IF($G$2=נוסחאות!$R$2,נוסחאות!S45,0)) -> 0 | F53: =IF($G$2=נוסחאות!$N$2,נוסחאות!P45*$F$1,IF($G$2=נוסחאות!$R$2,נוסחאות!T45*$F$1,0)) -> 0 | G53: =F53*E53 -> 0 | J53: =IF(G53=0,0,I53*E53) -> 0 | K53: =IF(J53=0,"",IF(OR(J53-G53>0,J53-G53<0), (J53-G53)/G53, "")) | L53: =IF(I53>F53,"יש להסביר חריגה","") | V53: =IF(U53="",0,U53-J53) -> 0 | W53: =IF(U53=0,0,V53/J53) -> 0
A54: 3.4.9 | C54: סולם | D54: =IF($G$2=נוסחאות!$N$2,נוסחאות!N50,IF($G$2=נוסחאות!$R$2,נוסחאות!R50,0)) -> 0 | E54: =IF($G$2=נוסחאות!$N$2,נוסחאות!O50,IF($G$2=נוסחאות!$R$2,נוסחאות!S50,0)) -> 0 | F54: =IF($G$2=נוסחאות!$N$2,נוסחאות!P50*$F$1,IF($G$2=נוסחאות!$R$2,נוסחאות!T50*$F$1,0)) -> 0 | G54: =F54*E54 -> 0 | J54: =IF(G54=0,0,I54*E54) -> 0 | L54: =IF(I54>F54,"יש להסביר חריגה","") | V54: =IF(U54="",0,U54-J54) -> 0 | W54: =IF(U54=0,0,V54/J54) -> 0
A55: 3.4.10 | C55: מטף כיבוי אש | D55: =IF($G$2=נוסחאות!$N$2,נוסחאות!N48,IF($G$2=נוסחאות!$R$2,נוסחאות!R48,0)) -> 0 | E55: =IF($G$2=נוסחאות!$N$2,נוסחאות!O48,IF($G$2=נוסחאות!$R$2,נוסחאות!S48,0)) -> 0 | F55: =IF($G$2=נוסחאות!$N$2,נוסחאות!P48*$F$1,IF($G$2=נוסחאות!$R$2,נוסחאות!T48*$F$1,0)) -> 0 | G55: =F55*E55 -> 0 | J55: =IF(G55=0,0,I55*E55) -> 0 | K55: =IF(J55=0,"",IF(OR(J55-G55>0,J55-G55<0), (J55-G55)/G55, "")) | L55: =IF(I55>F55,"יש להסביר חריגה","") | V55: =IF(U55="",0,U55-J55) -> 0 | W55: =IF(U55=0,0,V55/J55) -> 0
A56: 3.4.11 | C56: משחקים, ספרים, ציוד פנאי | D56: =IF($G$2=נוסחאות!$N$2,נוסחאות!N51,IF($G$2=נוסחאות!$R$2,נוסחאות!R51,0)) -> 0 | E56: =IF($G$2=נוסחאות!$N$2,נוסחאות!O51,IF($G$2=נוסחאות!$R$2,נוסחאות!S51,0)) -> 0 | F56: =IF($G$2=נוסחאות!$N$2,נוסחאות!P51*$F$1,IF($G$2=נוסחאות!$R$2,נוסחאות!T51*$F$1,0)) -> 0 | G56: =F56*E56 -> 0 | J56: =IF(G56=0,0,I56*E56) -> 0 | K56: =IF(J56=0,"",IF(OR(J56-G56>0,J56-G56<0), (J56-G56)/G56, "")) | L56: =IF(I56>F56,"יש להסביר חריגה","") | V56: =IF(U56="",0,U56-J56) -> 0 | W56: =IF(U56=0,0,V56/J56) -> 0
A57: 3.4.12 | B57: שירות מקצועי | C57: שירותי עיצוב פנים | D57: =IF($G$2=נוסחאות!$N$2,נוסחאות!N52,IF($G$2=נוסחאות!$R$2,נוסחאות!R52,0)) -> 0 | E57: =IF($G$2=נוסחאות!$N$2,נוסחאות!O52,IF($G$2=נוסחאות!$R$2,נוסחאות!S52,0)) -> 0 | F57: =IF($G$2=נוסחאות!$N$2,נוסחאות!P52*$F$1,IF($G$2=נוסחאות!$R$2,נוסחאות!T52*$F$1,0)) -> 0 | G57: =F57*E57 -> 0 | J57: =IF(G57=0,0,I57*E57) -> 0 | K57: =IF(J57=0,"",IF(OR(J57-G57>0,J57-G57<0), (J57-G57)/G57, "")) | L57: =IF(I57>F57,"יש להסביר חריגה","") | V57: =IF(U57="",0,U57-J57) -> 0 | W57: =IF(U57=0,0,V57/J57) -> 0
A58: 3.4.13 | B58: סה"כ ציוד כללי כולל מע"מ | G58: =SUM(G46:G57) -> 0 | J58: =SUM(J46:J57) -> 0 | K58: =IF(J58=0,"",IF(OR(J58-G58>0,J58-G58<0), (J58-G58)/G58, "")) | L58: =B58 -> סה"כ ציוד כללי כולל מע"מ | P58: =SUM(P46:P57) -> 0 | U58: =SUM(U46:U57) -> 0 | V58: =IF(U58="",0,U58-J58) -> 0 | W58: =IF(U58=0,0,V58/J58) -> 0
A59: 3.5 | C59: ציוד חצר/ מרפסת | J59: =C59 -> ציוד חצר/ מרפסת | P59: =C59 -> ציוד חצר/ מרפסת
A60: 3.5.3 | B60: ריהוט | C60: שימשיה - קוטר כ- 1.5 מ' | D60: =IF($G$2=נוסחאות!$N$2,נוסחאות!N57,IF($G$2=נוסחאות!$R$2,נוסחאות!R57,0)) -> 0 | E60: =IF($G$2=נוסחאות!$N$2,נוסחאות!O57,IF($G$2=נוסחאות!$R$2,נוסחאות!S57,0)) -> 0 | F60: =IF($G$2=נוסחאות!$N$2,נוסחאות!P57,IF($G$2=נוסחאות!$R$2,נוסחאות!T57,0)) -> 0 | G60: =F60*E60 -> 0 | I60: =IF('שאלון למילוי הגוף-חובה'!$D$43="כן",F60,0) -> 0 | J60: =IF('שאלון למילוי הגוף-חובה'!$D$43="כן",E60*I60,0) -> 0 | K60: =IF(J60=0,"",IF(OR(J60-G60>0,J60-G60<0), (J60-G60)/G60, "")) | L60: =IF(I60>F60,"יש להסביר חריגה","") | N60: =IF('שאלון למילוי הגוף-חובה'!$D$43="לא","אין חצר","") | V60: =IF(U60="",0,U60-J60) -> 0 | W60: =IF(U60=0,0,V60/J60) -> 0
A61: 3.5.4 | C61: פינת ישיבה למרפסת | D61: =IF($G$2=נוסחאות!$N$2,נוסחאות!N58,IF($G$2=נוסחאות!$R$2,נוסחאות!R58,0)) -> 0 | E61: =IF($G$2=נוסחאות!$N$2,נוסחאות!O58,IF($G$2=נוסחאות!$R$2,נוסחאות!S58,0)) -> 0 | F61: =IF($G$2=נוסחאות!$N$2,נוסחאות!P58,IF($G$2=נוסחאות!$R$2,נוסחאות!T58,0)) -> 0 | G61: =F61*E61 -> 0 | I61: =IF('שאלון למילוי הגוף-חובה'!$D$43="כן",F61,0) -> 0 | J61: =IF('שאלון למילוי הגוף-חובה'!$D$43="כן",E61*I61,0) -> 0 | K61: =IF(J61=0,"",IF(OR(J61-G61>0,J61-G61<0), (J61-G61)/G61, "")) | L61: =IF(I61>F61,"יש להסביר חריגה","") | N61: =IF('שאלון למילוי הגוף-חובה'!$D$43="לא","אין חצר","") | V61: =IF(U61="",0,U61-J61) -> 0 | W61: =IF(U61=0,0,V61/J61) -> 0
A62: 3.5.6 | B62: סה"כ ציוד חצר כולל מע"מ | G62: =SUM(G60:G61) -> 0 | J62: =SUM(J60:J61) -> 0 | K62: =IF(J62=0,"",IF(OR(J62-G62>0,J62-G62<0), (J62-G62)/G62, "")) | L62: =B62 -> סה"כ ציוד חצר כולל מע"מ | P62: =SUM(P60:P61) -> 0 | U62: =SUM(U60:U61) -> 0 | V62: =IF(U62="",0,U62-J62) -> 0 | W62: =IF(U62=0,0,V62/J62) -> 0
A63: סה"כ חללים משותפים בבתים שיתופיים/הוסטלים | G63: =G21+G39+G44+G58+G62 -> 0 | J63: =J21+J39+J44+J58+J62 -> 0 | K63: =IF(J63=0,"",IF(OR(J63-G63>0,J63-G63<0), (J63-G63)/G63, "")) | L63: =A63 -> סה"כ חללים משותפים בבתים שיתופיים/הוסטלים | P63: =P21+P39+P44+P58+P62 -> 0 | U63: =U21+U39+U44+U58+U62 -> 0 | V63: =IF(U63="",0,U63-J63) -> 0 | W63: =IF(U63=0,0,V63/J63) -> 0

Sheet בית שיתופי-סלון ומטבחון נוספים
A1: ='תוכן עניינים'!$B$7 -> תקן ריהוט וציוד לדיור קהילתי - גירסה: 07/09/26 | E1: ='שאלון למילוי הגוף-חובה'!$C$33 -> מס' דירות מעל 8 דיירים | F1: ='שאלון למילוי הגוף-חובה'!$D$33 -> 0 | G1: סיווג הדירה | I1: למלא רק באישור מנהל/ת התכנית | L1: ='שאלון למילוי הגוף-חובה'!$C$10&" : "&'שאלון למילוי הגוף-חובה'!$D$10 -> שם הגוף המבקש :
A2: ='תוכן עניינים'!B17 -> 4 | B2: ='תוכן עניינים'!C17 -> בית שיתופי: אופציה למטבחון וסלון קטן (מעל 8 דיירים) | E2: ='שאלון למילוי הגוף-חובה'!C34 -> מס' דיירים בדירות מעל 8 דיירים | F2: ='שאלון למילוי הגוף-חובה'!D34 -> 0 | L2: ='שאלון למילוי הגוף-חובה'!$C$18&" : "&'שאלון למילוי הגוף-חובה'!$D$18 -> שם המסגרת :
C3: תקן | I3: בקשת הגוף | M3: אישור מנהלת התוכנית (חריגות בלבד) | P3: שלב 1 | R3: דוח הוצאות כספי מפורט - שלבים 2 ואילך
A4: מס' | B4: קבוצת הציוד | C4: סוג הריהוט / ציוד | D4: הערות | E4: מחיר ליחידה | F4: כמות תקן | G4: תקציב מומלץ לפי תקן | I4: כמות מבוקשת | J4: תקציב מבוקש | K4: סטייה מהתקן | L4: הערות הגוף | M4: אישור חריגה | N4: הערות מנהלת התוכנית | P4: צפי עלות רכישה כולל מע"מ | Q4: שם הספק | R4: פירוט מהות ההוצאה - הציוד שנרכש / השרות שניתן | S4: מס' חשבונית מס / קבלה | T4: תאריך הוצאה | U4: סכום הוצאה בש"ח וכולל מע"מ | V4: סכום חריגה מהתקציב - הפרש בין הסכום שנרכש בפועל לעלות שאושרה בהסכם | W4: שיעור ההפרש | X4: הערות לחריגה | Y4: בדיקה והערות של היועץ מתאריך | Z4: נבדק בשלב 2/3
A5: 4.1 | C5: מטבחון | J5: =C5 -> מטבחון | P5: =C5 -> מטבחון
A6: 4.1.1 | B6: מוצרי חשמל | C6: מקרר קטן | E6: 2000 | F6: 1 | G6: =E6*F6 -> 2000 | J6: =IF(G6=0,0,I6*E6) -> 0 | K6: =IF(J6=0,"",IF(OR(J6-G6>0,J6-G6<0), (J6-G6)/G6, "")) | L6: =IF(I6>F6,"יש להסביר חריגה","") | V6: =IF(U6="",0,U6-J6) -> 0 | W6: =IF(U6=0,0,V6/J6) -> 0
A7: 4.1.2 | C7: מתקן/ בר מים | E7: 4000 | F7: 1 | G7: =E7*F7 -> 4000 | J7: =IF(G7=0,0,I7*E7) -> 0 | K7: =IF(J7=0,"",IF(OR(J7-G7>0,J7-G7<0), (J7-G7)/G7, "")) | L7: =IF(I7>F7,"יש להסביר חריגה","") | V7: =IF(U7="",0,U7-J7) -> 0 | W7: =IF(U7=0,0,V7/J7) -> 0
A8: 4.1.3 | C8: מיקרוגל | D8: ביתי | E8: 2000 | F8: 1 | G8: =E8*F8 -> 2000 | J8: =IF(G8=0,0,I8*E8) -> 0 | K8: =IF(J8=0,"",IF(OR(J8-G8>0,J8-G8<0), (J8-G8)/G8, "")) | L8: =IF(I8>F8,"יש להסביר חריגה","") | V8: =IF(U8="",0,U8-J8) -> 0 | W8: =IF(U8=0,0,V8/J8) -> 0
A9: 4.1.4 | C9: קומקום חשמלי | E9: 300 | F9: 1 | G9: =E9*F9 -> 300 | J9: =IF(G9=0,0,I9*E9) -> 0 | K9: =IF(J9=0,"",IF(OR(J9-G9>0,J9-G9<0), (J9-G9)/G9, "")) | L9: =IF(I9>F9,"יש להסביר חריגה","") | V9: =IF(U9="",0,U9-J9) -> 0 | W9: =IF(U9=0,0,V9/J9) -> 0
A10: 4.1.5 | B10: כלי בית ואביזרים | C10: כלי בישול אחסון הגשה וניקוי | D10: בית שיתופי | E10: 4000 | F10: 1 | G10: =E10*F10 -> 4000 | J10: =IF(G10=0,0,I10*E10) -> 0 | K10: =IF(J10=0,"",IF(OR(J10-G10>0,J10-G10<0), (J10-G10)/G10, "")) | L10: =IF(I10>F10,"יש להסביר חריגה","") | V10: =IF(U10="",0,U10-J10) -> 0 | W10: =IF(U10=0,0,V10/J10) -> 0
A11: 4.1.6 | B11: סה"כ ציוד מטבחון כולל מע"מ | G11: =SUM(G6:G10) -> 12300 | J11: =SUM(J6:J10) -> 0 | K11: =IF(J11=0,"",IF(OR(J11-G11>0,J11-G11<0), (J11-G11)/G11, "")) | L11: =B11 -> סה"כ ציוד מטבחון כולל מע"מ | P11: =SUM(P6:P10) -> 0 | U11: =SUM(U6:U10) -> 0 | V11: =IF(U11="",0,U11-J11) -> 0 | W11: =IF(U11=0,0,V11/J11) -> 0
A12: 4.2 | C12: סלון קטן | J12: =C12 -> סלון קטן | P12: =C12 -> סלון קטן
A13: 4.2.1 | B13: ריהוט | C13: סלון | D13: 1+2+3 | E13: 10000 | F13: 1 | G13: =E13*F13 -> 10000 | J13: =IF(G13=0,0,I13*E13) -> 0 | K13: =IF(J13=0,"",IF(OR(J13-G13>0,J13-G13<0), (J13-G13)/G13, "")) | L13: =IF(I13>F13,"יש להסביר חריגה","") | V13: =IF(U13="",0,U13-J13) -> 0 | W13: =IF(U13=0,0,V13/J13) -> 0
A14: 4.2.2 | C14: שולחן סלון | E14: 1200 | F14: 1 | G14: =E14*F14 -> 1200 | J14: =IF(G14=0,0,I14*E14) -> 0 | K14: =IF(J14=0,"",IF(OR(J14-G14>0,J14-G14<0), (J14-G14)/G14, "")) | L14: =IF(I14>F14,"יש להסביר חריגה","") | V14: =IF(U14="",0,U14-J14) -> 0 | W14: =IF(U14=0,0,V14/J14) -> 0
A15: 4.2.3 | B15: מוצרי חשמל | C15: מזגן | D15: 2.5 כ"ס | E15: 7000 | F15: 1 | G15: =E15*F15 -> 7000 | J15: =IF(G15=0,0,I15*E15) -> 0 | K15: =IF(J15=0,"",IF(OR(J15-G15>0,J15-G15<0), (J15-G15)/G15, "")) | L15: =IF(I15>F15,"יש להסביר חריגה","") | V15: =IF(U15="",0,U15-J15) -> 0 | W15: =IF(U15=0,0,V15/J15) -> 0
A16: 4.2.4 | B16: מכשירים אלקטרוניים | C16: טלוויזיה כולל מגן | D16: גודל לפי מאפייני המקום | E16: 6000 | F16: 1 | G16: =E16*F16 -> 6000 | J16: =IF(G16=0,0,I16*E16) -> 0 | K16: =IF(J16=0,"",IF(OR(J16-G16>0,J16-G16<0), (J16-G16)/G16, "")) | L16: =IF(I16>F16,"יש להסביר חריגה","") | V16: =IF(U16="",0,U16-J16) -> 0 | W16: =IF(U16=0,0,V16/J16) -> 0
A17: 4.2.5 | C17: מצלמות אבטחה | D17: מצלמה נוספת כולל התקנה | E17: 3000 | F17: 1 | G17: =E17*F17 -> 3000 | J17: =IF(G17=0,0,I17*E17) -> 0 | K17: =IF(J17=0,"",IF(OR(J17-G17>0,J17-G17<0), (J17-G17)/G17, "")) | L17: =IF(I17>F17,"יש להסביר חריגה","") | V17: =IF(U17="",0,U17-J17) -> 0 | W17: =IF(U17=0,0,V17/J17) -> 0
A18: 4.2.6 | C18: גלאי עשן | E18: 300 | F18: 1 | G18: =E18*F18 -> 300 | J18: =IF(G18=0,0,I18*E18) -> 0 | K18: =IF(J18=0,"",IF(OR(J18-G18>0,J18-G18<0), (J18-G18)/G18, "")) | L18: =IF(I18>F18,"יש להסביר חריגה","") | V18: =IF(U18="",0,U18-J18) -> 0 | W18: =IF(U18=0,0,V18/J18) -> 0
A19: 4.2.7 | C19: מערכת שמע | E19: 1200 | F19: 1 | G19: =E19*F19 -> 1200 | J19: =IF(G19=0,0,I19*E19) -> 0 | K19: =IF(J19=0,"",IF(OR(J19-G19>0,J19-G19<0), (J19-G19)/G19, "")) | L19: =IF(I19>F19,"יש להסביר חריגה","") | V19: =IF(U19="",0,U19-J19) -> 0 | W19: =IF(U19=0,0,V19/J19) -> 0
A20: 4.2.8 | C20: מחשב קומפלט | D20: נייח או נייד לפי מאפייני המקום | E20: 5000 | F20: 1 | G20: =E20*F20 -> 5000 | J20: =IF(G20=0,0,I20*E20) -> 0 | K20: =IF(J20=0,"",IF(OR(J20-G20>0,J20-G20<0), (J20-G20)/G20, "")) | L20: =IF(I20>F20,"יש להסביר חריגה","") | V20: =IF(U20="",0,U20-J20) -> 0 | W20: =IF(U20=0,0,V20/J20) -> 0
A21: 4.2.9 | B21: כלי בית | C21: וילונות חסיני אש | D21: עלות לחלון בחדר דירה | E21: 1500 | F21: =F1*2 -> 0 | G21: =E21*F21 -> 0 | J21: =IF(G21=0,0,I21*E21) -> 0 | K21: =IF(J21=0,"",IF(OR(J21-G21>0,J21-G21<0), (J21-G21)/G21, "")) | L21: =IF(I21>F21,"יש להסביר חריגה","") | V21: =IF(U21="",0,U21-J21) -> 0 | W21: =IF(U21=0,0,V21/J21) -> 0
A22: 4.2.10 | B22: ואביזרים | C22: אביזרי עיצוב | D22: אביזרי עיצוב לבית מגורים | E22: 3000 | F22: 1 | G22: =E22*F22 -> 3000 | J22: =IF(G22=0,0,I22*E22) -> 0 | K22: =IF(J22=0,"",IF(OR(J22-G22>0,J22-G22<0), (J22-G22)/G22, "")) | L22: =IF(I22>F22,"יש להסביר חריגה","") | V22: =IF(U22="",0,U22-J22) -> 0 | W22: =IF(U22=0,0,V22/J22) -> 0
A23: 4.2.11 | B23: סה"כ סלון קטן כולל מע"מ | G23: =SUM(G13:G22) -> 36700 | J23: =SUM(J13:J22) -> 0 | K23: =IF(J23=0,"",IF(OR(J23-G23>0,J23-G23<0), (J23-G23)/G23, "")) | L23: =B23 -> סה"כ סלון קטן כולל מע"מ | P23: =SUM(P13:P22) -> 0 | U23: =SUM(U13:U22) -> 0 | V23: =IF(U23="",0,U23-J23) -> 0 | W23: =IF(U23=0,0,V23/J23) -> 0
A24: סה"כ ציוד מטבחון וסלון קטן כולל מע"מ | G24: =G11+G23 -> 49000 | J24: =J11+J23 -> 0 | K24: =IF(J24=0,"",IF(OR(J24-G24>0,J24-G24<0), (J24-G24)/G24, "")) | L24: =A24 -> סה"כ ציוד מטבחון וסלון קטן כולל מע"מ | P24: =P11+P23 -> 0 | U24: =U11+U23 -> 0 | V24: =IF(U24="",0,U24-J24) -> 0 | W24: =IF(U24=0,0,V24/J24) -> 0

Sheet ציוד מיוחד
A1: ='תוכן עניינים'!$B$7 -> תקן ריהוט וציוד לדיור קהילתי - גירסה: 07/09/26 | E1: ='שאלון למילוי הגוף-חובה'!C39 -> אנשים עם לקויות מוטוריות | F1: ='שאלון למילוי הגוף-חובה'!D39 -> 0 | I1: למלא רק באישור מנהל/ת התכנית | L1: ='שאלון למילוי הגוף-חובה'!$C$10&" : "&'שאלון למילוי הגוף-חובה'!$D$10 -> שם הגוף המבקש :
A2: 5 | B2: ציוד מיוחד: ציוד לאנשים עם תפקוד נמוך, ציוד עמיד מהרגיל | E2: ='שאלון למילוי הגוף-חובה'!C40 -> אנשים עם לקויות חושיות | F2: ='שאלון למילוי הגוף-חובה'!D40 -> 0 | L2: ='שאלון למילוי הגוף-חובה'!$C$18&" : "&'שאלון למילוי הגוף-חובה'!$D$18 -> שם המסגרת :
E3: ='שאלון למילוי הגוף-חובה'!C41 -> אנשים בתפקוד נמוך ו/או התנהגות מאתגרת | F3: ='שאלון למילוי הגוף-חובה'!D41 -> 0
C4: תקן | I4: בקשת הגוף | M4: אישור מנהלת התוכנית (חריגות בלבד) | P4: שלב 1 | R4: דוח הוצאות כספי מפורט - שלבים 2 ואילך
A5: מס' | B5: קבוצת הציוד | C5: סוג הריהוט / ציוד | D5: הערות | E5: מחיר ליחידה | F5: כמות תקן | G5: תקציב מומלץ לפי תקן | I5: כמות מבוקשת | J5: תקציב מבוקש | K5: סטייה מהתקן | L5: הערות הגוף | M5: אישור חריגה | N5: הערות מנהלת התוכנית | P5: צפי עלות רכישה כולל מע"מ | Q5: שם הספק | R5: פירוט מהות ההוצאה - הציוד שנרכש / השרות שניתן | S5: מס' חשבונית מס / קבלה | T5: תאריך הוצאה | U5: סכום הוצאה בש"ח וכולל מע"מ | V5: סכום חריגה מהתקציב - הפרש בין הסכום שנרכש בפועל לעלות שאושרה בהסכם | W5: שיעור ההפרש | X5: הערות לחריגה | Y5: בדיקה והערות של היועץ מתאריך | Z5: נבדק בשלב 2/3
A6: 5.1 | B6: ציוד לאנשים עם | C6: מיטה חשמלית | D6: לדירת מגורים | E6: 12000 | F6: 1 | G6: =E6*F6 -> 12000 | J6: =IF(G6=0,0,I6*E6) -> 0 | K6: =IF(J6=0,"",IF(OR(J6-$G6>0,J6-$G6<0), (J6-$G6)/$G6, "")) | L6: =IF(I6>F6,"יש להסביר חריגה","") | V6: =IF(U6="",0,U6-J6) -> 0 | W6: =IF(U6=0,0,V6/J6) -> 0
A7: 5.2 | B7: ליקוים מוטוריים | C7: שולחן מתכוונן | D7: ליחיד בדירת מגורים | E7: 9000 | F7: 1 | G7: =E7*F7 -> 9000 | J7: =IF(G7=0,0,I7*E7) -> 0 | K7: =IF(J7=0,"",IF(OR(J7-$G7>0,J7-$G7<0), (J7-$G7)/$G7, "")) | L7: =IF(I7>F7,"יש להסביר חריגה","") | V7: =IF(U7="",0,U7-J7) -> 0 | W7: =IF(U7=0,0,V7/J7) -> 0
A8: 5.3 | C8: שולחן מתכוונן למחשב | E8: 2500 | F8: 1 | G8: =E8*F8 -> 2500 | J8: =IF(G8=0,0,I8*E8) -> 0 | K8: =IF(J8=0,"",IF(OR(J8-$G8>0,J8-$G8<0), (J8-$G8)/$G8, "")) | L8: =IF(I8>F8,"יש להסביר חריגה","") | V8: =IF(U8="",0,U8-J8) -> 0 | W8: =IF(U8=0,0,V8/J8) -> 0
A9: 5.4 | C9: כיסא שירותים ורחיצה תקני על גלגלים | E9: 1200 | F9: 1 | G9: =E9*F9 -> 1200 | J9: =IF(G9=0,0,I9*E9) -> 0 | K9: =IF(J9=0,"",IF(OR(J9-$G9>0,J9-$G9<0), (J9-$G9)/$G9, "")) | L9: =IF(I9>F9,"יש להסביר חריגה","") | V9: =IF(U9="",0,U9-J9) -> 0 | W9: =IF(U9=0,0,V9/J9) -> 0
A10: 5.5 | C10: מנוף תקרה | D10: לדירת מגורים | E10: 25000 | F10: 1 | G10: =E10*F10 -> 25000 | J10: =IF(G10=0,0,I10*E10) -> 0 | K10: =IF(J10=0,"",IF(OR(J10-$G10>0,J10-$G10<0), (J10-$G10)/$G10, "")) | L10: =IF(I10>F10,"יש להסביר חריגה","") | V10: =IF(U10="",0,U10-J10) -> 0 | W10: =IF(U10=0,0,V10/J10) -> 0
A11: 5.6 | C11: מנוף נייד עם סוללה | E11: 5000 | F11: 1 | G11: =E11*F11 -> 5000 | J11: =IF(G11=0,0,I11*E11) -> 0 | K11: =IF(J11=0,"",IF(OR(J11-$G11>0,J11-$G11<0), (J11-$G11)/$G11, "")) | L11: =IF(I11>F11,"יש להסביר חריגה","") | V11: =IF(U11="",0,U11-J11) -> 0 | W11: =IF(U11=0,0,V11/J11) -> 0
A12: 5.7 | C12: מקלדת ארגונומית | E12: 1200 | F12: 1 | G12: =E12*F12 -> 1200 | J12: =IF(G12=0,0,I12*E12) -> 0 | K12: =IF(J12=0,"",IF(OR(J12-$G12>0,J12-$G12<0), (J12-$G12)/$G12, "")) | L12: =IF(I12>F12,"יש להסביר חריגה","") | V12: =IF(U12="",0,U12-J12) -> 0 | W12: =IF(U12=0,0,V12/J12) -> 0
A13: 5.8 | C13: עכבר ארגונומי | E13: 1000 | F13: 1 | G13: =E13*F13 -> 1000 | J13: =IF(G13=0,0,I13*E13) -> 0 | K13: =IF(J13=0,"",IF(OR(J13-$G13>0,J13-$G13<0), (J13-$G13)/$G13, "")) | L13: =IF(I13>F13,"יש להסביר חריגה","") | V13: =IF(U13="",0,U13-J13) -> 0 | W13: =IF(U13=0,0,V13/J13) -> 0
A14: 5.9 | B14: ציוד לאנשים עם לקויות שמיעה | C14: מערכת הגברה סביבתית ומערכת עזר לשמיעה | E14: 4000 | F14: 1 | G14: =E14*F14 -> 4000 | J14: =IF(G14=0,0,I14*E14) -> 0 | K14: =IF(J14=0,"",IF(OR(J14-$G14>0,J14-$G14<0), (J14-$G14)/$G14, "")) | L14: =IF(I14>F14,"יש להסביר חריגה","") | V14: =IF(U14="",0,U14-J14) -> 0 | W14: =IF(U14=0,0,V14/J14) -> 0
A15: 5.1 | B15: ציוד לאנשים עם | C15: מערכת טמ"ס להגדלת טקסט | D15: לדירת מגורים | E15: 14000 | F15: 1 | G15: =E15*F15 -> 14000 | J15: =IF(G15=0,0,I15*E15) -> 0 | K15: =IF(J15=0,"",IF(OR(J15-$G15>0,J15-$G15<0), (J15-$G15)/$G15, "")) | L15: =IF(I15>F15,"יש להסביר חריגה","") | V15: =IF(U15="",0,U15-J15) -> 0 | W15: =IF(U15=0,0,V15/J15) -> 0
A16: 5.11 | B16: לקויות ראיה | C16: תוכנה קולית למחשב | E16: 1500 | F16: 1 | G16: =E16*F16 -> 1500 | J16: =IF(G16=0,0,I16*E16) -> 0 | K16: =IF(J16=0,"",IF(OR(J16-$G16>0,J16-$G16<0), (J16-$G16)/$G16, "")) | L16: =IF(I16>F16,"יש להסביר חריגה","") | V16: =IF(U16="",0,U16-J16) -> 0 | W16: =IF(U16=0,0,V16/J16) -> 0
A17: 5.12 | C17: תוכנת הגדלה למחשב | E17: 4000 | F17: 1 | G17: =E17*F17 -> 4000 | J17: =IF(G17=0,0,I17*E17) -> 0 | K17: =IF(J17=0,"",IF(OR(J17-$G17>0,J17-$G17<0), (J17-$G17)/$G17, "")) | L17: =IF(I17>F17,"יש להסביר חריגה","") | V17: =IF(U17="",0,U17-J17) -> 0 | W17: =IF(U17=0,0,V17/J17) -> 0
A18: 5.13 | C18: צג ברייל | D18: לדירת מגורים | E18: 19000 | F18: 1 | G18: =E18*F18 -> 19000 | J18: =IF(G18=0,0,I18*E18) -> 0 | K18: =IF(J18=0,"",IF(OR(J18-$G18>0,J18-$G18<0), (J18-$G18)/$G18, "")) | L18: =IF(I18>F18,"יש להסביר חריגה","") | V18: =IF(U18="",0,U18-J18) -> 0 | W18: =IF(U18=0,0,V18/J18) -> 0
A19: 5.14 | B19: ריהוט עמיד מהרגיל | C19: ='חדרי שינה'!C5 -> ארון איחסון | D19: לפי תקנים למוסדות ציבוריים | E19: 4500 | F19: 1 | G19: =E19*F19 -> 4500 | J19: =IF(G19=0,0,I19*E19) -> 0 | K19: =IF(J19=0,"",IF(OR(J19-$G19>0,J19-$G19<0), (J19-$G19)/$G19, "")) | L19: =IF(I19>F19,"יש להסביר חריגה","") | V19: =IF(U19="",0,U19-J19) -> 0 | W19: =IF(U19=0,0,V19/J19) -> 0
A20: 5.15 | C20: ='חדרי שינה'!C6 -> שולחן | D20: לפי תקנים למוסדות ציבוריים | E20: 3500 | F20: 1 | G20: =E20*F20 -> 3500 | J20: =IF(G20=0,0,I20*E20) -> 0 | K20: =IF(J20=0,"",IF(OR(J20-$G20>0,J20-$G20<0), (J20-$G20)/$G20, "")) | L20: =IF(I20>F20,"יש להסביר חריגה","") | V20: =IF(U20="",0,U20-J20) -> 0 | W20: =IF(U20=0,0,V20/J20) -> 0
A21: 5.16 | C21: ='חדרי שינה'!C8 -> מיטה + ארגז מצעים | D21: בתוספת 25% למיטה סטנדרטית בתקן | E21: 5000 | F21: 1 | G21: =E21*F21 -> 5000 | J21: =IF(G21=0,0,I21*E21) -> 0 | K21: =IF(J21=0,"",IF(OR(J21-$G21>0,J21-$G21<0), (J21-$G21)/$G21, "")) | L21: =IF(I21>F21,"יש להסביר חריגה","") | V21: =IF(U21="",0,U21-J21) -> 0 | W21: =IF(U21=0,0,V21/J21) -> 0
A22: 5.17 | C22: ='חדרי שינה'!C9 -> ארונית מגירות | D22: בתוספת 50% ארונית סטנדרטית בתקן | E22: 1500 | F22: 1 | G22: =E22*F22 -> 1500 | J22: =IF(G22=0,0,I22*E22) -> 0 | K22: =IF(J22=0,"",IF(OR(J22-$G22>0,J22-$G22<0), (J22-$G22)/$G22, "")) | L22: =IF(I22>F22,"יש להסביר חריגה","") | V22: =IF(U22="",0,U22-J22) -> 0 | W22: =IF(U22=0,0,V22/J22) -> 0
A23: 5.18 | C23: ציפוי קירות חדר שינה | E23: 15000 | F23: 1 | G23: =E23*F23 -> 15000 | J23: =IF(G23=0,0,I23*E23) -> 0 | K23: =IF(J23=0,"",IF(OR(J23-$G23>0,J23-$G23<0), (J23-$G23)/$G23, "")) | L23: =IF(I23>F23,"יש להסביר חריגה","") | V23: =IF(U23="",0,U23-J23) -> 0 | W23: =IF(U23=0,0,V23/J23) -> 0
A24: סה"כ ציוד מ יוחד כולל מע"מ | G24: =SUM(G6:G23) -> 128900 | J24: =SUM(J6:J23) -> 0 | K24: =IF(J24=0,"",IF(OR(J24-$G24>0,J24-$G24<0), (J24-$G24)/$G24, "")) | L24: =A24 -> סה"כ ציוד מ יוחד כולל מע"מ | P24: =SUM(P6:P23) -> 0 | U24: =SUM(U6:U23) -> 0 | V24: =IF(U24="",0,U24-J24) -> 0 | W24: =IF(U24=0,0,V24/J24) -> 0

Sheet ציוד מתקנים אחרים
A1: ='תוכן עניינים'!$B$7 -> תקן ריהוט וציוד לדיור קהילתי - גירסה: 07/09/26 | E1: ='שאלון למילוי הגוף-חובה'!$C$10&" : "&'שאלון למילוי הגוף-חובה'!$D$10 -> שם הגוף המבקש : | J1: למלא רק באישור מנהל/ת התכנית
A2: 6 | B2: ציוד מתקנים אחרים | E2: ='שאלון למילוי הגוף-חובה'!$C$18&" : "&'שאלון למילוי הגוף-חובה'!$D$18 -> שם המסגרת : | K2: אישור מנהל/ת התוכנית | O2: שלב 1 | Q2: דוח הוצאות כספי מפורט - שלבים 2 ואילך
A3: מס' | B3: שם התקן | C3: סיווג וסעיף התקן | D3: תיאור הציוד | E3: כמות מבוקשת | F3: מחיר בתקן | G3: סכום מבוקש | H3: הערות הגוף | J3: המלצת מנהלת התוכנית | K3: כמות מאושרת | L3: תקציב מאושר | M3: הערות מנהלת התוכנית | O3: צפי עלות רכישה כולל מע"מ | P3: שם הספק | Q3: פירוט מהות ההוצאה - הציוד שנרכש / השרות שניתן | R3: מס' חשבונית מס / קבלה | S3: תאריך הוצאה | T3: סכום הוצאה בש"ח וכולל מע"מ | U3: סכום חריגה מהתקציב - הפרש בין הסכום שנרכש בפועל לעלות שאושרה בהסכם | V3: שיעור ההפרש | W3: הערות לחריגה | X3: בדיקה והערות של היועץ מתאריך | Y3: נבדק בשלב 2/3
A4: 6.1 | G4: =E4*F4 -> 0 | K4: =IF(ISBLANK(J4),"",IF(J4="מאשר",E4,"")) | L4: =IFERROR(IF(J4="","",(MIN($F4:$F4))*K4),"") | U4: =IF(T4="",0,T4-I4) -> 0 | V4: =IF(T4=0,0,U4/L4) -> 0
A5: 6.2 | G5: =E5*F5 -> 0 | K5: =IF(ISBLANK(J5),"",IF(J5="מאשר",E5,"")) | L5: =IFERROR(IF(J5="","",(MIN($F5:$F5))*K5),"") | U5: =IF(T5="",0,T5-I5) -> 0 | V5: =IF(T5=0,0,U5/L5) -> 0
A6: 6.3 | G6: =E6*F6 -> 0 | K6: =IF(ISBLANK(J6),"",IF(J6="מאשר",E6,"")) | L6: =IFERROR(IF(J6="","",(MIN($F6:$F6))*K6),"") | U6: =IF(T6="",0,T6-I6) -> 0 | V6: =IF(T6=0,0,U6/L6) -> 0
A7: 6.4 | G7: =E7*F7 -> 0 | K7: =IF(ISBLANK(J7),"",IF(J7="מאשר",E7,"")) | L7: =IFERROR(IF(J7="","",(MIN($F7:$F7))*K7),"") | U7: =IF(T7="",0,T7-I7) -> 0 | V7: =IF(T7=0,0,U7/L7) -> 0
A8: 6.5 | G8: =E8*F8 -> 0 | K8: =IF(ISBLANK(J8),"",IF(J8="מאשר",E8,"")) | L8: =IFERROR(IF(J8="","",(MIN($F8:$F8))*K8),"") | U8: =IF(T8="",0,T8-I8) -> 0 | V8: =IF(T8=0,0,U8/L8) -> 0
A9: 6.6 | G9: =E9*F9 -> 0 | K9: =IF(ISBLANK(J9),"",IF(J9="מאשר",E9,"")) | L9: =IFERROR(IF(J9="","",(MIN($F9:$F9))*K9),"") | U9: =IF(T9="",0,T9-I9) -> 0 | V9: =IF(T9=0,0,U9/L9) -> 0
A10: 6.7 | G10: =E10*F10 -> 0 | K10: =IF(ISBLANK(J10),"",IF(J10="מאשר",E10,"")) | L10: =IFERROR(IF(J10="","",(MIN($F10:$F10))*K10),"") | U10: =IF(T10="",0,T10-I10) -> 0 | V10: =IF(T10=0,0,U10/L10) -> 0
A11: 6.8 | G11: =E11*F11 -> 0 | K11: =IF(ISBLANK(J11),"",IF(J11="מאשר",E11,"")) | L11: =IFERROR(IF(J11="","",(MIN($F11:$F11))*K11),"") | U11: =IF(T11="",0,T11-I11) -> 0 | V11: =IF(T11=0,0,U11/L11) -> 0
A12: 6.9 | G12: =E12*F12 -> 0 | K12: =IF(ISBLANK(J12),"",IF(J12="מאשר",E12,"")) | L12: =IFERROR(IF(J12="","",(MIN($F12:$F12))*K12),"") | U12: =IF(T12="",0,T12-I12) -> 0 | V12: =IF(T12=0,0,U12/L12) -> 0
A13: 6.1 | G13: =E13*F13 -> 0 | K13: =IF(ISBLANK(J13),"",IF(J13="מאשר",E13,"")) | L13: =IFERROR(IF(J13="","",(MIN($F13:$F13))*K13),"") | U13: =IF(T13="",0,T13-I13) -> 0 | V13: =IF(T13=0,0,U13/L13) -> 0
A14: 6.11 | G14: =E14*F14 -> 0 | K14: =IF(ISBLANK(J14),"",IF(J14="מאשר",E14,"")) | L14: =IFERROR(IF(J14="","",(MIN($F14:$F14))*K14),"") | U14: =IF(T14="",0,T14-I14) -> 0 | V14: =IF(T14=0,0,U14/L14) -> 0
A15: 6.12 | G15: =E15*F15 -> 0 | K15: =IF(ISBLANK(J15),"",IF(J15="מאשר",E15,"")) | L15: =IFERROR(IF(J15="","",(MIN($F15:$F15))*K15),"") | U15: =IF(T15="",0,T15-I15) -> 0 | V15: =IF(T15=0,0,U15/L15) -> 0
... A28: 6.25 | G28: =E28*F28 -> 0 | K28: =IF(ISBLANK(J28),"",IF(J28="מאשר",E28,"")) | L28: =IFERROR(IF(J28="","",(MIN($F28:$F28))*K28),"") | U28: =IF(T28="",0,T28-I28) -> 0 | V28: =IF(T28=0,0,U28/L28) -> 0
A29: סה"כ ציוד מתקנים אחרים כולל מע"מ | G29: =SUM(G4:G28) -> 0 | L29: =SUM(L4:L28) -> 0 | M29: =A29 -> סה"כ ציוד מתקנים אחרים כולל מע"מ | O29: =SUM(O4:O28) -> 0 | T29: =SUM(T4:T28) -> 0 | U29: =IF(T29="",0,T29-I29) -> 0 | V29: =IF(T29=0,0,U29/L29) -> 0

Sheet ציוד נוסף
A1: ='תוכן עניינים'!$B$7 -> תקן ריהוט וציוד לדיור קהילתי - גירסה: 07/09/26 | L1: למלא רק באישור מנהל/ת התכנית
A2: ='תוכן עניינים'!B20 -> 7 | B2: ='תוכן עניינים'!C20 -> ציוד נוסף שלא קיים בתקן | C2: יש לרשום ציוד שאינו מופיע בתקן ולצרף 2 הצעות מחיר לציוד בעלות עד 20,000 ₪ ו-3 הצעות מחיר לסכום גבוה יותר | N2: אישור מנהל/ת התוכנית | S2: שלב 1 | U2: דוח הוצאות כספי מפורט - שלבים 2 ואילך
A3: מס' | B3: תחום פעילות/ קבוצת ההוצאות | C3: פירוט הציוד/הפריט | D3: תיאור הצורך בפריט/בציוד | E3: כמות מבוקשת | F3: הצעת מחיר א' כולל מע"מ | G3: הצעת מחיר ב' כולל מע"מ | H3: הצעת מחיר ג' כולל מע"מ | I3: סה"כ מחיר לפי ההצעה הזולה כולל מע"מ | J3: הערות הגוף | L3: המלצת המנהלת (כמות) | M3: כמות מאושרת | N3: אישור מחיר חריג | O3: מחיר מאושר | P3: תקציב מאושר | Q3: הערות מנהלת התוכנית | S3: צפי עלות רכישה כולל מע"מ | T3: שם הספק | U3: פירוט מהות ההוצאה - הציוד שנרכש / השרות שניתן | V3: מס' חשבונית מס / קבלה | W3: תאריך הוצאה | X3: סכום הוצאה בש"ח וכולל מע"מ | Y3: סכום חריגה מהתקציב - הפרש בין הסכום שנרכש בפועל לעלות שאושרה בהסכם | Z3: שיעור ההפרש | AA3: הערות לחריגה | AB3: בדיקה והערות של היועץ מתאריך | AC3: נבדק בשלב 2/3
A4: 7.1 | I4: =(MIN($F4:$H4))*E4 -> 0 | M4: =IF(ISBLANK(L4),"",IF(L4="מאשר",E4,"")) | O4: =IF(N4="הצעה א",F4,IF(N4="הצעה ב",G4,IF(N4="הצעה ג",H4,MIN(F4:H4)))) -> 0 | P4: =IFERROR(IF(L4="","",M4*O4),"") | Y4: =IF(X4="",0,X4-P4) -> 0 | Z4: =IF(X4=0,0,Y4/P4) -> 0
A5: 7.2 | I5: =(MIN($F5:$H5))*E5 -> 0 | M5: =IF(ISBLANK(L5),"",IF(L5="מאשר",E5,"")) | O5: =IF(N5="הצעה א",F5,IF(N5="הצעה ב",G5,IF(N5="הצעה ג",H5,MIN(F5:H5)))) -> 0 | P5: =IFERROR(IF(L5="","",M5*O5),"") | Y5: =IF(X5="",0,X5-P5) -> 0 | Z5: =IF(X5=0,0,Y5/P5) -> 0
A6: 7.3 | I6: =(MIN($F6:$H6))*E6 -> 0 | M6: =IF(ISBLANK(L6),"",IF(L6="מאשר",E6,"")) | O6: =IF(N6="הצעה א",F6,IF(N6="הצעה ב",G6,IF(N6="הצעה ג",H6,MIN(F6:H6)))) -> 0 | P6: =IFERROR(IF(L6="","",M6*O6),"") | Y6: =IF(X6="",0,X6-P6) -> 0 | Z6: =IF(X6=0,0,Y6/P6) -> 0
A7: 7.4 | I7: =(MIN($F7:$H7))*E7 -> 0 | M7: =IF(ISBLANK(L7),"",IF(L7="מאשר",E7,"")) | O7: =IF(N7="הצעה א",F7,IF(N7="הצעה ב",G7,IF(N7="הצעה ג",H7,MIN(F7:H7)))) -> 0 | P7: =IFERROR(IF(L7="","",M7*O7),"") | Y7: =IF(X7="",0,X7-P7) -> 0 | Z7: =IF(X7=0,0,Y7/P7) -> 0
A8: 7.5 | I8: =(MIN($F8:$H8))*E8 -> 0 | M8: =IF(ISBLANK(L8),"",IF(L8="מאשר",E8,"")) | O8: =IF(N8="הצעה א",F8,IF(N8="הצעה ב",G8,IF(N8="הצעה ג",H8,MIN(F8:H8)))) -> 0 | P8: =IFERROR(IF(L8="","",M8*O8),"") | Y8: =IF(X8="",0,X8-P8) -> 0 | Z8: =IF(X8=0,0,Y8/P8) -> 0
A9: 7.6 | I9: =(MIN($F9:$H9))*E9 -> 0 | M9: =IF(ISBLANK(L9),"",IF(L9="מאשר",E9,"")) | O9: =IF(N9="הצעה א",F9,IF(N9="הצעה ב",G9,IF(N9="הצעה ג",H9,MIN(F9:H9)))) -> 0 | P9: =IFERROR(IF(L9="","",M9*O9),"") | Y9: =IF(X9="",0,X9-P9) -> 0 | Z9: =IF(X9=0,0,Y9/P9) -> 0
A10: 7.7 | I10: =(MIN($F10:$H10))*E10 -> 0 | M10: =IF(ISBLANK(L10),"",IF(L10="מאשר",E10,"")) | O10: =IF(N10="הצעה א",F10,IF(N10="הצעה ב",G10,IF(N10="הצעה ג",H10,MIN(F10:H10)))) -> 0 | P10: =IFERROR(IF(L10="","",M10*O10),"") | Y10: =IF(X10="",0,X10-P10) -> 0 | Z10: =IF(X10=0,0,Y10/P10) -> 0
A11: 7.8 | I11: =(MIN($F11:$H11))*E11 -> 0 | M11: =IF(ISBLANK(L11),"",IF(L11="מאשר",E11,"")) | O11: =IF(N11="הצעה א",F11,IF(N11="הצעה ב",G11,IF(N11="הצעה ג",H11,MIN(F11:H11)))) -> 0 | P11: =IFERROR(IF(L11="","",M11*O11),"") | Y11: =IF(X11="",0,X11-P11) -> 0 | Z11: =IF(X11=0,0,Y11/P11) -> 0
A12: 7.9 | I12: =(MIN($F12:$H12))*E12 -> 0 | M12: =IF(ISBLANK(L12),"",IF(L12="מאשר",E12,"")) | O12: =IF(N12="הצעה א",F12,IF(N12="הצעה ב",G12,IF(N12="הצעה ג",H12,MIN(F12:H12)))) -> 0 | P12: =IFERROR(IF(L12="","",M12*O12),"") | Y12: =IF(X12="",0,X12-P12) -> 0 | Z12: =IF(X12=0,0,Y12/P12) -> 0
A13: 7.1 | I13: =(MIN($F13:$H13))*E13 -> 0 | M13: =IF(ISBLANK(L13),"",IF(L13="מאשר",E13,"")) | O13: =IF(N13="הצעה א",F13,IF(N13="הצעה ב",G13,IF(N13="הצעה ג",H13,MIN(F13:H13)))) -> 0 | P13: =IFERROR(IF(L13="","",M13*O13),"") | Y13: =IF(X13="",0,X13-P13) -> 0 | Z13: =IF(X13=0,0,Y13/P13) -> 0
A14: 7.11 | I14: =(MIN($F14:$H14))*E14 -> 0 | M14: =IF(ISBLANK(L14),"",IF(L14="מאשר",E14,"")) | O14: =IF(N14="הצעה א",F14,IF(N14="הצעה ב",G14,IF(N14="הצעה ג",H14,MIN(F14:H14)))) -> 0 | P14: =IFERROR(IF(L14="","",M14*O14),"") | Y14: =IF(X14="",0,X14-P14) -> 0 | Z14: =IF(X14=0,0,Y14/P14) -> 0
A15: 7.12 | I15: =(MIN($F15:$H15))*E15 -> 0 | M15: =IF(ISBLANK(L15),"",IF(L15="מאשר",E15,"")) | O15: =IF(N15="הצעה א",F15,IF(N15="הצעה ב",G15,IF(N15="הצעה ג",H15,MIN(F15:H15)))) -> 0 | P15: =IFERROR(IF(L15="","",M15*O15),"") | Y15: =IF(X15="",0,X15-P15) -> 0 | Z15: =IF(X15=0,0,Y15/P15) -> 0
... A28: 7.25 | I28: =(MIN($F28:$H28))*E28 -> 0 | M28: =IF(ISBLANK(L28),"",IF(L28="מאשר",E28,"")) | O28: =IF(N28="הצעה א",F28,IF(N28="הצעה ב",G28,IF(N28="הצעה ג",H28,MIN(F28:H28)))) -> 0 | P28: =IFERROR(IF(L28="","",M28*O28),"") | Y28: =IF(X28="",0,X28-P28) -> 0 | Z28: =IF(X28=0,0,Y28/P28) -> 0
A29: סה"כ ציוד נוסף שלא קיים בתקן כולל מע"מ | I29: =SUM(I4:I28) -> 0 | P29: =SUM(P4:P28) -> 0 | Q29: =A29 -> סה"כ ציוד נוסף שלא קיים בתקן כולל מע"מ | S29: =SUM(S4:S28) -> 0 | X29: =SUM(X4:X28) -> 0 | Y29: =IF(X29="",0,X29-P29) -> 0 | Z29: =IF(X29=0,0,Y29/P29) -> 0

Sheet סיכום לוועדה
D2: ='תוכן עניינים'!$B$7 -> תקן ריהוט וציוד לדיור קהילתי - גירסה: 07/09/26
D3: סיכום בקשה להצטיידות | F3: ='שאלון למילוי הגוף-חובה'!C25 -> פרויקט ארצי | G3: ='שאלון למילוי הגוף-חובה'!D25 -> 0 | H3: =IF(G3=0,"יש למלא שאלון","") -> יש למלא שאלון
F4: דירוג סוציואקונומי של הישוב | G4: =IF(G3="כן",10,'שאלון למילוי הגוף-חובה'!D26) -> 0 | H4: =IF(G4="","יש למלא שאלון","")
F5: ='שאלון למילוי הגוף-חובה'!C27 -> קו עימות | G5: ='שאלון למילוי הגוף-חובה'!D27 -> 0 | H5: =IF(G5=0,"יש למלא שאלון","") -> יש למלא שאלון
F6: ='שאלון למילוי הגוף-חובה'!C28 -> האם הגוף המבקש הינו גוף פרטי? | G6: ='שאלון למילוי הגוף-חובה'!D28 -> 0 | H6: =IF(G6=0,"יש למלא שאלון","") -> יש למלא שאלון
F7: סכום מקסימלי לפי קול קורא (למילוי מנהלת התוכנית) | G7: 700000 | H7: =IF(G7=0,"יש לרשום סכום","")
D8: ='שאלון למילוי הגוף-חובה'!C9 -> תאריך הגשת הבקשה | E8: ='שאלון למילוי הגוף-חובה'!D9 -> 0 | F8: =IF(E8=0,"יש למלא שאלון","") -> יש למלא שאלון
D9: ='שאלון למילוי הגוף-חובה'!C10 -> שם הגוף המבקש | E9: ='שאלון למילוי הגוף-חובה'!D10 -> 0 | F9: =IF(E9=0,"יש למלא שאלון","") -> יש למלא שאלון
D10: ='שאלון למילוי הגוף-חובה'!C18 -> שם המסגרת | E10: ='שאלון למילוי הגוף-חובה'!D18 -> 0 | F10: =IF(E10=0,"יש למלא שאלון","") -> יש למלא שאלון
D11: מספר דירות | E11: ='שאלון למילוי הגוף-חובה'!D30+'שאלון למילוי הגוף-חובה'!D33 -> 1 | F11: =IF(E11=0,"יש למלא שאלון","")
D12: מספר חדרי שינה | E12: ='שאלון למילוי הגוף-חובה'!D36 -> 5 | F12: =IF(E12=0,"יש למלא שאלון","")
D13: מספר הדיירים | E13: ='שאלון למילוי הגוף-חובה'!D37 -> 6 | F13: =IF(E13=0,"יש למלא שאלון","")
C15: סה"כ עלות הבקשה
C16: מס' | D16: קטגוריה | E16: סך עלות מאושרת כולל מע"מ | I16: סך בקשת הגוף בשלב 1 (בש"ח כולל מע"מ) | J16: סך הוצאה בפועל (בש"ח כולל מע"מ)
C17: ='חדרי שינה'!A2 -> 1 | D17: ='חדרי שינה'!B2 -> חדרי שינה: ציוד וריהוט | E17: ='חדרי שינה'!J19 -> 0 | F17: =IF(MAX('חדרי שינה'!K5:K19)>0,"חריגות","") | I17: ='חדרי שינה'!P19 -> 0 | J17: ='חדרי שינה'!U19 -> 0
C18: ='דירה קהילתית-חללים משותפים '!A2 -> 2 | D18: ='דירה קהילתית-חללים משותפים '!B2 -> דירה קהלתית: ציוד חללים משותפים (עד 8 דיירים) | F18: =IF(MAX('דירה קהילתית-חללים משותפים '!K6:K57)>0,"חריגות","")
C19: ='דירה קהילתית-חללים משותפים '!A5 -> 2.1 | D19: ='דירה קהילתית-חללים משותפים '!C5 -> מטבח | E19: ='דירה קהילתית-חללים משותפים '!J21 -> 0 | F19: =IF(MAX('דירה קהילתית-חללים משותפים '!K6:K21)>0,"חריגות","") | I19: ='דירה קהילתית-חללים משותפים '!P21 -> 0 | J19: ='דירה קהילתית-חללים משותפים '!U21 -> 0
C20: ='דירה קהילתית-חללים משותפים '!A22 -> 2.2 | D20: ='דירה קהילתית-חללים משותפים '!C22 -> סלון | E20: ='דירה קהילתית-חללים משותפים '!J37 -> 0 | F20: =IF(MAX('דירה קהילתית-חללים משותפים '!K23:K37)>0,"חריגות","") | I20: ='דירה קהילתית-חללים משותפים '!P37 -> 0 | J20: ='דירה קהילתית-חללים משותפים '!U37 -> 0
C21: ='דירה קהילתית-חללים משותפים '!A38 -> 2.3 | D21: ='דירה קהילתית-חללים משותפים '!C38 -> ציוד כללי | E21: ='דירה קהילתית-חללים משותפים '!J52 -> 0 | F21: =IF(MAX('דירה קהילתית-חללים משותפים '!K39:K52)>0,"חריגות","") | I21: ='דירה קהילתית-חללים משותפים '!P52 -> 0 | J21: ='דירה קהילתית-חללים משותפים '!U52 -> 0
C22: ='דירה קהילתית-חללים משותפים '!A53 -> 2.4 | D22: ='דירה קהילתית-חללים משותפים '!C53 -> ציוד חצר/ מרפסת | E22: ='דירה קהילתית-חללים משותפים '!J56 -> 0 | F22: =IF(MAX('דירה קהילתית-חללים משותפים '!K54:K56)>0,"חריגות","") | I22: ='דירה קהילתית-חללים משותפים '!P56 -> 0 | J22: ='דירה קהילתית-חללים משותפים '!U56 -> 0
C23: ='בית שיתופי-חללים משותפים'!A2 -> 3 | D23: ='בית שיתופי-חללים משותפים'!B2 -> בית שיתופי: ציוד חללים משותפים (מעל 8 דיירים) | F23: =IF(MAX('בית שיתופי-חללים משותפים'!K6:K63)>0,"חריגות","")
C24: ='בית שיתופי-חללים משותפים'!A5 -> 3.1 | D24: ='בית שיתופי-חללים משותפים'!C5 -> מטבח מרכזי | E24: ='בית שיתופי-חללים משותפים'!J21 -> 0 | F24: =IF(MAX('בית שיתופי-חללים משותפים'!K6:K21)>0,"חריגות","") | I24: ='בית שיתופי-חללים משותפים'!P21 -> 0 | J24: ='בית שיתופי-חללים משותפים'!U21 -> 0
C25: ='בית שיתופי-חללים משותפים'!A22 -> 3.2 | D25: ='בית שיתופי-חללים משותפים'!C22 -> סלון מרכזי | E25: ='בית שיתופי-חללים משותפים'!J39 -> 0 | F25: =IF(MAX('בית שיתופי-חללים משותפים'!K23:K39)>0,"חריגות","") | I25: ='בית שיתופי-חללים משותפים'!P39 -> 0 | J25: ='בית שיתופי-חללים משותפים'!U39 -> 0
C26: ='בית שיתופי-חללים משותפים'!A40 -> 3.3 | D26: ='בית שיתופי-חללים משותפים'!C40 -> ציוד עזרה ראשונה | E26: ='בית שיתופי-חללים משותפים'!J44 -> 0 | F26: =IF(MAX('בית שיתופי-חללים משותפים'!K41:K44)>0,"חריגות","") | I26: ='בית שיתופי-חללים משותפים'!P44 -> 0 | J26: ='בית שיתופי-חללים משותפים'!U44 -> 0
C27: ='בית שיתופי-חללים משותפים'!A45 -> 3.4 | D27: ='בית שיתופי-חללים משותפים'!C45 -> ציוד כללי | E27: ='בית שיתופי-חללים משותפים'!J58 -> 0 | F27: =IF(MAX('בית שיתופי-חללים משותפים'!K46:K58)>0,"חריגות","") | I27: ='בית שיתופי-חללים משותפים'!P58 -> 0 | J27: ='בית שיתופי-חללים משותפים'!U58 -> 0
C28: ='בית שיתופי-חללים משותפים'!A59 -> 3.5 | D28: ='בית שיתופי-חללים משותפים'!C59 -> ציוד חצר/ מרפסת | E28: ='בית שיתופי-חללים משותפים'!J62 -> 0 | F28: =IF(MAX('בית שיתופי-חללים משותפים'!K60:K62)>0,"חריגות","") | I28: ='בית שיתופי-חללים משותפים'!P62 -> 0 | J28: ='בית שיתופי-חללים משותפים'!U62 -> 0
C29: ='בית שיתופי-סלון ומטבחון נוספים'!A2 -> 4 | D29: ='בית שיתופי-סלון ומטבחון נוספים'!B2 -> בית שיתופי: אופציה למטבחון וסלון קטן (מעל 8 דיירים) | F29: =IF(MAX('בית שיתופי-סלון ומטבחון נוספים'!K6:K24)>0,"חריגות","")
C30: ='בית שיתופי-סלון ומטבחון נוספים'!A5 -> 4.1 | D30: ='בית שיתופי-סלון ומטבחון נוספים'!C5 -> מטבחון | E30: ='בית שיתופי-סלון ומטבחון נוספים'!J11 -> 0 | F30: =IF(MAX('בית שיתופי-סלון ומטבחון נוספים'!K6:K11)>0,"חריגות","") | I30: ='בית שיתופי-סלון ומטבחון נוספים'!P11 -> 0 | J30: ='בית שיתופי-סלון ומטבחון נוספים'!U11 -> 0
C31: ='בית שיתופי-סלון ומטבחון נוספים'!A12 -> 4.2 | D31: ='בית שיתופי-סלון ומטבחון נוספים'!C12 -> סלון קטן | E31: ='בית שיתופי-סלון ומטבחון נוספים'!J23 -> 0 | F31: =IF(MAX('בית שיתופי-סלון ומטבחון נוספים'!K13:K23)>0,"חריגות","") | I31: ='בית שיתופי-סלון ומטבחון נוספים'!P23 -> 0 | J31: ='בית שיתופי-סלון ומטבחון נוספים'!U23 -> 0
C32: ='תוכן עניינים'!B18 -> 5 | D32: ='תוכן עניינים'!C18 -> ציוד מיוחד | E32: ='ציוד מיוחד'!J24 -> 0 | F32: =IF(MAX('ציוד מיוחד'!K6:K24)>0,"חריגות","") | I32: ='ציוד מיוחד'!P24 -> 0 | J32: ='ציוד מיוחד'!U24 -> 0
C33: ='תוכן עניינים'!B19 -> 6 | D33: ='תוכן עניינים'!C19 -> ציוד מתקנים אחרים | E33: ='ציוד מתקנים אחרים'!L29 -> 0 | I33: ='ציוד מתקנים אחרים'!O29 -> 0 | J33: ='ציוד מתקנים אחרים'!T29 -> 0
C34: ='ציוד נוסף'!A2 -> 7 | D34: ='ציוד נוסף'!B2 -> ציוד נוסף שלא קיים בתקן | E34: ='ציוד נוסף'!P29 -> 0 | I34: ='ציוד נוסף'!S29 -> 0 | J34: ='ציוד נוסף'!X29 -> 0
D35: סה"כ בקשה | E35: =SUM(E17:E34) -> 0 | I35: =SUM(I17:I34) -> 0 | J35: =SUM(J17:J34) -> 0
C37: אחוז מימון מקסימלי לפי דירוג סוציואקונומי, קו עימות ומיגבלת גוף פרטי - הנמוך מביניהם (ללא התחשבות בתקציב הסיוע המקסימלי בקול קורא)
D38: גורם מממן | E38: אחוז מימון | F38: סכום מימון
D39: אחוז מימון מקסימלי-ביטוח לאומי | E39: =IF(G6="כן",50%,IF(G5="כן",90%,IF(G4<=4,90%,IF(G4<8,80%,70%)))) -> 0.9 | F39: =$E$35*E39 -> 0
D40: מימון עצמי | E40: =100%-E39 -> 0.1 | F40: =$E$35*E40 -> 0
D41: סה"כ | E41: =SUM(E39:E40) -> 1 | F41: =SUM(F39:F40) -> 0
D43: סכום מימון מקסימלי בהתאם לקול קורא
D44: גורם מממן | E44: אחוז מימון | F44: סכום מימון
D45: מימון ביטוח לאומי מקסימלי לפי קול קורא | E45: =IF($F$45=0,"",IF($F$39<$F$45,"",ROUNDUP(F45/E$35,4))) | F45: =G7 -> 700000
D46: מימון עצמי | E46: =IF($F$45=0,"",IF($F$39<$F$45,"",ROUNDDOWN(F46/E$35,4))) | F46: =IF($F$39<$F$45,"",(F47-F45))
D47: סה"כ | E47: =IF($F$39<$F$45,"",SUM(E45:E46)) | F47: =IF($F$39<$F$45,"",E35)
C49: לאישור הוועדה
C50: מימון מאושר - הנמוך מביניהם - על פי דרוג סוציואקונומי או תקציב סיוע מקסימלי בקול קורא או תקציב לגוף פרטי
D51: גורם מממן | E51: אחוז מימון | F51: סכום מימון
D52: אחוז מימון מקסימלי-ביטוח לאומי | E52: =IF(F52=0,"",ROUNDUP(F52/E$35,4)) | F52: =MIN(F39,F45) -> 0
D53: מימון עצמי | E53: =IF(F53=0,"",ROUNDDOWN(F53/E$35,4)) | F53: =F54-F52 -> 0
D54: סה"כ | E54: =IF(F54=0,"",SUM(E52:E53)) | F54: =E35 -> 0
C55: =IF(('שאלון למילוי הגוף-חובה'!D30+'שאלון למילוי הגוף-חובה'!D33)<1,"יש למלא את מספר החדרים","")
C56: =IF('שאלון למילוי הגוף-חובה'!D36<1,"יש למלא את מספר חדרי השינה","")
C57: =IF('שאלון למילוי הגוף-חובה'!D37<1,"יש למלא את מספר הדיירים","")
