Workbook
Name BedroomType: #REF!
Name BedroomType: #REF!

Sheet פתיח
B3: תקן ציוד כללי למרכזי יום טיפוליים ולמסגרות מזדקנים לאנשים עם מוגבלות
B4: גירסה עדכנית לתאריך | E4: 2 בספטמבר 2026
B5: רקע:
B6: בעשור האחרון חל פיתוח מואץ, בהקמת מסגרות יום בקהילה, עבור אנשים בוגרים (21+) עם מוגבלות, מתוך תפיסה הדוגלת בשילובם בקהילה, ובמתן פתרונות ומענים מגוונים, לבחירה של הפרט ובני משפחתו.
B7: המסגרות מיועדות, לאנשים ברמת תפקוד טיפולית וסיעודית, הזקוקים לתמיכות מקיפות בחיי היום יום.
B8: במסגרות ניתנים: שירותי תמיכה, טיפול, העשרה ופנאי מגוונים בשעות היום.
B9: הקרן לפיתוח שירותים לנכים של המוסד לביטוח לאומי, אשר הוקמה בשנת 1976 , מסייעת בפיתוח שירותים, המיועדים לשיפור איכות חייהם, שילובם ושיקומם של אנשים עם מוגבלות מגיל לידה עד גיל 65.
B10: תרומתה של הקרן לפיתוח שרותים לנכים, לפיתוח ושדרוג המסגרות, האיצה את הקמתן ופריסתן בכל רחבי הארץ, ובעשור האחרון , מאות אנשים עם מוגבלות נהנים מהמבנים המרווחים והמאובזרים בציוד חדשני ומותאם.
B11: מסמך זה נועד לפשט את תהליך הגשת הבקשות לקרנות לסיוע במימון ציוד בסיסי למרכזי היום ולמסגרות למזדקנים (יקראו להלן "המסגרות").
B12: המסמך אינו כולל ציוד טיפולי שיקומי וסיעודי .
B13: 1. מטרת המסמך
B14: קביעת תקן ריהוט וציוד כללי, למרכזי יום ולמסגרות למזדקנים עבור אנשים עם מוגבלות: פיזית, חושית, מוגבלות שכלית התפתחותית, נפשית ועל הרצף האוטיסטי.
B15: מדובר באוכלוסייה הזקוקה לתמיכות רבות בחיי היום – יום. המסגרות מוכרות ומתוקצבות ע"י משרד העבודה והרווחה והשרותים החברתיים.
B16: המסמך נועד:
... B35: בקטגוריה זו יש פירוט של ציוד עבור
C36: ג1. מטבח מחמם
C37: ג2. מטבח מבשל
C38: ג3. ציוד וריהוט לחדר אוכל
B39: מסגרת שיש לה אישור מהגורם המוסמך להפעלת מטבח מחמם ומפעילה מטבח מחמם תמלא טבלאות 4.3.1 + 4.3.3 בלבד.
B40: מסגרת שיש לה אישור מהגורם המוסמך להפעלת מטבח מבשל ומפעילה מטבח מבשל תמלא טבלאות 4.3.2 + 4.3.3 בלבד.
B41: ניתן להתקין ציוד גז באישור מתקין גז מוסמך מטעם משרד הכלכלה.
B43: * קטגוריה (גיליון) ד' -ציוד תעסוקה/ סדנאות.
C44: בשלב הגשת הבקשה במסגרת הקול קורא עליך לדווח רק את שמות הסדנאות המתוכננות בלבד
C45: בשלב מימוש הפרוייקט , במסגרת דוח הפעילות תדרש להעביר פירוט הכולל: שם הסדנה, תכנים, תדירות הפעילות, כמות משתתפים מתוכננת וכמות והכשרת הצוות המפעיל.
C46: התקן מאפשר בחירה בין מגוון סדנאות . הסדנאות תחולקנה ל 2 רמות בהתאם לעלותן –
C47: רמת מחיר א' – סדנאות יקרות- מחשבים ומולטימדיה , קרמיקה ,נגרות.
C48: רמת מחיר ב' – סדנאות זולות יותר- קפיטריה, סדנת גינון עם אדניות מוגבהות, סדנת אפיה ובישול, סדנת מוסיקה.
C49: מספר הסדנאות המקסימלי האפשרי מותנה בגודל המסגרת ומופיע בתקן עצמו.
C50: הציוד לסדנאות יכלול ריהוט מתאים: כיסאות, שולחנות וארונות המותאמים לכמות האנשים בסדנה.
C51: הציוד לסדנאות לא יכלול ציוד מתכלה.
B53: * קטגוריה (גיליון) ה' -ציוד צוות.
B55: * קטגוריה (גיליון) ו' -ציוד נוסף שלא קיים בתקן.
C56: יש לרשום 2 הצעות מחיר לציוד בעלות עד 20,000 ₪ ו-3 הצעות מחיר לסכום גבוה יותר
B58: הציוד בתקן על פי גודל המסגרת או מספר האנשים.
B60: 2.2 התקן כולל תקציב המיועד לקבלת שירותי עיצוב פנים על מנת לתת חזות
C61: נאה נעימה ואסתטית לפנים המבנה.
B63: 2.3 במידה ותירכש כמות גדולה של פריטי ציוד מאותו סוג, ו/או תבוצע רכישה
C64: מרוכזת של כמות גדולה של פריטי ציוד שונים מאותו ספק, באחריות המסגרת לקבל "הנחת כמות".
B66: 3. הנחיות להגשת הבקשה:
B67: 3.1 הבקשה תכלול את הפרטים הבאים:
C68: א. תוכנית העמדה של הציוד על גבי תוכנית אדריכלית בגודל A3.
C69: ב. בקשת הריהוט והציוד תוגש באמצעות קובץ האקסל המצורף למסמך זה. יש לסמן את הריהוט והציוד המבוקש על גבי הטבלאות בהתאם להנחיות למילוי הבקשה.
C70: ציוד לסדנאות- יש לפרט מס' הסדנאות המבוקש ושם הסדנה
B71: 3.2 יש לשאוף לניצול מקסימלי של החדרים ובהתאם לכך לתכנן את אחסון הציוד בצורה הולמת, מוגנת ושמורה. יש לשאוף לניצול יעיל ומרבי של הציוד.
B72: 3.3 יש לתת עדיפות לרכישת פריטים מתוצרת הארץ.
B73: 3.4 ברכישת הציוד יש להיצמד למחירים המופיעים בתקן.
B74: 3.5 הטבלה כוללת עלויות הובלה והתקנת הציוד.
B75: 3.6 הציוד המבוקש צריך להיות מתאים למטרות ותפעול המסגרת, מספר האנשים, כמות ומידות החדרים והחללים, ולשטח החצרות.
B76: 3.7 בתכנון הרכש יש להתייחס לתקני איכות ובטיחות עדכניים.
B77: 3.8 התקן נקוב בש"ח וכולל מע"מ.
B79: מבקש הציוד מתבקש למלא תחילה את ה"שאלון למילוי מגיש הבקשה" במלואו.
B80: מבקש הציוד מתבקש למלא רק את התאים הממורקרים בצהוב בלבד.

Sheet שאלון למילוי מגיש הבקשה-חובה
B1: =פתיח!$B$3&": גירסת "&פתיח!$E$4 -> תקן ציוד כללי למרכזי יום טיפוליים ולמסגרות מזדקנים לאנשים עם מוגבלות: גירסת 2 בספטמבר 2026
B3: שאלון למילוי ע"י מגיש הבקשה:
B4: פרטי הגוף המבקש
C5: תאריך הגשת הבקשה: | H5: =IF(G5="","יש למלא","") -> יש למלא
C7: שם הגוף המבקש: | H7: =IF(G7="","יש למלא","") -> יש למלא
C9: כתובת הגוף המבקש: | H9: =IF(G9="","יש למלא","") -> יש למלא
C11: איש קשר בגוף המבקש: | H11: =IF(G11="","יש למלא","") -> יש למלא
C13: טלפון איש קשר בגוף המבקש: | H13: =IF(G13="","יש למלא","") -> יש למלא
C15: מייל איש קשר בגוף המבקש: | H15: =IF(G15="","יש למלא","") -> יש למלא
B17: פרטי המסגרת
C18: שם המסגרת: | H18: =IF(G18="","יש למלא","") -> יש למלא
C20: כתובת המסגרת: | H20: =IF(G20="","יש למלא","") -> יש למלא
C22: איש קשר במסגרת: | H22: =IF(G22="","יש למלא","") -> יש למלא
C24: טלפון איש קשר במסגרת: | H24: =IF(G24="","יש למלא","") -> יש למלא
C26: מייל איש קשר במסגרת: | H26: =IF(G26="","יש למלא","") -> יש למלא
B28: מאפייני המקום
C29: דירוג סוציואקונומי של הישוב (לבחור): | H29: =IF(G29="","יש לבחור מהרשימה","") -> יש לבחור מהרשימה
C31: קו עימות: | H31: =IF(G31="","יש לבחור מהרשימה","") -> יש לבחור מהרשימה
C33: מספר האנשים שעבורם מיועד הפרויקט: | H33: =IF(G33="","יש למלא","") -> יש למלא
C35: מספר חדרי פעילות: | H35: =IF(G35="","יש למלא","") -> יש למלא
B37: הערות והסברים למילוי הבקשה:
C38: נא למלא את השאלון לעיל לפני מעבר לכתב הכמויות
C39: הגוף המבקש מתבקש למלא פרטים רק בתאים המסומנים בצבע צהוב. אין לגעת בתאים אחרים.
C40: כל המחירים והעלויות להלן נקובים בש"ח וכוללים מע"מ.
C41: התקנת חלק מהציוד דורשת עבודות פיתוח, תשתיות ושיפוץ. במסגרת התקן לא ינתן מימון לעבודות הנ"ל
C42: נא להתייחס להערות בכל הגיליון לגבי הדרישות למשאבים, כ"א, תקנים, מתן פירוט והסברים
C43: המחירים כוללים הובלה והתקנה של הציוד

Sheet א-ציוד לחדרי קבוצות
B1: =פתיח!$B$3&": גירסת "&פתיח!$E$4 -> תקן ציוד כללי למרכזי יום טיפוליים ולמסגרות מזדקנים לאנשים עם מוגבלות: גירסת 2 בספטמבר 2026
B2: ='שאלון למילוי מגיש הבקשה-חובה'!$C$7 -> שם הגוף המבקש: | D2: ='שאלון למילוי מגיש הבקשה-חובה'!$G$7 -> 0
B3: ='שאלון למילוי מגיש הבקשה-חובה'!$C$18 -> שם המסגרת: | D3: ='שאלון למילוי מגיש הבקשה-חובה'!$G$18 -> 0
B4: ='שאלון למילוי מגיש הבקשה-חובה'!$C$33 -> מספר האנשים שעבורם מיועד הפרויקט: | D4: ='שאלון למילוי מגיש הבקשה-חובה'!$G$33 -> 0
B5: ='שאלון למילוי מגיש הבקשה-חובה'!$C$35 -> מספר חדרי פעילות: | D5: ='שאלון למילוי מגיש הבקשה-חובה'!$G$35 -> 0
B6: הנחיות והערות למילוי הבקשה בקטגוריה א'
B7: כמויות התקן משתנות בהתאם למספר האנשים במסגרת ומספר חדרי קבוצות.
B8: מבקש הציוד מתבקש למלא רק את התאים הממורקרים צהוב.
B9: כל המחירים והעלויות להלן נקובים בש"ח וכוללים מע"מ
A10: 1 | B10: קטגוריה א'- ציוד וריהוט לחדרי קבוצות
A11: 1.1 | B11: ציוד וריהוט חדרי קבוצות - תקן | G11: ציוד חדרי קבוצות - בקשה | L11: שלב 1 | N11: דוח הוצאות כספי מפורט - שלבים 2 ואילך
A12: מס' | B12: ציוד | C12: הערות | D12: כמות תקן | E12: מחיר התקן ליחידה כולל מע"מ | F12: עלות ציוד התקן כולל מע"מ | G12: כמות הציוד המבוקש | H12: סך עלות הציוד המבוקש כולל מע"מ | I12: התראת חריגה | J12: הערות/ הסבר חריגות | L12: צפי עלות רכישה כולל מע"מ | M12: שם הספק | N12: פירוט מהות ההוצאה - הציוד שנרכש / השרות שניתן | O12: מס' חשבונית מס / קבלה | P12: תאריך הוצאה | Q12: סכום הוצאה בש"ח וכולל מע"מ | R12: סכום חריגה מהתקציב - הפרש בין הסכום שנרכש בפועל לעלות שאושרה בהסכם | S12: שיעור ההפרש | T12: הערות לחריגה | U12: בדיקה והערות של היועץ מתאריך | V12: נבדק בשלב 2/3
A13: 1 | B13: כיסא | C13: לפי מספר מקבלי שירות והצוות הטיפולי | D13: =ROUNDUP('שאלון למילוי מגיש הבקשה-חובה'!$G$33*7/6,0) -> 0 | E13: 600 | F13: =D13*E13 -> 0 | H13: =E13*G13 -> 0 | I13: =IF(G13>D13,"נא להסביר חריגה","") | R13: =IF(Q13="",0,Q13-H13) -> 0 | S13: =IF(H13=0,0,R13/H13) -> 0
A14: 2 | B14: שולחן | C14: לפי 4 אנשים לשולחן כולל צוות טיפולי | D14: =ROUNDUP('שאלון למילוי מגיש הבקשה-חובה'!$G$33/4,0) -> 0 | E14: 3500 | F14: =D14*E14 -> 0 | H14: =E14*G14 -> 0 | I14: =IF(G14>D14,"נא להסביר חריגה","") | R14: =IF(Q14="",0,Q14-H14) -> 0 | S14: =IF(H14=0,0,R14/H14) -> 0
A15: 3 | B15: שולחן מחשב | C15: לפי מספר חדרים | D15: ='שאלון למילוי מגיש הבקשה-חובה'!$G$35 -> 0 | E15: 1200 | F15: =D15*E15 -> 0 | H15: =E15*G15 -> 0 | I15: =IF(G15>D15,"נא להסביר חריגה","") | R15: =IF(Q15="",0,Q15-H15) -> 0 | S15: =IF(H15=0,0,R15/H15) -> 0
A16: 4 | B16: כורסא | C16: לפי מספר חדרים | D16: ='שאלון למילוי מגיש הבקשה-חובה'!$G$35 -> 0 | E16: 3500 | F16: =D16*E16 -> 0 | H16: =E16*G16 -> 0 | I16: =IF(G16>D16,"נא להסביר חריגה","") | R16: =IF(Q16="",0,Q16-H16) -> 0 | S16: =IF(H16=0,0,R16/H16) -> 0
A17: 5 | B17: כורסת מנוחה חשמלית | C17: לפי מספר חדרים | D17: ='שאלון למילוי מגיש הבקשה-חובה'!$G$35 -> 0 | E17: 5000 | F17: =D17*E17 -> 0 | H17: =E17*G17 -> 0 | I17: =IF(G17>D17,"נא להסביר חריגה","") | R17: =IF(Q17="",0,Q17-H17) -> 0 | S17: =IF(H17=0,0,R17/H17) -> 0
A18: 6 | B18: ארון איחסון | C18: לפי 3 לחדר | D18: ='שאלון למילוי מגיש הבקשה-חובה'!$G$35*3 -> 0 | E18: 4500 | F18: =D18*E18 -> 0 | H18: =E18*G18 -> 0 | I18: =IF(G18>D18,"נא להסביר חריגה","") | R18: =IF(Q18="",0,Q18-H18) -> 0 | S18: =IF(H18=0,0,R18/H18) -> 0
A19: 7 | B19: מדפים | C19: לפי מספר חדרים | D19: ='שאלון למילוי מגיש הבקשה-חובה'!$G$35 -> 0 | E19: 1500 | F19: =D19*E19 -> 0 | H19: =E19*G19 -> 0 | I19: =IF(G19>D19,"נא להסביר חריגה","") | R19: =IF(Q19="",0,Q19-H19) -> 0 | S19: =IF(H19=0,0,R19/H19) -> 0
A20: 8 | B20: לוקרים | C20: כמות תאים לפי מס' אנשים בתוספת 10% | D20: =ROUNDUP('שאלון למילוי מגיש הבקשה-חובה'!$G$33*1.1,0) -> 0 | E20: 400 | F20: =D20*E20 -> 0 | H20: =E20*G20 -> 0 | I20: =IF(G20>D20,"נא להסביר חריגה","") | R20: =IF(Q20="",0,Q20-H20) -> 0 | S20: =IF(H20=0,0,R20/H20) -> 0
A21: 9 | B21: מראה | C21: לפי מספר חדרים | D21: ='שאלון למילוי מגיש הבקשה-חובה'!$G$35 -> 0 | E21: 400 | F21: =D21*E21 -> 0 | H21: =E21*G21 -> 0 | I21: =IF(G21>D21,"נא להסביר חריגה","") | R21: =IF(Q21="",0,Q21-H21) -> 0 | S21: =IF(H21=0,0,R21/H21) -> 0
A22: 10 | B22: שעון קיר | C22: לפי מספר חדרים | D22: ='שאלון למילוי מגיש הבקשה-חובה'!$G$35 -> 0 | E22: 200 | F22: =D22*E22 -> 0 | H22: =E22*G22 -> 0 | I22: =IF(G22>D22,"נא להסביר חריגה","") | R22: =IF(Q22="",0,Q22-H22) -> 0 | S22: =IF(H22=0,0,R22/H22) -> 0
A23: 11 | B23: וילונות חסיני אש | C23: לפי 6000 ש' לחדר פעילות ובתוספת 50% לחללים משותפים | D23: =ROUNDUP(1.5*'שאלון למילוי מגיש הבקשה-חובה'!$G$35,0) -> 0 | E23: 6000 | F23: =D23*E23 -> 0 | H23: =E23*G23 -> 0 | I23: =IF(G23>D23,"נא להסביר חריגה","") | R23: =IF(Q23="",0,Q23-H23) -> 0 | S23: =IF(H23=0,0,R23/H23) -> 0
A24: 12 | B24: שלוט פנימי | C24: לפי מספר חדרים בתוספת 30% לחללים משותפים | D24: =ROUNDUP(1.3*'שאלון למילוי מגיש הבקשה-חובה'!$G$35,0) -> 0 | E24: 300 | F24: =D24*E24 -> 0 | H24: =E24*G24 -> 0 | I24: =IF(G24>D24,"נא להסביר חריגה","") | R24: =IF(Q24="",0,Q24-H24) -> 0 | S24: =IF(H24=0,0,R24/H24) -> 0
B25: סך ציוד וריהוט לחדר קבוצה | F25: =SUM(F13:F24) -> 0 | H25: =SUM(H13:H24) -> 0 | L25: =SUM(L13:L24) -> 0 | Q25: =SUM(Q13:Q24) -> 0 | R25: =IF(Q25="",0,Q25-H25) -> 0 | S25: =IF(H25=0,0,R25/H25) -> 0
A27: 1.2 | B27: מחשבים וציוד מולטימדיה לחדרי קבוצות - תקן | G27: מחשבים וציוד מולטימדיה לחדרי קבוצות - בקשה | L27: שלב 1 | N27: דוח הוצאות כספי מפורט - שלבים 2 ואילך
A28: =A$12 -> מס' | B28: =B$12 -> ציוד | C28: הערות | D28: =D$12 -> כמות תקן | E28: =E$12 -> מחיר התקן ליחידה כולל מע"מ | F28: =F$12 -> עלות ציוד התקן כולל מע"מ | G28: =G$12 -> כמות הציוד המבוקש | H28: =H$12 -> סך עלות הציוד המבוקש כולל מע"מ | I28: =I$12 -> התראת חריגה | J28: =J$12 -> הערות/ הסבר חריגות | L28: צפי עלות רכישה כולל מע"מ | M28: שם הספק | N28: פירוט מהות ההוצאה - הציוד שנרכש / השרות שניתן | O28: מס' חשבונית מס / קבלה | P28: תאריך הוצאה | Q28: סכום הוצאה בש"ח וכולל מע"מ | R28: סכום חריגה מהתקציב - הפרש בין הסכום שנרכש בפועל לעלות שאושרה בהסכם | S28: שיעור ההפרש | T28: הערות לחריגה | U28: בדיקה והערות של היועץ מתאריך | V28: נבדק בשלב 2/3
A29: 1 | B29: מחשב קומפלט | C29: לפי מספר חדרים | D29: ='שאלון למילוי מגיש הבקשה-חובה'!$G$35 -> 0 | E29: 5000 | F29: =D29*E29 -> 0 | H29: =E29*G29 -> 0 | I29: =IF(G29>D29,"נא להסביר חריגה","") | R29: =IF(Q29="",0,Q29-H29) -> 0 | S29: =IF(H29=0,0,R29/H29) -> 0
A30: 2 | B30: מדפסת משולבת | C30: לפי מספר חדרים | D30: ='שאלון למילוי מגיש הבקשה-חובה'!$G$35 -> 0 | E30: 1500 | F30: =D30*E30 -> 0 | H30: =E30*G30 -> 0 | I30: =IF(G30>D30,"נא להסביר חריגה","") | R30: =IF(Q30="",0,Q30-H30) -> 0 | S30: =IF(H30=0,0,R30/H30) -> 0
A31: 3 | B31: טלוויזיה כולל מגן | C31: לפי מספר חדרים | D31: ='שאלון למילוי מגיש הבקשה-חובה'!$G$35 -> 0 | E31: 6000 | F31: =D31*E31 -> 0 | H31: =E31*G31 -> 0 | I31: =IF(G31>D31,"נא להסביר חריגה","") | R31: =IF(Q31="",0,Q31-H31) -> 0 | S31: =IF(H31=0,0,R31/H31) -> 0
B32: סך מחשבים וציוד מולטימדיה | F32: =SUM(F29:F31) -> 0 | H32: =SUM(H29:H31) -> 0 | I32: =IF(G32>D32,"נא להסביר חריגה כאן","") | L32: =SUM(L29:L31) -> 0 | Q32: =SUM(Q29:Q31) -> 0 | R32: =IF(Q32="",0,Q32-H32) -> 0 | S32: =IF(H32=0,0,R32/H32) -> 0
A34: 1.3 | B34: ציוד גן, חצר ומרפסות - תקן | G34: ציוד גן, חצר ומרפסות - בקשה | L34: שלב 1 | N34: דוח הוצאות כספי מפורט - שלבים 2 ואילך
A35: =A$12 -> מס' | B35: =B$12 -> ציוד | C35: הערות | D35: =D$12 -> כמות תקן | E35: =E$12 -> מחיר התקן ליחידה כולל מע"מ | F35: =F$12 -> עלות ציוד התקן כולל מע"מ | G35: =G$12 -> כמות הציוד המבוקש | H35: =H$12 -> סך עלות הציוד המבוקש כולל מע"מ | I35: =I$12 -> התראת חריגה | J35: =J$12 -> הערות/ הסבר חריגות | L35: צפי עלות רכישה כולל מע"מ | M35: שם הספק | N35: פירוט מהות ההוצאה - הציוד שנרכש / השרות שניתן | O35: מס' חשבונית מס / קבלה | P35: תאריך הוצאה | Q35: סכום הוצאה בש"ח וכולל מע"מ | R35: סכום חריגה מהתקציב - הפרש בין הסכום שנרכש בפועל לעלות שאושרה בהסכם | S35: שיעור ההפרש | T35: הערות לחריגה | U35: בדיקה והערות של היועץ מתאריך | V35: נבדק בשלב 2/3
A36: 1 | B36: שמשיה | C36: כולל בסיס בטון בגודל כ- 3*2=6 מ"ר | D36: ='שאלון למילוי מגיש הבקשה-חובה'!$G$35 -> 0 | E36: 6000 | F36: =D36*E36 -> 0 | H36: =E36*G36 -> 0 | I36: =IF(G36>D36,"נא להסביר חריגה","") | R36: =IF(Q36="",0,Q36-H36) -> 0 | S36: =IF(H36=0,0,R36/H36) -> 0
A37: 2 | B37: פינת ישיבה למרפסת | C37: לפי מספר חדרים | D37: ='שאלון למילוי מגיש הבקשה-חובה'!$G$35 -> 0 | E37: 5000 | F37: =D37*E37 -> 0 | H37: =E37*G37 -> 0 | I37: =IF(G37>D37,"נא להסביר חריגה","") | R37: =IF(Q37="",0,Q37-H37) -> 0 | S37: =IF(H37=0,0,R37/H37) -> 0
B38: סך ציוד גן, חצר ומרפסות | F38: =SUM(F36:F37) -> 0 | H38: =SUM(H36:H37) -> 0 | I38: =IF(G38>D38,"נא להסביר חריגה כאן","") | L38: =SUM(L36:L37) -> 0 | Q38: =SUM(Q36:Q37) -> 0 | R38: =IF(Q38="",0,Q38-H38) -> 0 | S38: =IF(H38=0,0,R38/H38) -> 0
A40: 1.4 | B40: ציוד סניטריה לחדרי שרותים - תקן | G40: ציוד סניטריה לחדרי שרותים - בקשה | L40: שלב 1 | N40: דוח הוצאות כספי מפורט - שלבים 2 ואילך
A41: =A$12 -> מס' | B41: =B$12 -> ציוד | C41: הערות | D41: =D$12 -> כמות תקן | E41: =E$12 -> מחיר התקן ליחידה כולל מע"מ | F41: =F$12 -> עלות ציוד התקן כולל מע"מ | G41: =G$12 -> כמות הציוד המבוקש | H41: =H$12 -> סך עלות הציוד המבוקש כולל מע"מ | I41: =I$12 -> התראת חריגה | J41: =J$12 -> הערות/ הסבר חריגות | L41: צפי עלות רכישה כולל מע"מ | M41: שם הספק | N41: פירוט מהות ההוצאה - הציוד שנרכש / השרות שניתן | O41: מס' חשבונית מס / קבלה | P41: תאריך הוצאה | Q41: סכום הוצאה בש"ח וכולל מע"מ | R41: סכום חריגה מהתקציב - הפרש בין הסכום שנרכש בפועל לעלות שאושרה בהסכם | S41: שיעור ההפרש | T41: הערות לחריגה | U41: בדיקה והערות של היועץ מתאריך | V41: נבדק בשלב 2/3
A42: 1 | B42: אביזרים לחדרי שירותים או רחצה | C42: לפי מס' חדרים בתוספת 30% לחללים משותפים | D42: =ROUNDUP(1.3*'שאלון למילוי מגיש הבקשה-חובה'!$G$35,0) -> 0 | E42: 1500 | F42: =D42*E42 -> 0 | H42: =E42*G42 -> 0 | I42: =IF(G42>D42,"נא להסביר חריגה","") | R42: =IF(Q42="",0,Q42-H42) -> 0 | S42: =IF(H42=0,0,R42/H42) -> 0
A44: סך | B44: =B10 -> קטגוריה א'- ציוד וריהוט לחדרי קבוצות
B45: =B44 -> קטגוריה א'- ציוד וריהוט לחדרי קבוצות | F45: =F$12 -> עלות ציוד התקן כולל מע"מ | H45: =H$12 -> סך עלות הציוד המבוקש כולל מע"מ | L45: =L$12 -> צפי עלות רכישה כולל מע"מ | Q45: סכום הוצאה בש"ח וכולל מע"מ | R45: סכום חריגה | S45: שיעור ההפרש
B46: סה"כ כולל מע"מ | F46: =F25+F32+F38+F42 -> 0 | H46: =H25+H32+H38+H42 -> 0 | L46: =L25+L32+L38+L42 -> 0 | Q46: =Q25+Q32+Q38+Q42 -> 0 | R46: =IF(Q46="",0,Q46-H46) -> 0 | S46: =IF(H46=0,0,R46/H46) -> 0

Sheet ב-ציוד כללי
B1: =פתיח!$B$3&": גירסת "&פתיח!$E$4 -> תקן ציוד כללי למרכזי יום טיפוליים ולמסגרות מזדקנים לאנשים עם מוגבלות: גירסת 2 בספטמבר 2026
B2: ='שאלון למילוי מגיש הבקשה-חובה'!$C$7 -> שם הגוף המבקש: | D2: ='שאלון למילוי מגיש הבקשה-חובה'!$G$7 -> 0
B3: ='שאלון למילוי מגיש הבקשה-חובה'!$C$18 -> שם המסגרת: | D3: ='שאלון למילוי מגיש הבקשה-חובה'!$G$18 -> 0
B4: ='שאלון למילוי מגיש הבקשה-חובה'!$C$33 -> מספר האנשים שעבורם מיועד הפרויקט: | D4: ='שאלון למילוי מגיש הבקשה-חובה'!$G$33 -> 0
B5: ='שאלון למילוי מגיש הבקשה-חובה'!$C$35 -> מספר חדרי פעילות: | D5: ='שאלון למילוי מגיש הבקשה-חובה'!$G$35 -> 0
B6: הנחיות והערות למילוי הבקשה בקטגוריה ב'
B7: ='א-ציוד לחדרי קבוצות'!B7 -> כמויות התקן משתנות בהתאם למספר האנשים במסגרת ומספר חדרי קבוצות.
B8: מבקש הציוד מתבקש למלא רק את התאים הממורקרים צהוב.
B9: ='א-ציוד לחדרי קבוצות'!B9 -> כל המחירים והעלויות להלן נקובים בש"ח וכוללים מע"מ
A10: 2 | B10: קטגוריה ב'- חללים משותפים וציוד נוסף
A11: 2.1 | B11: ריהוט וציוד חללים משותפים - תקן | G11: ריהוט וציוד חללים משותפים - בקשה | L11: שלב 1 | N11: דוח הוצאות כספי מפורט - שלבים 2 ואילך
A12: מס' | B12: ציוד | C12: הערות | D12: כמות | E12: מחיר ליחידה | F12: עלות הציוד | G12: כמות הציוד המבוקש | H12: סך עלות הציוד המבוקש | I12: התראת חריגה | J12: הערות/ הסבר חריגות | L12: צפי עלות רכישה כולל מע"מ | M12: שם הספק | N12: פירוט מהות ההוצאה - הציוד שנרכש / השרות שניתן | O12: מס' חשבונית מס / קבלה | P12: תאריך הוצאה | Q12: סכום הוצאה בש"ח וכולל מע"מ | R12: סכום חריגה מהתקציב - הפרש בין הסכום שנרכש בפועל לעלות שאושרה בהסכם | S12: שיעור ההפרש | T12: הערות לחריגה | U12: בדיקה והערות של היועץ מתאריך | V12: נבדק בשלב 2/3
A13: 1 | B13: פינת ישיבה | C13: פינת ישיבה ללובי לפי גודל המסגרת | D13: =IF('שאלון למילוי מגיש הבקשה-חובה'!$G$33<31,1,IF('שאלון למילוי מגיש הבקשה-חובה'!$G$33<61,2,3)) -> 1 | E13: 12000 | F13: =D13*E13 -> 12000 | H13: =E13*G13 -> 0 | I13: =IF(G13>D13,"נא להסביר חריגה","") | R13: =IF(Q13="",0,Q13-H13) -> 0 | S13: =IF(H13=0,0,R13/H13) -> 0
A14: 2 | B14: מדפים | C14: מדפים למחסן לפי גודל המסגרת | D14: ='שאלון למילוי מגיש הבקשה-חובה'!$G$35 -> 0 | E14: 1500 | F14: =D14*E14 -> 0 | H14: =E14*G14 -> 0 | I14: =IF(G14>D14,"נא להסביר חריגה","") | R14: =IF(Q14="",0,Q14-H14) -> 0 | S14: =IF(H14=0,0,R14/H14) -> 0
A15: 3 | B15: אביזרי עיצוב | C15: לפי גודל המסגרת | D15: 1 | E15: =IF('שאלון למילוי מגיש הבקשה-חובה'!$G$33<31,25000,IF('שאלון למילוי מגיש הבקשה-חובה'!$G$33<61,30000,40000)) -> 25000 | F15: =D15*E15 -> 25000 | H15: =E15*G15 -> 0 | I15: =IF(G15>D15,"נא להסביר חריגה","") | R15: =IF(Q15="",0,Q15-H15) -> 0 | S15: =IF(H15=0,0,R15/H15) -> 0
B16: סך ריהוט וציוד חללים משותפים | F16: =SUM(F13:F15) -> 37000 | H16: =SUM(H13:H15) -> 0 | L16: =SUM(L13:L15) -> 0 | Q16: =SUM(Q13:Q15) -> 0 | R16: =IF(Q16="",0,Q16-H16) -> 0 | S16: =IF(H16=0,0,R16/H16) -> 0
A18: 2.2 | B18: שירותי אדריכלות ועיצוב פנים - תקן | G18: שירותי אדריכלות ועיצוב פנים - בקשה | L18: שלב 1 | N18: דוח הוצאות כספי מפורט - שלבים 2 ואילך
A19: מס' | B19: ציוד | C19: הערות | D19: כמות | E19: מחיר ליחידה | F19: עלות הציוד | G19: כמות הציוד המבוקש | H19: סך עלות הציוד המבוקש | I19: התראת חריגה | J19: הערות/ הסבר חריגות | L19: צפי עלות רכישה כולל מע"מ | M19: שם הספק | N19: פירוט מהות ההוצאה - הציוד שנרכש / השרות שניתן | O19: מס' חשבונית מס / קבלה | P19: תאריך הוצאה | Q19: סכום הוצאה בש"ח וכולל מע"מ | R19: סכום חריגה מהתקציב - הפרש בין הסכום שנרכש בפועל לעלות שאושרה בהסכם | S19: שיעור ההפרש | T19: הערות לחריגה | U19: בדיקה והערות של היועץ מתאריך | V19: נבדק בשלב 2/3
A20: 1 | B20: שירותי עיצוב פנים | C20: לפי גודל המסגרת | D20: 1 | E20: =IF('שאלון למילוי מגיש הבקשה-חובה'!$G$33<31,25000,IF('שאלון למילוי מגיש הבקשה-חובה'!$G$33<61,50000,70000)) -> 25000 | F20: =D20*E20 -> 25000 | H20: =E20*G20 -> 0 | I20: =IF(G20>D20,"נא להסביר חריגה","") | R20: =IF(Q20="",0,Q20-H20) -> 0 | S20: =IF(H20=0,0,R20/H20) -> 0
A22: 2.3 | B22: ציוד מולטימדיה כללי - תקן | G22: ציוד מולטימדיה כללי - בקשה | L22: שלב 1 | N22: דוח הוצאות כספי מפורט - שלבים 2 ואילך
A23: מס' | B23: ציוד | C23: הערות | D23: כמות | E23: מחיר ליחידה | F23: עלות הציוד | G23: כמות הציוד המבוקש | H23: סך עלות הציוד המבוקש | I23: התראת חריגה | J23: הערות/ הסבר חריגות | L23: צפי עלות רכישה כולל מע"מ | M23: שם הספק | N23: פירוט מהות ההוצאה - הציוד שנרכש / השרות שניתן | O23: מס' חשבונית מס / קבלה | P23: תאריך הוצאה | Q23: סכום הוצאה בש"ח וכולל מע"מ | R23: סכום חריגה מהתקציב - הפרש בין הסכום שנרכש בפועל לעלות שאושרה בהסכם | S23: שיעור ההפרש | T23: הערות לחריגה | U23: בדיקה והערות של היועץ מתאריך | V23: נבדק בשלב 2/3
A24: 1 | B24: מערכת הקרנה ומסך חשמלי | C24: לפי גודל המסגרת | D24: 1 | E24: =IF('שאלון למילוי מגיש הבקשה-חובה'!$G$33<31,8000,IF('שאלון למילוי מגיש הבקשה-חובה'!$G$33<61,12000,15000)) -> 8000 | F24: =D24*E24 -> 8000 | H24: =E24*G24 -> 0 | I24: =IF(G24>D24,"נא להסביר חריגה","") | R24: =IF(Q24="",0,Q24-H24) -> 0 | S24: =IF(H24=0,0,R24/H24) -> 0
A25: 2 | B25: מחשב קומפלט | C25: לפי גודל המסגרת | D25: =IF('שאלון למילוי מגיש הבקשה-חובה'!$G$33<31,1,IF('שאלון למילוי מגיש הבקשה-חובה'!$G$33<61,2,3)) -> 1 | E25: 5000 | F25: =D25*E25 -> 5000 | H25: =E25*G25 -> 0 | I25: =IF(G25>D25,"נא להסביר חריגה","") | R25: =IF(Q25="",0,Q25-H25) -> 0 | S25: =IF(H25=0,0,R25/H25) -> 0
A26: 3 | B26: ציוד הגברה | C26: לפי גודל המסגרת | D26: 1 | E26: =IF('שאלון למילוי מגיש הבקשה-חובה'!$G$33<31,7000,IF('שאלון למילוי מגיש הבקשה-חובה'!$G$33<61,10000,15000)) -> 7000 | F26: =D26*E26 -> 7000 | H26: =E26*G26 -> 0 | I26: =IF(G26>D26,"נא להסביר חריגה","") | R26: =IF(Q26="",0,Q26-H26) -> 0 | S26: =IF(H26=0,0,R26/H26) -> 0
B27: סך ציוד מולטימדיה | F27: =SUM(F24:F26) -> 20000 | H27: =SUM(H24:H26) -> 0 | L27: =SUM(L24:L26) -> 0 | Q27: =SUM(Q24:Q26) -> 0 | R27: =IF(Q27="",0,Q27-H27) -> 0 | S27: =IF(H27=0,0,R27/H27) -> 0
A29: 2.4 | B29: ציוד אחזקת המתחם - תקן | G29: ציוד אחזקת המתחם - בקשה | L29: שלב 1 | N29: דוח הוצאות כספי מפורט - שלבים 2 ואילך
A30: מס' | B30: ציוד | C30: הערות | D30: כמות | E30: מחיר ליחידה | F30: עלות הציוד | G30: כמות הציוד המבוקש | H30: סך עלות הציוד המבוקש | I30: התראת חריגה | J30: הערות/ הסבר חריגות | L30: צפי עלות רכישה כולל מע"מ | M30: שם הספק | N30: פירוט מהות ההוצאה - הציוד שנרכש / השרות שניתן | O30: מס' חשבונית מס / קבלה | P30: תאריך הוצאה | Q30: סכום הוצאה בש"ח וכולל מע"מ | R30: סכום חריגה מהתקציב - הפרש בין הסכום שנרכש בפועל לעלות שאושרה בהסכם | S30: שיעור ההפרש | T30: הערות לחריגה | U30: בדיקה והערות של היועץ מתאריך | V30: נבדק בשלב 2/3
A31: 1 | B31: מכונת שטיפת רצפות | C31: לפי גודל המסגרת | D31: 1 | E31: =IF('שאלון למילוי מגיש הבקשה-חובה'!$G$33<31,18000,IF('שאלון למילוי מגיש הבקשה-חובה'!$G$33<61,22000,30000)) -> 18000 | F31: =D31*E31 -> 18000 | H31: =E31*G31 -> 0 | I31: =IF(G31>D31,"נא להסביר חריגה","") | R31: =IF(Q31="",0,Q31-H31) -> 0 | S31: =IF(H31=0,0,R31/H31) -> 0
A32: 2 | B32: שואב אבק תעשייתי | D32: 1 | E32: 5000 | F32: =D32*E32 -> 5000 | H32: =E32*G32 -> 0 | I32: =IF(G32>D32,"נא להסביר חריגה","") | R32: =IF(Q32="",0,Q32-H32) -> 0 | S32: =IF(H32=0,0,R32/H32) -> 0
A33: 3 | B33: מכונת כביסה | D33: 1 | E33: 5000 | F33: =D33*E33 -> 5000 | H33: =E33*G33 -> 0 | I33: =IF(G33>D33,"נא להסביר חריגה","") | R33: =IF(Q33="",0,Q33-H33) -> 0 | S33: =IF(H33=0,0,R33/H33) -> 0
A34: 4 | B34: מייבש כביסה | D34: 1 | E34: 5000 | F34: =D34*E34 -> 5000 | H34: =E34*G34 -> 0 | I34: =IF(G34>D34,"נא להסביר חריגה","") | R34: =IF(Q34="",0,Q34-H34) -> 0 | S34: =IF(H34=0,0,R34/H34) -> 0
A35: 5 | B35: סולם | C35: לפי גודל המסגרת | D35: =IF('שאלון למילוי מגיש הבקשה-חובה'!$G$33<31,1,IF('שאלון למילוי מגיש הבקשה-חובה'!$G$33<61,2,3)) -> 1 | E35: 1500 | F35: =D35*E35 -> 1500 | H35: =E35*G35 -> 0 | I35: =IF(G35>D35,"נא להסביר חריגה","") | R35: =IF(Q35="",0,Q35-H35) -> 0 | S35: =IF(H35=0,0,R35/H35) -> 0
A36: 6 | B36: ארגז כלי עבודה | C36: לפי גודל המסגרת | D36: 1 | E36: =IF('שאלון למילוי מגיש הבקשה-חובה'!$G$33<31,2500,4000) -> 2500 | F36: =D36*E36 -> 2500 | H36: =E36*G36 -> 0 | I36: =IF(G36>D36,"נא להסביר חריגה","") | R36: =IF(Q36="",0,Q36-H36) -> 0 | S36: =IF(H36=0,0,R36/H36) -> 0
A37: 7 | B37: סט כלים לתחזוקת גינה | C37: לפי גודל המסגרת | D37: 1 | E37: =IF('שאלון למילוי מגיש הבקשה-חובה'!$G$33<31,3000,6000) -> 3000 | F37: =D37*E37 -> 3000 | H37: =E37*G37 -> 0 | I37: =IF(G37>D37,"נא להסביר חריגה","") | R37: =IF(Q37="",0,Q37-H37) -> 0 | S37: =IF(H37=0,0,R37/H37) -> 0
B38: סך ציוד אחזקת המתחם | F38: =SUM(F31:F37) -> 40000 | H38: =SUM(H31:H37) -> 0 | L38: =SUM(L31:L37) -> 0 | Q38: =SUM(Q31:Q37) -> 0 | R38: =IF(Q38="",0,Q38-H38) -> 0 | S38: =IF(H38=0,0,R38/H38) -> 0
A40: 2.5 | B40: ציוד אבטחה ובטיחות - תקן | G40: ציוד אבטחה ובטיחות - בקשה | L40: שלב 1 | N40: דוח הוצאות כספי מפורט - שלבים 2 ואילך
A41: מס' | B41: ציוד | C41: הערות | D41: כמות | E41: מחיר ליחידה | F41: עלות הציוד | G41: כמות הציוד המבוקש | H41: סך עלות הציוד המבוקש | I41: התראת חריגה | J41: הערות/ הסבר חריגות | L41: צפי עלות רכישה כולל מע"מ | M41: שם הספק | N41: פירוט מהות ההוצאה - הציוד שנרכש / השרות שניתן | O41: מס' חשבונית מס / קבלה | P41: תאריך הוצאה | Q41: סכום הוצאה בש"ח וכולל מע"מ | R41: סכום חריגה מהתקציב - הפרש בין הסכום שנרכש בפועל לעלות שאושרה בהסכם | S41: שיעור ההפרש | T41: הערות לחריגה | U41: בדיקה והערות של היועץ מתאריך | V41: נבדק בשלב 2/3
A42: 1 | B42: מצלמות אבטחה | C42: מערכת קומפלט כולל ציוד ועבודה. התחשיב: הוצאות קבועות 10,000 ₪ + מספר כיתות כפול 1,500 ₪ כפול 3 לשטחים ציבוריים | D42: 1 | E42: =10000+'שאלון למילוי מגיש הבקשה-חובה'!$G$35*1500*3 -> 10000 | F42: =D42*E42 -> 10000 | H42: =E42*G42 -> 0 | I42: =IF(G42>D42,"נא להסביר חריגה","") | R42: =IF(Q42="",0,Q42-H42) -> 0 | S42: =IF(H42=0,0,R42/H42) -> 0
A43: 2 | B43: מערכת כריזת חירום | C43: מערכת הגברה לפי 5,000 ₪ + מיקרופון לפי 1,000 ₪ בכל חדר פעילות בתוספת 50% בחללים משותפים | D43: 1 | E43: =5000+'שאלון למילוי מגיש הבקשה-חובה'!$G$35*1000*1.5 -> 5000 | F43: =D43*E43 -> 5000 | H43: =E43*G43 -> 0 | I43: =IF(G43>D43,"נא להסביר חריגה","") | R43: =IF(Q43="",0,Q43-H43) -> 0 | S43: =IF(H43=0,0,R43/H43) -> 0
B44: סך ציוד אבטחה ובטיחות קבוע | F44: =SUM(F42:F43) -> 15000 | H44: =SUM(H42:H43) -> 0 | L44: =SUM(L42:L43) -> 0 | Q44: =SUM(Q42:Q43) -> 0 | R44: =IF(Q44="",0,Q44-H44) -> 0 | S44: =IF(H44=0,0,R44/H44) -> 0
A46: 2.6 | B46: ציוד עזרה ראשונה, ציוד מציל חיים וציוד חרום - תקן | G46: ציוד עזרה ראשונה, ציוד מציל חיים וציוד חרום - בקשה | L46: שלב 1 | N46: דוח הוצאות כספי מפורט - שלבים 2 ואילך
A47: מס' | B47: ציוד | C47: הערות | D47: כמות | E47: מחיר ליחידה | F47: עלות הציוד | G47: כמות הציוד המבוקש | H47: סך עלות הציוד המבוקש | I47: התראת חריגה | J47: הערות/ הסבר חריגות | L47: צפי עלות רכישה כולל מע"מ | M47: שם הספק | N47: פירוט מהות ההוצאה - הציוד שנרכש / השרות שניתן | O47: מס' חשבונית מס / קבלה | P47: תאריך הוצאה | Q47: סכום הוצאה בש"ח וכולל מע"מ | R47: סכום חריגה מהתקציב - הפרש בין הסכום שנרכש בפועל לעלות שאושרה בהסכם | S47: שיעור ההפרש | T47: הערות לחריגה | U47: בדיקה והערות של היועץ מתאריך | V47: נבדק בשלב 2/3
A48: 1 | B48: דיפיבריליאטור | D48: 1 | E48: 5000 | F48: =D48*E48 -> 5000 | H48: =E48*G48 -> 0 | I48: =IF(G48>D48,"נא להסביר חריגה","") | R48: =IF(Q48="",0,Q48-H48) -> 0 | S48: =IF(H48=0,0,R48/H48) -> 0
A49: 2 | B49: תיק עזרה ראשונה | C49: לפי גודל המסגרת | D49: =IF('שאלון למילוי מגיש הבקשה-חובה'!$G$33<31,1,IF('שאלון למילוי מגיש הבקשה-חובה'!$G$33<61,2,3)) -> 1 | E49: 700 | F49: =D49*E49 -> 700 | H49: =E49*G49 -> 0 | I49: =IF(G49>D49,"נא להסביר חריגה","") | R49: =IF(Q49="",0,Q49-H49) -> 0 | S49: =IF(H49=0,0,R49/H49) -> 0
A50: 3 | B50: ארון תרופות | C50: לפי גודל המסגרת | D50: =IF('שאלון למילוי מגיש הבקשה-חובה'!$G$33<31,1,IF('שאלון למילוי מגיש הבקשה-חובה'!$G$33<61,2,3)) -> 1 | E50: 1300 | F50: =D50*E50 -> 1300 | H50: =E50*G50 -> 0 | I50: =IF(G50>D50,"נא להסביר חריגה","") | R50: =IF(Q50="",0,Q50-H50) -> 0 | S50: =IF(H50=0,0,R50/H50) -> 0
B51: סך ציוד עזרה ראשונה, מציל חיים וציוד חרום | F51: =SUM(F48:F50) -> 7000 | H51: =SUM(H48:H50) -> 0 | L51: =SUM(L48:L50) -> 0 | Q51: =SUM(Q48:Q50) -> 0 | R51: =IF(Q51="",0,Q51-H51) -> 0 | S51: =IF(H51=0,0,R51/H51) -> 0
A53: סך | B53: =B10 -> קטגוריה ב'- חללים משותפים וציוד נוסף
B54: =B10 -> קטגוריה ב'- חללים משותפים וציוד נוסף | F54: עלות ציוד התקן | H54: עלות הציוד המבוקש | L54: =L12 -> צפי עלות רכישה כולל מע"מ | Q54: סכום הוצאה בש"ח וכולל מע"מ | R54: סכום חריגה | S54: שיעור ההפרש
B55: ='א-ציוד לחדרי קבוצות'!B46 -> סה"כ כולל מע"מ | F55: =F16+F20+F27+F38+F44+F51 -> 144000 | H55: =H16+H20+H27+H38+H44+H51 -> 0 | L55: =L16+L20+L27+L38+L44+L51 -> 0 | Q55: =Q16+Q20+Q27+Q38+Q44+Q51 -> 0 | R55: =R16+R20+R27+R38+R44+R51 -> 0 | S55: =IF(H55=0,0,R55/H55) -> 0

Sheet ג-מטבח וחדר אוכל
B1: =פתיח!$B$3&": גירסת "&פתיח!$E$4 -> תקן ציוד כללי למרכזי יום טיפוליים ולמסגרות מזדקנים לאנשים עם מוגבלות: גירסת 2 בספטמבר 2026
B2: ='שאלון למילוי מגיש הבקשה-חובה'!$C$7 -> שם הגוף המבקש: | D2: ='שאלון למילוי מגיש הבקשה-חובה'!$G$7 -> 0
B3: ='שאלון למילוי מגיש הבקשה-חובה'!$C$18 -> שם המסגרת: | D3: ='שאלון למילוי מגיש הבקשה-חובה'!$G$18 -> 0
B4: ='שאלון למילוי מגיש הבקשה-חובה'!$C$33 -> מספר האנשים שעבורם מיועד הפרויקט: | D4: ='שאלון למילוי מגיש הבקשה-חובה'!$G$33 -> 0
B5: ='שאלון למילוי מגיש הבקשה-חובה'!$C$35 -> מספר חדרי פעילות: | D5: ='שאלון למילוי מגיש הבקשה-חובה'!$G$35 -> 0
B6: הנחיות והערות למילוי הבקשה בקטגוריה ג'
B7: ='א-ציוד לחדרי קבוצות'!B7 -> כמויות התקן משתנות בהתאם למספר האנשים במסגרת ומספר חדרי קבוצות.
B8: מבקש הציוד מתבקש למלא רק את התאים הממורקרים צהוב.
B9: ='א-ציוד לחדרי קבוצות'!B9 -> כל המחירים והעלויות להלן נקובים בש"ח וכוללים מע"מ
B10: בקטגוריה זו עליך למלא בקשה לציוד למטבח מחמם או בקשה לציוד למטבח מבשל, בהתאם לאישורים ואופן הפעלת המטבח במסגרת + ציוד וריהוט לחדר האוכל.
A11: 3 | B11: קטגוריה ג' - ציוד מטבח וחדר אוכל | D11: נא לבחור ציוד מטבח מסוג אחד בלבד: מחמם או מבשל
A12: 3.1 | B12: ציוד מטבח מחמם - תקן | G12: ציוד מטבח מחמם - בקשה | L12: שלב 1 | N12: דוח הוצאות כספי מפורט - שלבים 2 ואילך
A13: מס' | B13: ציוד: במידה והמטבח אינו בחלל נפרד, ניתן לבקש ציוד רק בהיקף של מחצית מהעלות לעיל (בהתאם לגודל המסגרת) | C13: הערות | D13: כמות תקן | E13: מחיר התקן ליחידה כולל מע"מ | F13: עלות ציוד התקן כולל מע"מ | G13: כמות הציוד המבוקש | H13: סך עלות הציוד המבוקש כולל מע"מ | I13: התראת חריגה | J13: הערות/ הסבר חריגות | L13: צפי עלות רכישה כולל מע"מ | M13: שם הספק | N13: פירוט מהות ההוצאה - הציוד שנרכש / השרות שניתן | O13: מס' חשבונית מס / קבלה | P13: תאריך הוצאה | Q13: סכום הוצאה בש"ח וכולל מע"מ | R13: סכום חריגה מהתקציב - הפרש בין הסכום שנרכש בפועל לעלות שאושרה בהסכם | S13: שיעור ההפרש | T13: הערות לחריגה | U13: בדיקה והערות של היועץ מתאריך | V13: נבדק בשלב 2/3
A14: 1 | B14: כיריים חשמליות 4 להבות | C14: לפי גודל המסגרת | D14: 1 | E14: =IF('שאלון למילוי מגיש הבקשה-חובה'!$G$33<31,6000,IF('שאלון למילוי מגיש הבקשה-חובה'!$G$33<61,8000,15000)) -> 6000 | F14: =D14*E14 -> 6000 | H14: =E14*G14 -> 0 | I14: =IF(G14>D14,"נא להסביר חריגה","") | R14: =IF(Q14="",0,Q14-H14) -> 0 | S14: =IF(H14=0,0,R14/H14) -> 0
A15: 2 | B15: תנור אפיה וחימום | C15: לפי גודל המסגרת | D15: 1 | E15: =IF('שאלון למילוי מגיש הבקשה-חובה'!$G$33<31,6000,IF('שאלון למילוי מגיש הבקשה-חובה'!$G$33<61,8000,15000)) -> 6000 | F15: =D15*E15 -> 6000 | H15: =E15*G15 -> 0 | I15: =IF(G15>D15,"נא להסביר חריגה","") | R15: =IF(Q15="",0,Q15-H15) -> 0 | S15: =IF(H15=0,0,R15/H15) -> 0
A16: 3 | B16: קומביסטימר | C16: לפי גודל המסגרת | D16: 1 | E16: =IF('שאלון למילוי מגיש הבקשה-חובה'!$G$33<31,20000,IF('שאלון למילוי מגיש הבקשה-חובה'!$G$33<61,30000,40000)) -> 20000 | F16: =D16*E16 -> 20000 | H16: =E16*G16 -> 0 | I16: =IF(G16>D16,"נא להסביר חריגה","") | R16: =IF(Q16="",0,Q16-H16) -> 0 | S16: =IF(H16=0,0,R16/H16) -> 0
A17: 4 | B17: מנדף | C17: לפי גודל המסגרת | D17: 1 | E17: =IF('שאלון למילוי מגיש הבקשה-חובה'!$G$33<31,12000,IF('שאלון למילוי מגיש הבקשה-חובה'!$G$33<61,18000,24000)) -> 12000 | F17: =D17*E17 -> 12000 | H17: =E17*G17 -> 0 | I17: =IF(G17>D17,"נא להסביר חריגה","") | R17: =IF(Q17="",0,Q17-H17) -> 0 | S17: =IF(H17=0,0,R17/H17) -> 0
A18: 5 | B18: מקרר תעשייתי | C18: לפי גודל המסגרת | D18: 1 | E18: =IF('שאלון למילוי מגיש הבקשה-חובה'!$G$33<31,12000,IF('שאלון למילוי מגיש הבקשה-חובה'!$G$33<61,15000,25000)) -> 12000 | F18: =D18*E18 -> 12000 | H18: =E18*G18 -> 0 | I18: =IF(G18>D18,"נא להסביר חריגה","") | R18: =IF(Q18="",0,Q18-H18) -> 0 | S18: =IF(H18=0,0,R18/H18) -> 0
A19: 6 | B19: מקפיא | D19: 1 | E19: 5000 | F19: =D19*E19 -> 5000 | H19: =E19*G19 -> 0 | I19: =IF(G19>D19,"נא להסביר חריגה","") | R19: =IF(Q19="",0,Q19-H19) -> 0 | S19: =IF(H19=0,0,R19/H19) -> 0
A20: 7 | B20: מדיח כלים תעשייתי | C20: לפי גודל המסגרת | D20: 1 | E20: =IF('שאלון למילוי מגיש הבקשה-חובה'!$G$33<31,15000,IF('שאלון למילוי מגיש הבקשה-חובה'!$G$33<61,20000,30000)) -> 15000 | F20: =D20*E20 -> 15000 | H20: =E20*G20 -> 0 | I20: =IF(G20>D20,"נא להסביר חריגה","") | R20: =IF(Q20="",0,Q20-H20) -> 0 | S20: =IF(H20=0,0,R20/H20) -> 0
A21: 8 | B21: מרכך מים | D21: 1 | E21: 6000 | F21: =D21*E21 -> 6000 | H21: =E21*G21 -> 0 | I21: =IF(G21>D21,"נא להסביר חריגה","") | R21: =IF(Q21="",0,Q21-H21) -> 0 | S21: =IF(H21=0,0,R21/H21) -> 0
A22: 9 | B22: מעבד מזון מקצועי | D22: 1 | E22: 4000 | F22: =D22*E22 -> 4000 | H22: =E22*G22 -> 0 | I22: =IF(G22>D22,"נא להסביר חריגה","") | R22: =IF(Q22="",0,Q22-H22) -> 0 | S22: =IF(H22=0,0,R22/H22) -> 0
A23: 10 | B23: משטחי עבודה למטבח | D23: 4 | E23: 2000 | F23: =D23*E23 -> 8000 | H23: =E23*G23 -> 0 | I23: =IF(G23>D23,"נא להסביר חריגה","") | R23: =IF(Q23="",0,Q23-H23) -> 0 | S23: =IF(H23=0,0,R23/H23) -> 0
A24: 11 | B24: מקסר מקצועי | C24: לפי גודל המסגרת | D24: 1 | E24: =IF('שאלון למילוי מגיש הבקשה-חובה'!$G$33<31,6000,IF('שאלון למילוי מגיש הבקשה-חובה'!$G$33<61,9000,12000)) -> 6000 | F24: =D24*E24 -> 6000 | H24: =E24*G24 -> 0 | I24: =IF(G24>D24,"נא להסביר חריגה","") | R24: =IF(Q24="",0,Q24-H24) -> 0 | S24: =IF(H24=0,0,R24/H24) -> 0
A25: 12 | B25: מיקרוגל | D25: 1 | E25: 3000 | F25: =D25*E25 -> 3000 | H25: =E25*G25 -> 0 | I25: =IF(G25>D25,"נא להסביר חריגה","") | R25: =IF(Q25="",0,Q25-H25) -> 0 | S25: =IF(H25=0,0,R25/H25) -> 0
A26: 13 | B26: מתקן/ בר מים | C26: לפי גודל המסגרת | D26: =IF('שאלון למילוי מגיש הבקשה-חובה'!$G$33<31,1,IF('שאלון למילוי מגיש הבקשה-חובה'!$G$33<61,2,3)) -> 1 | E26: 4000 | F26: =D26*E26 -> 4000 | H26: =E26*G26 -> 0 | I26: =IF(G26>D26,"נא להסביר חריגה","") | R26: =IF(Q26="",0,Q26-H26) -> 0 | S26: =IF(H26=0,0,R26/H26) -> 0
A27: 14 | B27: עגלת הגשה | C27: לפי גודל המסגרת | D27: =IF('שאלון למילוי מגיש הבקשה-חובה'!$G$33<31,1,IF('שאלון למילוי מגיש הבקשה-חובה'!$G$33<61,2,3)) -> 1 | E27: 1500 | F27: =D27*E27 -> 1500 | H27: =E27*G27 -> 0 | I27: =IF(G27>D27,"נא להסביר חריגה","") | R27: =IF(Q27="",0,Q27-H27) -> 0 | S27: =IF(H27=0,0,R27/H27) -> 0
A28: 15 | B28: מיחם מוסדי אוטומטי | D28: 1 | E28: 3500 | F28: =D28*E28 -> 3500 | H28: =E28*G28 -> 0 | I28: =IF(G28>D28,"נא להסביר חריגה","") | R28: =IF(Q28="",0,Q28-H28) -> 0 | S28: =IF(H28=0,0,R28/H28) -> 0
A29: 16 | B29: עגלת חימום/ קרור | C29: לפי גודל המסגרת | D29: =IF('שאלון למילוי מגיש הבקשה-חובה'!$G$33<31,1,IF('שאלון למילוי מגיש הבקשה-חובה'!$G$33<61,2,3)) -> 1 | E29: 20000 | F29: =D29*E29 -> 20000 | H29: =E29*G29 -> 0 | I29: =IF(G29>D29,"נא להסביר חריגה","") | R29: =IF(Q29="",0,Q29-H29) -> 0 | S29: =IF(H29=0,0,R29/H29) -> 0
A30: 17 | B30: כלי מטבח | C30: לפי 500 ₪ לאדם כולל צוות טיפולי בתוספת 20% | D30: =ROUNDUP('שאלון למילוי מגיש הבקשה-חובה'!$G$33*7/6*1.2,0) -> 0 | E30: 500 | F30: =D30*E30 -> 0 | H30: =E30*G30 -> 0 | I30: =IF(G30>D30,"נא להסביר חריגה","") | R30: =IF(Q30="",0,Q30-H30) -> 0 | S30: =IF(H30=0,0,R30/H30) -> 0
A31: 18 | B31: ארון אחסון | C31: לפי גודל המסגרת | D31: 2 | E31: 4500 | F31: =D31*E31 -> 9000 | H31: =E31*G31 -> 0 | I31: =IF(G31>D31,"נא להסביר חריגה","") | R31: =IF(Q31="",0,Q31-H31) -> 0 | S31: =IF(H31=0,0,R31/H31) -> 0
B32: סך ציוד מטבח מחמם | F32: =SUM(F14:F31) -> 141000 | H32: =SUM(H14:H31) -> 0 | L32: =SUM(L14:L31) -> 0 | Q32: =SUM(Q14:Q31) -> 0 | R32: =IF(Q32="",0,Q32-H32) -> 0 | S32: =IF(H32=0,0,R32/H32) -> 0
D34: נא לבחור ציוד מטבח מסוג אחד בלבד: מחמם או מבשל
A35: 3.2 | B35: ציוד מטבח מבשל - תקן | G35: ציוד מטבח מבשל - בקשה | L35: שלב 1 | N35: דוח הוצאות כספי מפורט - שלבים 2 ואילך
A36: מס' | B36: ציוד | C36: הערות | D36: כמות תקן | E36: מחיר התקן ליחידה כולל מע"מ | F36: עלות ציוד התקן כולל מע"מ | G36: כמות הציוד המבוקש | H36: סך עלות הציוד המבוקש כולל מע"מ | I36: התראת חריגה | J36: הערות/ הסבר חריגות | L36: צפי עלות רכישה כולל מע"מ | M36: שם הספק | N36: פירוט מהות ההוצאה - הציוד שנרכש / השרות שניתן | O36: מס' חשבונית מס / קבלה | P36: תאריך הוצאה | Q36: סכום הוצאה בש"ח וכולל מע"מ | R36: סכום חריגה מהתקציב - הפרש בין הסכום שנרכש בפועל לעלות שאושרה בהסכם | S36: שיעור ההפרש | T36: הערות לחריגה | U36: בדיקה והערות של היועץ מתאריך | V36: נבדק בשלב 2/3
A37: 1 | B37: מקרר תעשייתי | D37: 4 | E37: 15000 | F37: =D37*E37 -> 60000 | H37: =E37*G37 -> 0 | I37: =IF(G37>D37,"נא להסביר חריגה","") | R37: =IF(Q37="",0,Q37-H37) -> 0 | S37: =IF(H37=0,0,R37/H37) -> 0
A38: 2 | B38: מקפיא תעשייתי | D38: 2 | E38: 12000 | F38: =D38*E38 -> 24000 | H38: =E38*G38 -> 0 | I38: =IF(G38>D38,"נא להסביר חריגה","") | R38: =IF(Q38="",0,Q38-H38) -> 0 | S38: =IF(H38=0,0,R38/H38) -> 0
A39: 3 | B39: שולחן כניסה ויציאה למדיח כלים | D39: 1 | E39: 10000 | F39: =D39*E39 -> 10000 | H39: =E39*G39 -> 0 | I39: =IF(G39>D39,"נא להסביר חריגה","") | R39: =IF(Q39="",0,Q39-H39) -> 0 | S39: =IF(H39=0,0,R39/H39) -> 0
A40: 4 | B40: מדיח כלים תעשייתי | C40: לפי גודל המסגרת | D40: 1 | E40: =IF('שאלון למילוי מגיש הבקשה-חובה'!$G$33<31,15000,IF('שאלון למילוי מגיש הבקשה-חובה'!$G$33<61,20000,30000)) -> 15000 | F40: =D40*E40 -> 15000 | H40: =E40*G40 -> 0 | I40: =IF(G40>D40,"נא להסביר חריגה","") | R40: =IF(Q40="",0,Q40-H40) -> 0 | S40: =IF(H40=0,0,R40/H40) -> 0
A41: 5 | B41: מרכך מים | D41: 1 | E41: 6000 | F41: =D41*E41 -> 6000 | H41: =E41*G41 -> 0 | I41: =IF(G41>D41,"נא להסביר חריגה","") | R41: =IF(Q41="",0,Q41-H41) -> 0 | S41: =IF(H41=0,0,R41/H41) -> 0
A42: 6 | B42: כיריים חשמליות / גז 6 להבות | D42: 1 | E42: =IF('שאלון למילוי מגיש הבקשה-חובה'!$G$33<31,8000,IF('שאלון למילוי מגיש הבקשה-חובה'!$G$33<61,15000,25000)) -> 8000 | F42: =D42*E42 -> 8000 | H42: =E42*G42 -> 0 | I42: =IF(G42>D42,"נא להסביר חריגה","") | R42: =IF(Q42="",0,Q42-H42) -> 0 | S42: =IF(H42=0,0,R42/H42) -> 0
A43: 7 | B43: קומביסטימר | C43: לפי גודל המסגרת | D43: 1 | E43: =IF('שאלון למילוי מגיש הבקשה-חובה'!$G$33<31,20000,IF('שאלון למילוי מגיש הבקשה-חובה'!$G$33<61,30000,40000)) -> 20000 | F43: =D43*E43 -> 20000 | H43: =E43*G43 -> 0 | I43: =IF(G43>D43,"נא להסביר חריגה","") | R43: =IF(Q43="",0,Q43-H43) -> 0 | S43: =IF(H43=0,0,R43/H43) -> 0
A44: 8 | B44: מנדף | C44: לפי גודל המסגרת | D44: 1 | E44: =IF('שאלון למילוי מגיש הבקשה-חובה'!$G$33<31,12000,IF('שאלון למילוי מגיש הבקשה-חובה'!$G$33<61,18000,24000)) -> 12000 | F44: =D44*E44 -> 12000 | H44: =E44*G44 -> 0 | I44: =IF(G44>D44,"נא להסביר חריגה","") | R44: =IF(Q44="",0,Q44-H44) -> 0 | S44: =IF(H44=0,0,R44/H44) -> 0
A45: 9 | B45: מקסר מקצועי | C45: לפי גודל המסגרת | D45: 1 | E45: =IF('שאלון למילוי מגיש הבקשה-חובה'!$G$33<31,6000,IF('שאלון למילוי מגיש הבקשה-חובה'!$G$33<61,9000,12000)) -> 6000 | F45: =D45*E45 -> 6000 | H45: =E45*G45 -> 0 | I45: =IF(G45>D45,"נא להסביר חריגה","") | R45: =IF(Q45="",0,Q45-H45) -> 0 | S45: =IF(H45=0,0,R45/H45) -> 0
A46: 10 | B46: קוצץ ירקות שולחני | D46: 1 | E46: 8000 | F46: =D46*E46 -> 8000 | H46: =E46*G46 -> 0 | I46: =IF(G46>D46,"נא להסביר חריגה","") | R46: =IF(Q46="",0,Q46-H46) -> 0 | S46: =IF(H46=0,0,R46/H46) -> 0
A47: 11 | B47: מעבד מזון תעשייתי | D47: 1 | E47: 10000 | F47: =D47*E47 -> 10000 | H47: =E47*G47 -> 0 | I47: =IF(G47>D47,"נא להסביר חריגה","") | R47: =IF(Q47="",0,Q47-H47) -> 0 | S47: =IF(H47=0,0,R47/H47) -> 0
A48: 12 | B48: משטחי עבודה למטבח | D48: 4 | E48: 2000 | F48: =D48*E48 -> 8000 | H48: =E48*G48 -> 0 | I48: =IF(G48>D48,"נא להסביר חריגה","") | R48: =IF(Q48="",0,Q48-H48) -> 0 | S48: =IF(H48=0,0,R48/H48) -> 0
A49: 13 | B49: שולחן נירוסטה לעבודה במטבח | D49: 3 | E49: 3500 | F49: =D49*E49 -> 10500 | H49: =E49*G49 -> 0 | I49: =IF(G49>D49,"נא להסביר חריגה","") | R49: =IF(Q49="",0,Q49-H49) -> 0 | S49: =IF(H49=0,0,R49/H49) -> 0
A50: 14 | B50: מיקרוגל | D50: 1 | E50: 3000 | F50: =D50*E50 -> 3000 | H50: =E50*G50 -> 0 | I50: =IF(G50>D50,"נא להסביר חריגה","") | R50: =IF(Q50="",0,Q50-H50) -> 0 | S50: =IF(H50=0,0,R50/H50) -> 0
A51: 15 | B51: מחבת מתהפך 50 ליטר | D51: 1 | E51: 35000 | F51: =D51*E51 -> 35000 | H51: =E51*G51 -> 0 | I51: =IF(G51>D51,"נא להסביר חריגה","") | R51: =IF(Q51="",0,Q51-H51) -> 0 | S51: =IF(H51=0,0,R51/H51) -> 0
A52: 16 | B52: ארון חימום תחתון/ מעמד לתנור | D52: 1 | E52: 12000 | F52: =D52*E52 -> 12000 | H52: =E52*G52 -> 0 | I52: =IF(G52>D52,"נא להסביר חריגה","") | R52: =IF(Q52="",0,Q52-H52) -> 0 | S52: =IF(H52=0,0,R52/H52) -> 0
A53: 17 | B53: סוללה עם מתז עליון על שולחן | D53: 2 | E53: 3500 | F53: =D53*E53 -> 7000 | H53: =E53*G53 -> 0 | I53: =IF(G53>D53,"נא להסביר חריגה","") | R53: =IF(Q53="",0,Q53-H53) -> 0 | S53: =IF(H53=0,0,R53/H53) -> 0
A54: 18 | B54: ברז שולחני עם פיה מסתובבת לכיור עבודה | D54: 4 | E54: 2500 | F54: =D54*E54 -> 10000 | H54: =E54*G54 -> 0 | I54: =IF(G54>D54,"נא להסביר חריגה","") | R54: =IF(Q54="",0,Q54-H54) -> 0 | S54: =IF(H54=0,0,R54/H54) -> 0
A55: 19 | B55: מדף עליון כפול | D55: 4 | E55: 2000 | F55: =D55*E55 -> 8000 | H55: =E55*G55 -> 0 | I55: =IF(G55>D55,"נא להסביר חריגה","") | R55: =IF(Q55="",0,Q55-H55) -> 0 | S55: =IF(H55=0,0,R55/H55) -> 0
A56: 20 | B56: מתלה ייבוש לצלחות עם מדף לספלים | D56: 2 | E56: 1500 | F56: =D56*E56 -> 3000 | H56: =E56*G56 -> 0 | I56: =IF(G56>D56,"נא להסביר חריגה","") | R56: =IF(Q56="",0,Q56-H56) -> 0 | S56: =IF(H56=0,0,R56/H56) -> 0
A57: 21 | B57: עגלת הגשה | C57: לפי גודל המסגרת | D57: =IF('שאלון למילוי מגיש הבקשה-חובה'!$G$33<31,1,IF('שאלון למילוי מגיש הבקשה-חובה'!$G$33<61,2,3)) -> 1 | E57: 1500 | F57: =D57*E57 -> 1500 | H57: =E57*G57 -> 0 | I57: =IF(G57>D57,"נא להסביר חריגה","") | R57: =IF(Q57="",0,Q57-H57) -> 0 | S57: =IF(H57=0,0,R57/H57) -> 0
A58: 22 | B58: עגלה עם מיכל אשפה | D58: 3 | E58: 500 | F58: =D58*E58 -> 1500 | H58: =E58*G58 -> 0 | I58: =IF(G58>D58,"נא להסביר חריגה","") | R58: =IF(Q58="",0,Q58-H58) -> 0 | S58: =IF(H58=0,0,R58/H58) -> 0
A59: 23 | B59: עגלת חימום / קרור | C59: לפי גודל המסגרת | D59: =IF('שאלון למילוי מגיש הבקשה-חובה'!$G$33<31,1,IF('שאלון למילוי מגיש הבקשה-חובה'!$G$33<61,2,3)) -> 1 | E59: 20000 | F59: =D59*E59 -> 20000 | H59: =E59*G59 -> 0 | I59: =IF(G59>D59,"נא להסביר חריגה","") | R59: =IF(Q59="",0,Q59-H59) -> 0 | S59: =IF(H59=0,0,R59/H59) -> 0
A60: 24 | B60: מיחם מוסדי אוטומטי | D60: 2 | E60: 3500 | F60: =D60*E60 -> 7000 | H60: =E60*G60 -> 0 | I60: =IF(G60>D60,"נא להסביר חריגה","") | R60: =IF(Q60="",0,Q60-H60) -> 0 | S60: =IF(H60=0,0,R60/H60) -> 0
A61: 25 | B61: כלי מטבח | C61: לפי 500 ₪ לאדם כולל צוות טיפולי בתוספת 20% | D61: =ROUNDUP('שאלון למילוי מגיש הבקשה-חובה'!$G$33*7/6*1.2,0) -> 0 | E61: 500 | F61: =D61*E61 -> 0 | H61: =E61*G61 -> 0 | I61: =IF(G61>D61,"נא להסביר חריגה","") | R61: =IF(Q61="",0,Q61-H61) -> 0 | S61: =IF(H61=0,0,R61/H61) -> 0
A62: 26 | B62: ארון אחסון | C62: לפי גודל המסגרת | D62: 2 | E62: 4500 | F62: =D62*E62 -> 9000 | H62: =E62*G62 -> 0 | I62: =IF(G62>D62,"נא להסביר חריגה","") | R62: =IF(Q62="",0,Q62-H62) -> 0 | S62: =IF(H62=0,0,R62/H62) -> 0
B63: סה"כ ציוד מטבח מבשל - כולל מע"מ | F63: =SUM(F37:F62) -> 314500 | H63: =SUM(H37:H62) -> 0 | L63: =SUM(L37:L62) -> 0 | Q63: =SUM(Q37:Q62) -> 0 | R63: =IF(Q63="",0,Q63-H63) -> 0 | S63: =IF(H63=0,0,R63/H63) -> 0
A65: 3.3 | B65: ציוד וריהוט חדר אוכל - תקן | G65: ציוד וריהוט חדר אוכל - בקשה | L65: שלב 1 | N65: דוח הוצאות כספי מפורט - שלבים 2 ואילך
A66: מס' | B66: ציוד | D66: כמות תקן | E66: מחיר התקן ליחידה כולל מע"מ | F66: עלות ציוד התקן כולל מע"מ | G66: כמות הציוד המבוקש | H66: סך עלות הציוד המבוקש כולל מע"מ | I66: התראת חריגה | J66: הערות/ הסבר חריגות | L66: צפי עלות רכישה כולל מע"מ | M66: שם הספק | N66: פירוט מהות ההוצאה - הציוד שנרכש / השרות שניתן | O66: מס' חשבונית מס / קבלה | P66: תאריך הוצאה | Q66: סכום הוצאה בש"ח וכולל מע"מ | R66: סכום חריגה מהתקציב - הפרש בין הסכום שנרכש בפועל לעלות שאושרה בהסכם | S66: שיעור ההפרש | T66: הערות לחריגה | U66: בדיקה והערות של היועץ מתאריך | V66: נבדק בשלב 2/3
A67: 1 | B67: כסא | C67: לפי מספר מקבלי שירות כולל צוות טיפולי | D67: =ROUNDUP('שאלון למילוי מגיש הבקשה-חובה'!$G$33*7/6,0) -> 0 | E67: 600 | F67: =D67*E67 -> 0 | H67: =E67*G67 -> 0 | I67: =IF(G67>D67,"נא להסביר חריגה","") | R67: =IF(Q67="",0,Q67-H67) -> 0 | S67: =IF(H67=0,0,R67/H67) -> 0
A68: 2 | B68: שולחן | C68: לפי 4 אנשים לשולחן כולל צוות טיפולי | D68: =ROUNDUP('שאלון למילוי מגיש הבקשה-חובה'!$G$33*7/6/4,0) -> 0 | E68: 3500 | F68: =D68*E68 -> 0 | H68: =E68*G68 -> 0 | I68: =IF(G68>D68,"נא להסביר חריגה","") | R68: =IF(Q68="",0,Q68-H68) -> 0 | S68: =IF(H68=0,0,R68/H68) -> 0
A69: 3 | B69: סט כלי אוכל | C69: בהתאם לכמות האנשים במסגרת כולל צוות טיפולי בתוספת 20% | D69: =ROUNDUP('שאלון למילוי מגיש הבקשה-חובה'!$G$33*7/6*1.2,0) -> 0 | E69: 300 | F69: =D69*E69 -> 0 | H69: =E69*G69 -> 0 | I69: =IF(G69>D69,"נא להסביר חריגה","") | R69: =IF(Q69="",0,Q69-H69) -> 0 | S69: =IF(H69=0,0,R69/H69) -> 0
A70: 4 | B70: עגלה עם מיכל אשפה | C70: לפי גודל המסגרת | D70: =IF('שאלון למילוי מגיש הבקשה-חובה'!$G$33<31,1,IF('שאלון למילוי מגיש הבקשה-חובה'!$G$33<61,2,3)) -> 1 | E70: 500 | F70: =D70*E70 -> 500 | H70: =E70*G70 -> 0 | I70: =IF(G70>D70,"נא להסביר חריגה","") | R70: =IF(Q70="",0,Q70-H70) -> 0 | S70: =IF(H70=0,0,R70/H70) -> 0
B71: סך ריהוט וציוד חדר אוכל | F71: =SUM(F67:F70) -> 500 | H71: =SUM(H67:H70) -> 0 | L71: =SUM(L67:L70) -> 0 | Q71: =SUM(Q67:Q70) -> 0 | R71: =IF(Q71="",0,Q71-H71) -> 0 | S71: =IF(H71=0,0,R71/H71) -> 0
A73: סך | B73: =B11 -> קטגוריה ג' - ציוד מטבח וחדר אוכל
B74: =B11 -> קטגוריה ג' - ציוד מטבח וחדר אוכל | F74: עלות ציוד התקן לפי מטבח מבשל | H74: צפי עלות רכישה כולל מע"מ | L74: =L$13 -> צפי עלות רכישה כולל מע"מ | Q74: סכום הוצאה בש"ח וכולל מע"מ | R74: סכום חריגה | S74: שיעור ההפרש
A75: סה"כ | B75: מטבח מחמם | F75: =F32+F71 -> 141500 | H75: =IF(H32>0,H32+H71,0) -> 0 | L75: =L32+L71 -> 0 | Q75: =Q32+Q71 -> 0 | R75: =R32+R71 -> 0 | S75: =IF(H75=0,0,R75/H75) -> 0
A76: סה"כ | B76: מטבח מבשל | F76: =F63+F71 -> 315000 | H76: =IF(H63>0,H63+H71,0) -> 0 | L76: =L63+L71 -> 0 | Q76: =Q63+Q71 -> 0 | R76: =R63+R71 -> 0 | S76: =IF(H76=0,0,R76/H76) -> 0
H77: =IF(OR(H75=0,H76=0),"",FALSE())
H78: =IF(H77=FALSE(),"נא לבחור ציוד מטבח מסוג אחד בלבד מחמם או מבשל","")

Sheet ד-ציוד תעסוקה
B1: =פתיח!$B$3&": גירסת "&פתיח!$E$4 -> תקן ציוד כללי למרכזי יום טיפוליים ולמסגרות מזדקנים לאנשים עם מוגבלות: גירסת 2 בספטמבר 2026
B2: ='שאלון למילוי מגיש הבקשה-חובה'!$C$7 -> שם הגוף המבקש: | D2: ='שאלון למילוי מגיש הבקשה-חובה'!$G$7 -> 0
B3: ='שאלון למילוי מגיש הבקשה-חובה'!$C$18 -> שם המסגרת: | D3: ='שאלון למילוי מגיש הבקשה-חובה'!$G$18 -> 0
B4: ='שאלון למילוי מגיש הבקשה-חובה'!$C$33 -> מספר האנשים שעבורם מיועד הפרויקט: | D4: ='שאלון למילוי מגיש הבקשה-חובה'!$G$33 -> 0
B5: ='שאלון למילוי מגיש הבקשה-חובה'!$C$35 -> מספר חדרי פעילות: | D5: ='שאלון למילוי מגיש הבקשה-חובה'!$G$35 -> 0
B6: קטגוריה ד'- ציוד תעסוקה / סדנאות
B7: בשלב הגשת הבקשה במסגרת הקול קורא עליך לדווח רק את שמות הסדנאות המתוכננות בלבד
B8: בשלב מימוש הפרוייקט , במסגרת דוח הפעילות תדרש להעביר פירוט הכולל: שם הסדנה, תכנים, תדירות הפעילות, כמות משתתפים מתוכננת וכמות והכשרת הצוות המפעיל.
B9: הציוד לסדנאות יכלול ריהוט מתאים: כיסאות, שולחנות וארונות המותאמים לכמות האנשים בסדנה.
A10: 4 | B10: ציוד תעסוקה/ סדנאות - תקן | G10: ציוד תעסוקה/ סדנאות - בקשה | L10: שלב 1 | N10: דוח הוצאות כספי מפורט - שלבים 2 ואילך
A11: מס' | B11: ציוד | D11: כמות | E11: מחיר ליחידה | F11: עלות הציוד | G11: כמות הציוד המבוקש | H11: סך עלות הציוד המבוקש | I11: התראת חריגה | J11: שם הסדנאות | L11: צפי עלות רכישה כולל מע"מ | M11: שם הספק | N11: פירוט מהות ההוצאה - הציוד שנרכש / השרות שניתן | O11: מס' חשבונית מס / קבלה | P11: תאריך הוצאה | Q11: סכום הוצאה בש"ח וכולל מע"מ | R11: סכום חריגה מהתקציב - הפרש בין הסכום שנרכש בפועל לעלות שאושרה בהסכם | S11: שיעור ההפרש | T11: הערות לחריגה | U11: בדיקה והערות של היועץ מתאריך | V11: נבדק בשלב 2/3
A12: 4.1 | B12: ציוד סדנאות | C12: רמה א' - סט ציוד לסדנאות: קרמיקה/ נגרות/ מחשבים ומולטימדיה (לפי גודל המסגרת) * | D12: =IF('שאלון למילוי מגיש הבקשה-חובה'!$G$33<31,1,IF('שאלון למילוי מגיש הבקשה-חובה'!$G$33<61,2,3)) -> 1 | E12: 40000 | F12: =D12*E12 -> 40000 | H12: =E12*G12 -> 0 | I12: =IF(G12>D12,"נא להסביר חריגה","")
L23: =SUM(L12:L22) -> 0 | Q23: =SUM(Q12:Q22) -> 0 | R23: =Q23-H12 -> 0 | S23: =IF(H12=0,"",R23/H12)
A24: 4.2 | B24: ציוד סדנאות | C24: רמה ב' - סט ציוד לסדנאות: גינון עם אדניות מוגבהות/ מוזיקה/ בישול/ אפיה/ בית קפה (לפי גודל המסגרת)* | D24: =IF('שאלון למילוי מגיש הבקשה-חובה'!$G$33<31,1,IF('שאלון למילוי מגיש הבקשה-חובה'!$G$33<61,2,3)) -> 1 | E24: 25000 | F24: =D24*E24 -> 25000 | H24: =E24*G24 -> 0 | I24: =IF(G24>D24,"נא להסביר חריגה","")
L35: =SUM(L24:L34) -> 0 | Q35: =SUM(Q24:Q34) -> 0 | R35: =Q35-H24 -> 0 | S35: =IF(H24=0,"",R35/H24)
A37: סך | B37: =B6 -> קטגוריה ד'- ציוד תעסוקה / סדנאות
B38: =B6 -> קטגוריה ד'- ציוד תעסוקה / סדנאות | F38: עלות ציוד התקן לפי מטבח מבשל | H38: צפי עלות רכישה כולל מע"מ | L38: צפי עלות רכישה כולל מע"מ | Q38: סכום הוצאה בש"ח וכולל מע"מ | R38: סכום חריגה | S38: שיעור ההפרש
B39: סה"כ כולל מע"מ | F39: =F12+F24 -> 65000 | H39: =H12+H24 -> 0 | L39: =L23+L35 -> 0 | Q39: =Q23+Q35 -> 0 | R39: =R23+R35 -> 0 | S39: =IF(H39=0,0,R39/H39) -> 0
A40: * | B40: הערות:
B41: עבור הסדנאות, נדרש להעביר פירוט הכולל: שם הסדנה, תכנים, תדירות הפעילות, כמות משתתפים מתוכננת וכמות והכשרת הצוות המפעיל.
B42: הציוד לסדנאות כולל ריהוט מתאים - כיסאות, שולחנות, מדפים

Sheet ה-ציוד צוות
B1: תקן ציוד כללי בסיסי למרכזי יום טיפוליים ולמסגרות מזדקנים לאנשים עם מוגבלות: גירסת 3 יולי 2026
B2: ='שאלון למילוי מגיש הבקשה-חובה'!$C$7 -> שם הגוף המבקש: | D2: ='שאלון למילוי מגיש הבקשה-חובה'!$G$7 -> 0
B3: ='שאלון למילוי מגיש הבקשה-חובה'!$C$18 -> שם המסגרת: | D3: ='שאלון למילוי מגיש הבקשה-חובה'!$G$18 -> 0
B4: ='שאלון למילוי מגיש הבקשה-חובה'!$C$33 -> מספר האנשים שעבורם מיועד הפרויקט: | D4: ='שאלון למילוי מגיש הבקשה-חובה'!$G$33 -> 0
B5: ='שאלון למילוי מגיש הבקשה-חובה'!$C$35 -> מספר חדרי פעילות: | D5: ='שאלון למילוי מגיש הבקשה-חובה'!$G$35 -> 0
A6: 5 | B6: קטגוריה ה' - ציוד צוות
A7: 5.1 | B7: ציוד חדר מנהל/ת - תקן | G7: ציוד חדר מנהל/ת - בקשה | L7: שלב 1 | N7: דוח הוצאות כספי מפורט - שלבים 2 ואילך
A8: מס' | B8: ציוד | C8: הערות | D8: כמות | E8: מחיר ליחידה | F8: עלות הציוד | G8: כמות הציוד המבוקש | H8: סך עלות הציוד המבוקש | I8: התראת חריגה | J8: הערות/ הסבר חריגות | L8: צפי עלות רכישה כולל מע"מ | M8: שם הספק | N8: פירוט מהות ההוצאה - הציוד שנרכש / השרות שניתן | O8: מס' חשבונית מס / קבלה | P8: תאריך הוצאה | Q8: סכום הוצאה בש"ח וכולל מע"מ | R8: סכום חריגה מהתקציב - הפרש בין הסכום שנרכש בפועל לעלות שאושרה בהסכם | S8: שיעור ההפרש | T8: הערות לחריגה | U8: בדיקה והערות של היועץ מתאריך | V8: נבדק בשלב 2/3
A9: 1 | B9: כיסא מתכוונן | C9: לפי מספר חדרים | D9: =D$25 -> 3 | E9: 1000 | F9: =E9*D9 -> 3000 | H9: =E9*G9 -> 0 | I9: =IF(G9>D9,"נא להסביר חריגה","") | R9: =IF(Q9="",0,Q9-H9) -> 0 | S9: =IF(H9=0,0,R9/H9) -> 0
A10: 2 | B10: שולחן משרדי | C10: לפי מספר חדרים | D10: =D$25 -> 3 | E10: 2500 | F10: =E10*D10 -> 7500 | H10: =E10*G10 -> 0 | I10: =IF(G10>D10,"נא להסביר חריגה","") | R10: =IF(Q10="",0,Q10-H10) -> 0 | S10: =IF(H10=0,0,R10/H10) -> 0
A11: 3 | B11: ארון איחסון | C11: לפי מספר חדרים | D11: =D$25 -> 3 | E11: 4500 | F11: =E11*D11 -> 13500 | H11: =E11*G11 -> 0 | I11: =IF(G11>D11,"נא להסביר חריגה","") | R11: =IF(Q11="",0,Q11-H11) -> 0 | S11: =IF(H11=0,0,R11/H11) -> 0
A12: 4 | B12: מחשב קומפלט | C12: לפי מספר חדרים | D12: =D$25 -> 3 | E12: 5000 | F12: =E12*D12 -> 15000 | H12: =E12*G12 -> 0 | I12: =IF(G12>D12,"נא להסביר חריגה","") | R12: =IF(Q12="",0,Q12-H12) -> 0 | S12: =IF(H12=0,0,R12/H12) -> 0
A13: 5 | B13: מדפסת משולבת | C13: לפי מספר חדרים | D13: =D$25 -> 3 | E13: 1500 | F13: =E13*D13 -> 4500 | H13: =E13*G13 -> 0 | I13: =IF(G13>D13,"נא להסביר חריגה","") | R13: =IF(Q13="",0,Q13-H13) -> 0 | S13: =IF(H13=0,0,R13/H13) -> 0
A14: 6 | B14: מגרסת נייר | D14: 1 | E14: 1500 | F14: =E14*D14 -> 1500 | H14: =E14*G14 -> 0 | I14: =IF(G14>D14,"נא להסביר חריגה","") | R14: =IF(Q14="",0,Q14-H14) -> 0 | S14: =IF(H14=0,0,R14/H14) -> 0
A15: 7 | B15: מקרר קטן | D15: 1 | E15: 2000 | F15: =E15*D15 -> 2000 | H15: =E15*G15 -> 0 | I15: =IF(G15>D15,"נא להסביר חריגה","") | R15: =IF(Q15="",0,Q15-H15) -> 0 | S15: =IF(H15=0,0,R15/H15) -> 0
A16: 8 | B16: אביזרים לחדר משרדי | C16: לפי מספר חדרים | D16: =D$25 -> 3 | E16: 700 | F16: =E16*D16 -> 2100 | H16: =E16*G16 -> 0 | I16: =IF(G16>D16,"נא להסביר חריגה","") | R16: =IF(Q16="",0,Q16-H16) -> 0 | S16: =IF(H16=0,0,R16/H16) -> 0
A17: 9 | B17: כיסא | C17: כיסא אורחים, לפי מספר חדרים | D17: =D$25 -> 3 | E17: 600 | F17: =E17*D17 -> 1800 | H17: =E17*G17 -> 0 | I17: =IF(G17>D17,"נא להסביר חריגה","") | R17: =IF(Q17="",0,Q17-H17) -> 0 | S17: =IF(H17=0,0,R17/H17) -> 0
B18: סה"כ ציוד צוות כולל מע"מ | F18: =SUM(F9:F17) -> 50900 | H18: =SUM(H9:H17) -> 0 | L18: =SUM(L9:L17) -> 0 | Q18: =SUM(Q9:Q17) -> 0 | R18: =IF(Q18="",0,Q18-H18) -> 0 | S18: =IF(H18=0,0,R18/H18) -> 0
B20: טבלת עזר לחדרי הצוות/ הנחת יסוד לפי גודל המתחם
A21: מס' | B21: פירוט חדרי המשרד כולל עמדת מזכירות | D21: מס' חדרי המשרד
A22: 1 | B22: חדר המנהל/ ת | D22: 1
A23: 2 | B23: עמדת מזכירות | D23: 1
A24: 3 | B24: חדר צוות טיפולי | C24: (לפי גודל המסגרת) | D24: =IF('שאלון למילוי מגיש הבקשה-חובה'!$G$33<31,1,IF('שאלון למילוי מגיש הבקשה-חובה'!$G$33<61,2,3)) -> 1
B25: סה"כ חדרי צוות במסגרת | D25: =SUM(D22:D24) -> 3

Sheet ו-ציוד נוסף שלא קיים בתקן
B1: =פתיח!$B$3&": גירסת "&פתיח!$E$4 -> תקן ציוד כללי למרכזי יום טיפוליים ולמסגרות מזדקנים לאנשים עם מוגבלות: גירסת 2 בספטמבר 2026
B2: ='שאלון למילוי מגיש הבקשה-חובה'!$C$7 -> שם הגוף המבקש: | D2: ='שאלון למילוי מגיש הבקשה-חובה'!$G$7 -> 0
B3: ='שאלון למילוי מגיש הבקשה-חובה'!$C$18 -> שם המסגרת: | D3: ='שאלון למילוי מגיש הבקשה-חובה'!$G$18 -> 0
B4: ='שאלון למילוי מגיש הבקשה-חובה'!$C$33 -> מספר האנשים שעבורם מיועד הפרויקט: | C4: ='שאלון למילוי מגיש הבקשה-חובה'!$G$33 -> 0 | D4: יש לרשום 2 הצעות מחיר לציוד בעלות עד 20,000 ₪ ו-3 הצעות מחיר לסכום גבוה יותר
B5: ='שאלון למילוי מגיש הבקשה-חובה'!$C$35 -> מספר חדרי פעילות: | C5: ='שאלון למילוי מגיש הבקשה-חובה'!$G$35 -> 0 | D5: ראה הערות בסוף הטבלה
A6: 4 | B6: קטגוריה ו' - צייוד שלא קיים בתקן | O6: אישור מנהל/ ת התוכנית | S6: שלב 1 | U6: דוח הוצאות כספי מפורט - שלבים 2 ואילך
A7: 4 | B7: תחום פעילות/ קבוצת ההוצאות | C7: פירוט הציוד/הפריט | D7: תיאור הצורך בפריט/בציוד | E7: כמות מבוקשת | F7: הצעת מחיר א' | G7: הצעת מחיר ב' | H7: הצעת מחיר ג' | I7: סך עלות הבקשה | J7: בקשת מחיר חריג | K7: הערות הגוף המבקש | M7: אישור כמות | N7: כמות מאושרת | O7: אישור מחיר חריג | P7: תקציב מאושר | Q7: הערות מנהל/ת התוכנית | S7: צפי עלות רכישה כולל מע"מ | T7: שם הספק | U7: פירוט מהות ההוצאה - הציוד שנרכש / השרות שניתן | V7: מס' חשבונית מס / קבלה | W7: תאריך הוצאה | X7: סכום הוצאה בש"ח וכולל מע"מ | Y7: סכום חריגה מהתקציב - הפרש בין הסכום שנרכש בפועל לעלות שאושרה בהסכם | Z7: שיעור ההפרש | AA7: הערות לחריגה | AB7: בדיקה והערות של היועץ מתאריך | AC7: נבדק בשלב 2/3
A8: 1 | I8: =IF(J8="",(MIN($F8:$H8))*E8,IF(J8="הצעה א",F8*E8,IF(J8="הצעה ב",G8*E8,H8*E8))) -> 0 | K8: =IF(J8="","","יש להסביר חריגה") | N8: =IF(ISBLANK(M8),"",IF(M8="מאשר",E8,0)) | P8: =IFERROR(IF(O8="מאושר",N8*I8/E8,N8*MIN(F8:H8)),0) -> 0 | Y8: =IF(X8="",0,X8-P8) -> 0 | Z8: =IF(P8=0,0,Y8/P8) -> 0
A9: 2 | I9: =IF(J9="",(MIN($F9:$H9))*E9,IF(J9="הצעה א",F9*E9,IF(J9="הצעה ב",G9*E9,H9*E9))) -> 0 | K9: =IF(J9="","","יש להסביר חריגה") | N9: =IF(ISBLANK(M9),"",IF(M9="מאשר",E9,0)) | P9: =IFERROR(IF(O9="מאושר",N9*I9/E9,N9*MIN(F9:H9)),0) -> 0 | Y9: =IF(X9="",0,X9-P9) -> 0 | Z9: =IF(P9=0,0,Y9/P9) -> 0
A10: 3 | I10: =IF(J10="",(MIN($F10:$H10))*E10,IF(J10="הצעה א",F10*E10,IF(J10="הצעה ב",G10*E10,H10*E10))) -> 0 | K10: =IF(J10="","","יש להסביר חריגה") | N10: =IF(ISBLANK(M10),"",IF(M10="מאשר",E10,0)) | P10: =IFERROR(IF(O10="מאושר",N10*I10/E10,N10*MIN(F10:H10)),0) -> 0 | Y10: =IF(X10="",0,X10-P10) -> 0 | Z10: =IF(P10=0,0,Y10/P10) -> 0
A11: 4 | I11: =IF(J11="",(MIN($F11:$H11))*E11,IF(J11="הצעה א",F11*E11,IF(J11="הצעה ב",G11*E11,H11*E11))) -> 0 | K11: =IF(J11="","","יש להסביר חריגה") | N11: =IF(ISBLANK(M11),"",IF(M11="מאשר",E11,0)) | P11: =IFERROR(IF(O11="מאושר",N11*I11/E11,N11*MIN(F11:H11)),0) -> 0 | Y11: =IF(X11="",0,X11-P11) -> 0 | Z11: =IF(P11=0,0,Y11/P11) -> 0
A12: 5 | I12: =IF(J12="",(MIN($F12:$H12))*E12,IF(J12="הצעה א",F12*E12,IF(J12="הצעה ב",G12*E12,H12*E12))) -> 0 | K12: =IF(J12="","","יש להסביר חריגה") | N12: =IF(ISBLANK(M12),"",IF(M12="מאשר",E12,0)) | P12: =IFERROR(IF(O12="מאושר",N12*I12/E12,N12*MIN(F12:H12)),0) -> 0 | Y12: =IF(X12="",0,X12-P12) -> 0 | Z12: =IF(P12=0,0,Y12/P12) -> 0
A13: 6 | I13: =IF(J13="",(MIN($F13:$H13))*E13,IF(J13="הצעה א",F13*E13,IF(J13="הצעה ב",G13*E13,H13*E13))) -> 0 | K13: =IF(J13="","","יש להסביר חריגה") | N13: =IF(ISBLANK(M13),"",IF(M13="מאשר",E13,0)) | P13: =IFERROR(IF(O13="מאושר",N13*I13/E13,N13*MIN(F13:H13)),0) -> 0 | Y13: =IF(X13="",0,X13-P13) -> 0 | Z13: =IF(P13=0,0,Y13/P13) -> 0
A14: 7 | I14: =IF(J14="",(MIN($F14:$H14))*E14,IF(J14="הצעה א",F14*E14,IF(J14="הצעה ב",G14*E14,H14*E14))) -> 0 | K14: =IF(J14="","","יש להסביר חריגה") | N14: =IF(ISBLANK(M14),"",IF(M14="מאשר",E14,0)) | P14: =IFERROR(IF(O14="מאושר",N14*I14/E14,N14*MIN(F14:H14)),0) -> 0 | Y14: =IF(X14="",0,X14-P14) -> 0 | Z14: =IF(P14=0,0,Y14/P14) -> 0
A15: 8 | I15: =IF(J15="",(MIN($F15:$H15))*E15,IF(J15="הצעה א",F15*E15,IF(J15="הצעה ב",G15*E15,H15*E15))) -> 0 | K15: =IF(J15="","","יש להסביר חריגה") | N15: =IF(ISBLANK(M15),"",IF(M15="מאשר",E15,0)) | P15: =IFERROR(IF(O15="מאושר",N15*I15/E15,N15*MIN(F15:H15)),0) -> 0 | Y15: =IF(X15="",0,X15-P15) -> 0 | Z15: =IF(P15=0,0,Y15/P15) -> 0
A16: 9 | I16: =IF(J16="",(MIN($F16:$H16))*E16,IF(J16="הצעה א",F16*E16,IF(J16="הצעה ב",G16*E16,H16*E16))) -> 0 | K16: =IF(J16="","","יש להסביר חריגה") | N16: =IF(ISBLANK(M16),"",IF(M16="מאשר",E16,0)) | P16: =IFERROR(IF(O16="מאושר",N16*I16/E16,N16*MIN(F16:H16)),0) -> 0 | Y16: =IF(X16="",0,X16-P16) -> 0 | Z16: =IF(P16=0,0,Y16/P16) -> 0
A17: 10 | I17: =IF(J17="",(MIN($F17:$H17))*E17,IF(J17="הצעה א",F17*E17,IF(J17="הצעה ב",G17*E17,H17*E17))) -> 0 | K17: =IF(J17="","","יש להסביר חריגה") | N17: =IF(ISBLANK(M17),"",IF(M17="מאשר",E17,0)) | P17: =IFERROR(IF(O17="מאושר",N17*I17/E17,N17*MIN(F17:H17)),0) -> 0 | Y17: =IF(X17="",0,X17-P17) -> 0 | Z17: =IF(P17=0,0,Y17/P17) -> 0
A18: 11 | I18: =IF(J18="",(MIN($F18:$H18))*E18,IF(J18="הצעה א",F18*E18,IF(J18="הצעה ב",G18*E18,H18*E18))) -> 0 | K18: =IF(J18="","","יש להסביר חריגה") | N18: =IF(ISBLANK(M18),"",IF(M18="מאשר",E18,0)) | P18: =IFERROR(IF(O18="מאושר",N18*I18/E18,N18*MIN(F18:H18)),0) -> 0 | Y18: =IF(X18="",0,X18-P18) -> 0 | Z18: =IF(P18=0,0,Y18/P18) -> 0
A19: 12 | I19: =IF(J19="",(MIN($F19:$H19))*E19,IF(J19="הצעה א",F19*E19,IF(J19="הצעה ב",G19*E19,H19*E19))) -> 0 | K19: =IF(J19="","","יש להסביר חריגה") | N19: =IF(ISBLANK(M19),"",IF(M19="מאשר",E19,0)) | P19: =IFERROR(IF(O19="מאושר",N19*I19/E19,N19*MIN(F19:H19)),0) -> 0 | Y19: =IF(X19="",0,X19-P19) -> 0 | Z19: =IF(P19=0,0,Y19/P19) -> 0
... A66: 59 | I66: =IF(J66="",(MIN($F66:$H66))*E66,IF(J66="הצעה א",F66*E66,IF(J66="הצעה ב",G66*E66,H66*E66))) -> 0 | K66: =IF(J66="","","יש להסביר חריגה") | N66: =IF(ISBLANK(M66),"",IF(M66="מאשר",E66,0)) | P66: =IFERROR(IF(O66="מאושר",N66*I66/E66,N66*MIN(F66:H66)),0) -> 0 | Y66: =IF(X66="",0,X66-P66) -> 0 | Z66: =IF(P66=0,0,Y66/P66) -> 0
A67: 60 | I67: =IF(J67="",(MIN($F67:$H67))*E67,IF(J67="הצעה א",F67*E67,IF(J67="הצעה ב",G67*E67,H67*E67))) -> 0 | P67: =IFERROR(IF(O67="מאושר",N67*I67/E67,N67*MIN(F67:H67)),0) -> 0 | Y67: =IF(X67="",0,X67-P67) -> 0 | Z67: =IF(P67=0,0,Y67/P67) -> 0
B68: סה"כ ציוד נוסף שלא קיים בתקן | I68: =SUM(I8:I67) -> 0 | P68: =SUM(P8:P67) -> 0 | S68: =SUM(S8:S67) -> 0 | X68: =SUM(X8:X67) -> 0 | Y68: =SUM(Y8:Y67) -> 0 | Z68: =IF(P68=0,0,Y68/P68) -> 0
B70: הערות והסברים לגוף המבקש: | M70: הערות והסברים למנהל/ת התכנית:
B71: יש לרשום 2 הצעות מחיר לציוד בעלות עד 20,000 ₪ ו-3 הצעות מחיר לסכום גבוה יותר. | M71: בשלב הראשון מאשרים את כמות הציוד: אם בוחרים "מאושר" הכמות תתעדכן לפי כמות הבקשה, במקרים אחרים - 0. במקרה בחירת "מאושר חלקי" יש לרשום את הכמות המאושרת.
B72: התוכנה באופן אוטומטי מחשבת את עלות הציוד לפי ההצעה הזולה. | M72: חשוב לציין שכאשר בכל מקום בעמודה "כמות מאושרת" מעדכנים מספרים באופן ידני הנוסחה שרשומה בתא הנבחר נמחקת.
B73: אם יש צורך בהזמנת ציוד יקר יותר נא לבחור את ההצעה הרצויה בעמודה "בקשת מחיר חריג" ועלות הציוד תחושב לפי ההצעה הנבחרת. | M73: בשלב השני מאשרים מחירים חריגים: אם הגוף בוחר הצעה זולה אין להתייחס לעמודה הזאת. אם ישנה בקשה חריגה אישור הבקשה בוחר מחיר מבוקש. חוסר אישור בוחר את ההצעה הזולה.
B74: אם בוחרים ציוד לפי ההצעה הגבוה מהמינימלית יש לתת הסבר בשדה הערות.

Sheet סיכום לוועדה
B1: =פתיח!$B$3&": גירסת "&פתיח!$E$4 -> תקן ציוד כללי למרכזי יום טיפוליים ולמסגרות מזדקנים לאנשים עם מוגבלות: גירסת 2 בספטמבר 2026
C2: דירוג אשכול סוציו אקונומי: | D2: ='שאלון למילוי מגיש הבקשה-חובה'!G29 -> 0
C3: ='שאלון למילוי מגיש הבקשה-חובה'!C31 -> קו עימות: | D3: ='שאלון למילוי מגיש הבקשה-חובה'!G31 -> 0
B4: דו"ח סיכום פרויקט בקשת הצטיידות | C4: יש למלא סכום מקסימלי לפי קול קורא:
B5: תאריך הגשה: | C5: ='שאלון למילוי מגיש הבקשה-חובה'!G5 -> 0
B6: שם הגוף המבקש: | C6: ='שאלון למילוי מגיש הבקשה-חובה'!G7 -> 0
B7: שם המסגרת: | C7: ='שאלון למילוי מגיש הבקשה-חובה'!G18 -> 0
B8: מספר משתתפים בפרויקט: | C8: ='שאלון למילוי מגיש הבקשה-חובה'!G33 -> 0
B9: מספר חדרי פעילות: | C9: ='שאלון למילוי מגיש הבקשה-חובה'!G35 -> 0
B11: קטגוריית ציוד | C11: סך בקשת הגוף שאושרה ע"י מנהל/ת התכנית (בש"ח כולל מע"מ) | E11: סך בקשת הגוף בשלב 1 (בש"ח כולל מע"מ) | F11: סך הוצאה בפועל (בש"ח כולל מע"מ)
B12: ='א-ציוד לחדרי קבוצות'!B10 -> קטגוריה א'- ציוד וריהוט לחדרי קבוצות | C12: ='א-ציוד לחדרי קבוצות'!H46 -> 0 | E12: ='א-ציוד לחדרי קבוצות'!L46 -> 0 | F12: ='א-ציוד לחדרי קבוצות'!Q46 -> 0
B13: ='ב-ציוד כללי'!B10 -> קטגוריה ב'- חללים משותפים וציוד נוסף | C13: ='ב-ציוד כללי'!H55 -> 0 | E13: ='ב-ציוד כללי'!L55 -> 0 | F13: ='ב-ציוד כללי'!Q55 -> 0
B14: ='ג-מטבח וחדר אוכל'!B$11&" :מטבח מחמם" -> קטגוריה ג' - ציוד מטבח וחדר אוכל :מטבח מחמם | C14: ='ג-מטבח וחדר אוכל'!H75 -> 0 | D14: =IF('ג-מטבח וחדר אוכל'!H$77=FALSE(),"טעות בבקשת ציוד מטבח","") | E14: ='ג-מטבח וחדר אוכל'!L75 -> 0 | F14: ='ג-מטבח וחדר אוכל'!Q75 -> 0
B15: ='ג-מטבח וחדר אוכל'!B$11&" :מטבח מבשל" -> קטגוריה ג' - ציוד מטבח וחדר אוכל :מטבח מבשל | C15: ='ג-מטבח וחדר אוכל'!H76 -> 0 | D15: =IF('ג-מטבח וחדר אוכל'!H$77=FALSE(),"טעות בבקשת ציוד מטבח","") | E15: ='ג-מטבח וחדר אוכל'!L76 -> 0 | F15: ='ג-מטבח וחדר אוכל'!Q76 -> 0
B16: ='ד-ציוד תעסוקה'!B6 -> קטגוריה ד'- ציוד תעסוקה / סדנאות | C16: ='ד-ציוד תעסוקה'!H39 -> 0 | E16: ='ד-ציוד תעסוקה'!L39 -> 0 | F16: ='ד-ציוד תעסוקה'!Q39 -> 0
B17: ='ה-ציוד צוות'!B6 -> קטגוריה ה' - ציוד צוות | C17: ='ה-ציוד צוות'!H18 -> 0 | E17: ='ה-ציוד צוות'!L18 -> 0 | F17: ='ה-ציוד צוות'!Q18 -> 0
B18: ='ו-ציוד נוסף שלא קיים בתקן'!B6 -> קטגוריה ו' - צייוד שלא קיים בתקן | C18: ='ו-ציוד נוסף שלא קיים בתקן'!P68 -> 0 | E18: ='ו-ציוד נוסף שלא קיים בתקן'!S68 -> 0 | F18: ='ו-ציוד נוסף שלא קיים בתקן'!X68 -> 0
B19: סה"כ לפרוייקט | C19: =SUM(C12:C18) -> 0 | E19: =SUM(E12:E18) -> 0 | F19: =SUM(F12:F18) -> 0
B21: אחוז מימון מקסימלי לפי דירוג אשכול לאישור הוועדה (לפי אחוז השתתפות בט"ל וללא התחשבות בתקציב הסיוע המקסימלי בקול קורא)
B22: גורם מממן | C22: אחוז מימון | D22: סכום מימון
B23: אחוז מימון מקסימלי-ביטוח לאומי | C23: =IF(D3="כן",90%,IF(D2<=4,90%,IF(D2<8,80%,70%))) -> 0.9 | D23: =$C$19*C23 -> 0
B24: מימון עצמי | C24: =100%-C23 -> 0.1 | D24: =$C$19*C24 -> 0
B25: סה"כ | C25: =SUM(C23:C24) -> 1 | D25: =SUM(D23:D24) -> 0
B27: מימון מקסימלי לפי דירוג אשכול לאישור הוועדה (אחוז השתתפות בט"ל בהתחשב בתקציב הסיוע המקסימלי בקול קורא)
B28: גורם מממן | C28: אחוז מימון | D28: סכום מימון
B29: סכום מימון מקסימלי-ביטוח לאומי | C29: =IF($D$29=0,"",IF($D$23<$D$29,"",ROUNDUP(D29/C$19,4))) | D29: =D4 -> 0
B30: מימון עצמי | C30: =IF($D$29=0,"",IF($D$23<$D$29,"",ROUNDDOWN(D30/C$19,4))) | D30: =IF($D$23<$D$29,"",(D31-D29)) -> 0
B31: סה"כ | C31: =IF($D$23<$D$29,"",SUM(C29:C30)) -> 0 | D31: =IF($D$23<$D$29,"",C19) -> 0
B33: לאישור הוועדה
B34: מימון מאושר - הנמוך מבין השניים - אחוז השתתפות או תקציב סיוע מקסימלי
B35: גורם מממן | C35: אחוז מימון | D35: סכום מימון
B36: מימון ביטוח לאומי מקסימלי | C36: =IF(D36=0,"",ROUNDUP(D36/C$19,4)) | D36: =MIN(D23,D29) -> 0
B37: מימון עצמי | C37: =IF(D37=0,"",ROUNDDOWN(D37/C$19,4)) | D37: =D38-D36 -> 0
B38: סה"כ | C38: =IF(D38=0,"",SUM(C36:C37)) | D38: =C19 -> 0
